BEGIN:VCALENDAR
VERSION:2.0
PRODID:-//dô Lustenau - ECPv6.15.20//NONSGML v1.0//EN
CALSCALE:GREGORIAN
METHOD:PUBLISH
X-ORIGINAL-URL:https://do.lustenau.at
X-WR-CALDESC:Veranstaltungen für dô Lustenau
REFRESH-INTERVAL;VALUE=DURATION:PT1H
X-Robots-Tag:noindex
X-PUBLISHED-TTL:PT1H
BEGIN:VTIMEZONE
TZID:Europe/Vienna
BEGIN:DAYLIGHT
TZOFFSETFROM:+0100
TZOFFSETTO:+0200
TZNAME:CEST
DTSTART:20230326T010000
END:DAYLIGHT
BEGIN:STANDARD
TZOFFSETFROM:+0200
TZOFFSETTO:+0100
TZNAME:CET
DTSTART:20231029T010000
END:STANDARD
BEGIN:DAYLIGHT
TZOFFSETFROM:+0100
TZOFFSETTO:+0200
TZNAME:CEST
DTSTART:20240331T010000
END:DAYLIGHT
BEGIN:STANDARD
TZOFFSETFROM:+0200
TZOFFSETTO:+0100
TZNAME:CET
DTSTART:20241027T010000
END:STANDARD
BEGIN:DAYLIGHT
TZOFFSETFROM:+0100
TZOFFSETTO:+0200
TZNAME:CEST
DTSTART:20250330T010000
END:DAYLIGHT
BEGIN:STANDARD
TZOFFSETFROM:+0200
TZOFFSETTO:+0100
TZNAME:CET
DTSTART:20251026T010000
END:STANDARD
END:VTIMEZONE
BEGIN:VEVENT
DTSTART;TZID=Europe/Vienna:20240710T080000
DTEND;TZID=Europe/Vienna:20240710T120000
DTSTAMP:20260426T003637
CREATED:20240704T063114Z
LAST-MODIFIED:20240704T175548Z
UID:10003000-1720598400-1720612800@do.lustenau.at
SUMMARY:W*ORT: WILMA Woche - WIe Lerne ich durch MAchen?
DESCRIPTION:Ideen sammeln\, austauschen\, Projekte planen\, aufzeichnen\, Material suchen\, etwas erfinden und es bauen.\nIm Team. Das ist WILMA. \n9 – 12 Uhr
URL:https://do.lustenau.at/veranstaltung/wilma-wie-lerne-ich-durch-machen/2024-07-10/
LOCATION:dô\, Dornbirner Straße 19\, Lustenau\, 6890\, Austria
ATTACH;FMTTYPE=image/jpeg:https://do.lustenau.at/wp-content/uploads/2024/07/Unknown-2.jpeg
END:VEVENT
END:VCALENDAR