BEGIN:VCALENDAR
VERSION:2.0
PRODID:-//dô Lustenau - ECPv6.15.20//NONSGML v1.0//EN
CALSCALE:GREGORIAN
METHOD:PUBLISH
X-WR-CALNAME:dô Lustenau
X-ORIGINAL-URL:https://do.lustenau.at
X-WR-CALDESC:Veranstaltungen für dô Lustenau
REFRESH-INTERVAL;VALUE=DURATION:PT1H
X-Robots-Tag:noindex
X-PUBLISHED-TTL:PT1H
BEGIN:VTIMEZONE
TZID:Europe/Vienna
BEGIN:DAYLIGHT
TZOFFSETFROM:+0100
TZOFFSETTO:+0200
TZNAME:CEST
DTSTART:20230326T010000
END:DAYLIGHT
BEGIN:STANDARD
TZOFFSETFROM:+0200
TZOFFSETTO:+0100
TZNAME:CET
DTSTART:20231029T010000
END:STANDARD
BEGIN:DAYLIGHT
TZOFFSETFROM:+0100
TZOFFSETTO:+0200
TZNAME:CEST
DTSTART:20240331T010000
END:DAYLIGHT
BEGIN:STANDARD
TZOFFSETFROM:+0200
TZOFFSETTO:+0100
TZNAME:CET
DTSTART:20241027T010000
END:STANDARD
BEGIN:DAYLIGHT
TZOFFSETFROM:+0100
TZOFFSETTO:+0200
TZNAME:CEST
DTSTART:20250330T010000
END:DAYLIGHT
BEGIN:STANDARD
TZOFFSETFROM:+0200
TZOFFSETTO:+0100
TZNAME:CET
DTSTART:20251026T010000
END:STANDARD
END:VTIMEZONE
BEGIN:VEVENT
DTSTART;TZID=Europe/Vienna:20240823T130000
DTEND;TZID=Europe/Vienna:20240823T160000
DTSTAMP:20260425T230855
CREATED:20240704T073336Z
LAST-MODIFIED:20240704T073336Z
UID:10002987-1724418000-1724428800@do.lustenau.at
SUMMARY:Stickersession(s) mit Ludji (Tobias Ludescher)
DESCRIPTION:Willst du wissen\, wie man seine eigenen Sticker machen kann? Bei uns kannst du eigene Zeichnungen mit Hilfe des Schneideplotters in Sticker verwandeln. Dabei unterstützt dich Luji (Tobias Ludescher)\, mit seinen langjährigen Erfahrungen als Illustrator!\n\n\nInfo: min. 3 / max. 10 Teilnehmer:innen / nur 1x Anmeldung möglich \n \nAnmeldung mit Erwähnung des gewünschten Kursdatums bis spätestens 7 Tage vor Termin unter ok-ja@lustenau.at oder +43 5577 8181-4054
URL:https://do.lustenau.at/veranstaltung/stickersessions-mit-ludji-tobias-ludescher/2024-08-23/
ATTACH;FMTTYPE=image/jpeg:https://do.lustenau.at/wp-content/uploads/2024/07/Sticker.jpg
END:VEVENT
END:VCALENDAR