BEGIN:VCALENDAR
VERSION:2.0
PRODID:-//dô Lustenau - ECPv6.15.20//NONSGML v1.0//EN
CALSCALE:GREGORIAN
METHOD:PUBLISH
X-WR-CALNAME:dô Lustenau
X-ORIGINAL-URL:https://do.lustenau.at
X-WR-CALDESC:Veranstaltungen für dô Lustenau
REFRESH-INTERVAL;VALUE=DURATION:PT1H
X-Robots-Tag:noindex
X-PUBLISHED-TTL:PT1H
BEGIN:VTIMEZONE
TZID:Europe/Vienna
BEGIN:DAYLIGHT
TZOFFSETFROM:+0100
TZOFFSETTO:+0200
TZNAME:CEST
DTSTART:20230326T010000
END:DAYLIGHT
BEGIN:STANDARD
TZOFFSETFROM:+0200
TZOFFSETTO:+0100
TZNAME:CET
DTSTART:20231029T010000
END:STANDARD
BEGIN:DAYLIGHT
TZOFFSETFROM:+0100
TZOFFSETTO:+0200
TZNAME:CEST
DTSTART:20240331T010000
END:DAYLIGHT
BEGIN:STANDARD
TZOFFSETFROM:+0200
TZOFFSETTO:+0100
TZNAME:CET
DTSTART:20241027T010000
END:STANDARD
BEGIN:DAYLIGHT
TZOFFSETFROM:+0100
TZOFFSETTO:+0200
TZNAME:CEST
DTSTART:20250330T010000
END:DAYLIGHT
BEGIN:STANDARD
TZOFFSETFROM:+0200
TZOFFSETTO:+0100
TZNAME:CET
DTSTART:20251026T010000
END:STANDARD
END:VTIMEZONE
BEGIN:VEVENT
DTSTART;TZID=Europe/Vienna:20240907T090000
DTEND;TZID=Europe/Vienna:20240907T120000
DTSTAMP:20260425T213353
CREATED:20240704T063643Z
LAST-MODIFIED:20240704T175334Z
UID:10002991-1725699600-1725710400@do.lustenau.at
SUMMARY:W*ORT: Was kugelt da auf der Bahn?
DESCRIPTION:Christoph und Marc kommen. Sie bringen Material und Kugeln mit. Kugeln\, die kugeln wollen. Auch ein wenig Musik wollen sie machen\, die Kugeln. Dafür brauchen wir eine (musikalische) Bahn\, die wir gemeinsam bauen. \nMittwoch\, 4. September – Samstag\, 7. September\n9 – 12 Uhr
URL:https://do.lustenau.at/veranstaltung/was-kugelt-da-auf-der-bahn/2024-09-07/
LOCATION:dô\, Dornbirner Straße 19\, Lustenau\, 6890\, Austria
ATTACH;FMTTYPE=image/jpeg:https://do.lustenau.at/wp-content/uploads/2024/07/Christof.jpeg
END:VEVENT
END:VCALENDAR