BEGIN:VCALENDAR
VERSION:2.0
PRODID:-//dô Lustenau - ECPv6.15.20//NONSGML v1.0//EN
CALSCALE:GREGORIAN
METHOD:PUBLISH
X-ORIGINAL-URL:https://do.lustenau.at
X-WR-CALDESC:Veranstaltungen für dô Lustenau
REFRESH-INTERVAL;VALUE=DURATION:PT1H
X-Robots-Tag:noindex
X-PUBLISHED-TTL:PT1H
BEGIN:VTIMEZONE
TZID:Europe/Vienna
BEGIN:DAYLIGHT
TZOFFSETFROM:+0100
TZOFFSETTO:+0200
TZNAME:CEST
DTSTART:20230326T010000
END:DAYLIGHT
BEGIN:STANDARD
TZOFFSETFROM:+0200
TZOFFSETTO:+0100
TZNAME:CET
DTSTART:20231029T010000
END:STANDARD
BEGIN:DAYLIGHT
TZOFFSETFROM:+0100
TZOFFSETTO:+0200
TZNAME:CEST
DTSTART:20240331T010000
END:DAYLIGHT
BEGIN:STANDARD
TZOFFSETFROM:+0200
TZOFFSETTO:+0100
TZNAME:CET
DTSTART:20241027T010000
END:STANDARD
BEGIN:DAYLIGHT
TZOFFSETFROM:+0100
TZOFFSETTO:+0200
TZNAME:CEST
DTSTART:20250330T010000
END:DAYLIGHT
BEGIN:STANDARD
TZOFFSETFROM:+0200
TZOFFSETTO:+0100
TZNAME:CET
DTSTART:20251026T010000
END:STANDARD
END:VTIMEZONE
BEGIN:VEVENT
DTSTART;TZID=Europe/Vienna:20241122T180000
DTEND;TZID=Europe/Vienna:20241122T220000
DTSTAMP:20260425T181700
CREATED:20241016T095132Z
LAST-MODIFIED:20241016T095132Z
UID:10003008-1732298400-1732312800@do.lustenau.at
SUMMARY:Sindbad Abschlussfeier Staffel 4&5
DESCRIPTION:Geschlossene Veranstaltung.
URL:https://do.lustenau.at/veranstaltung/sindbad-abschlussfeier-staffel-45/
LOCATION:dô\, Dornbirner Straße 19\, Lustenau\, 6890\, Austria
ORGANIZER;CN="Sindbad Social Business":MAILTO:vorarlberg@sindbad.co.at
END:VEVENT
END:VCALENDAR