BEGIN:VCALENDAR
VERSION:2.0
PRODID:-//dô Lustenau - ECPv6.15.20//NONSGML v1.0//EN
CALSCALE:GREGORIAN
METHOD:PUBLISH
X-WR-CALNAME:dô Lustenau
X-ORIGINAL-URL:https://do.lustenau.at
X-WR-CALDESC:Veranstaltungen für dô Lustenau
REFRESH-INTERVAL;VALUE=DURATION:PT1H
X-Robots-Tag:noindex
X-PUBLISHED-TTL:PT1H
BEGIN:VTIMEZONE
TZID:Europe/Vienna
BEGIN:DAYLIGHT
TZOFFSETFROM:+0100
TZOFFSETTO:+0200
TZNAME:CEST
DTSTART:20230326T010000
END:DAYLIGHT
BEGIN:STANDARD
TZOFFSETFROM:+0200
TZOFFSETTO:+0100
TZNAME:CET
DTSTART:20231029T010000
END:STANDARD
BEGIN:DAYLIGHT
TZOFFSETFROM:+0100
TZOFFSETTO:+0200
TZNAME:CEST
DTSTART:20240331T010000
END:DAYLIGHT
BEGIN:STANDARD
TZOFFSETFROM:+0200
TZOFFSETTO:+0100
TZNAME:CET
DTSTART:20241027T010000
END:STANDARD
BEGIN:DAYLIGHT
TZOFFSETFROM:+0100
TZOFFSETTO:+0200
TZNAME:CEST
DTSTART:20250330T010000
END:DAYLIGHT
BEGIN:STANDARD
TZOFFSETFROM:+0200
TZOFFSETTO:+0100
TZNAME:CET
DTSTART:20251026T010000
END:STANDARD
END:VTIMEZONE
BEGIN:VEVENT
DTSTART;TZID=Europe/Vienna:20241220T150000
DTEND;TZID=Europe/Vienna:20241220T180000
DTSTAMP:20260425T165432
CREATED:20241016T095804Z
LAST-MODIFIED:20241205T091554Z
UID:10003012-1734706800-1734717600@do.lustenau.at
SUMMARY:OK-JA! Kofferflohmarkt
DESCRIPTION:Am 20. Dezember 2024 lädt die Offene Kinder- und Jugendarbeit Lustenau zum Kofferflohmarkt ins Dô ein! Dieses Partizipationsprojekt der Ideenchecker wurde von den Kindern aus dem Kindertreff entwickelt: Sie wählten das Thema und planten den Flohmarkt. \nKinder im Volksschulalter bis 12 Jahre verkaufen gut erhaltenes Spielzeug und Bücher. Als Verkaufsfläche stehen maximal zwei Koffer oder Bananenschachteln zur Verfügung\, die die Kinder kreativ gestalten können. Die Standgebühr beträgt 2 €\, der Erlös bleibt bei den Verkäuferinnen und Verkäufern. \nAblauf: Der Aufbau beginnt um 14:00 Uhr\, ab 15:00 Uhr sind Besucher willkommen. Der Flohmarkt endet um 18:00 Uhr\, gefolgt von einem gemütlichen Ausklang bis 19:30 Uhr. \nFür ein weihnachtliches Ambiente sorgen ein Lagerfeuer mit Stockbrot und ein Kreativtisch zum Basteln. Für das leibliche Wohl ist ebenfalls gesorgt. \nGlitzertattoos sind für ehemalige Kindertreffbesucherinnen und -besucher kostenlos – als Abschluss für ein gelungenes Jahr. Alle \n anderen Besucher können sie gegen eine freiwillige Spende erhalten. \nDie Kinder haben im Vorfeld Spendendosen für das Vorarlberger Tierschutzheim gesammelt. Am Flohmarkttag werden die Dosen in die Schatzkiste geleert. Alle\, die gespendet haben\, nehmen an der Tombola teil. Der Erlös aus der Bewirtung geht ebenfalls an das Tierschutzheim. \nKommt vorbei\, stöbert durch die Angebote und genießt einen besonderen Nachmittag voller Engagement und Kreativität! \n\nFactbox \nWann: 20.12.2024\, 15:00–18:00 Uhr (Aufbau ab 14:00 Uhr)\nWo: Dô\, Lustenau\nAlter Verkäufer: Volksschulalter bis 12 Jahre\nStandgebühr: 2 €\nVerkauf: Gut erhaltenes Spielzeug und Bücher\nBesonderheit: Verkaufsfläche: maximal zwei Koffer oder Bananenschachteln\nSpenden: Für das Vorarlberger Tierschutzheim
URL:https://do.lustenau.at/veranstaltung/ok-ja-kofferflohmarkt/
LOCATION:dô\, Dornbirner Straße 19\, Lustenau\, 6890\, Austria
ATTACH;FMTTYPE=image/jpeg:https://do.lustenau.at/wp-content/uploads/2024/10/Design-ohne-Titel.jpg
ORGANIZER;CN="Offene Kinder- und Jugendarbeit Lustenau":MAILTO:ok-ja@lustenau.at
END:VEVENT
END:VCALENDAR