BEGIN:VCALENDAR
VERSION:2.0
PRODID:-//dô Lustenau - ECPv6.15.20//NONSGML v1.0//EN
CALSCALE:GREGORIAN
METHOD:PUBLISH
X-WR-CALNAME:dô Lustenau
X-ORIGINAL-URL:https://do.lustenau.at
X-WR-CALDESC:Veranstaltungen für dô Lustenau
REFRESH-INTERVAL;VALUE=DURATION:PT1H
X-Robots-Tag:noindex
X-PUBLISHED-TTL:PT1H
BEGIN:VTIMEZONE
TZID:Europe/Vienna
BEGIN:DAYLIGHT
TZOFFSETFROM:+0100
TZOFFSETTO:+0200
TZNAME:CEST
DTSTART:20230326T010000
END:DAYLIGHT
BEGIN:STANDARD
TZOFFSETFROM:+0200
TZOFFSETTO:+0100
TZNAME:CET
DTSTART:20231029T010000
END:STANDARD
BEGIN:DAYLIGHT
TZOFFSETFROM:+0100
TZOFFSETTO:+0200
TZNAME:CEST
DTSTART:20240331T010000
END:DAYLIGHT
BEGIN:STANDARD
TZOFFSETFROM:+0200
TZOFFSETTO:+0100
TZNAME:CET
DTSTART:20241027T010000
END:STANDARD
BEGIN:DAYLIGHT
TZOFFSETFROM:+0100
TZOFFSETTO:+0200
TZNAME:CEST
DTSTART:20250330T010000
END:DAYLIGHT
BEGIN:STANDARD
TZOFFSETFROM:+0200
TZOFFSETTO:+0100
TZNAME:CET
DTSTART:20251026T010000
END:STANDARD
END:VTIMEZONE
BEGIN:VEVENT
DTSTART;TZID=Europe/Vienna:20241223T150000
DTEND;TZID=Europe/Vienna:20241223T200000
DTSTAMP:20260425T165509
CREATED:20241119T094111Z
LAST-MODIFIED:20241119T094130Z
UID:10003021-1734966000-1734984000@do.lustenau.at
SUMMARY:OK-JA! Winterfest
DESCRIPTION:Komm vorbei zum Winterfest! ❄️ \nDieses Fest ist für alle\, die Lust haben\, den Winter gemeinsam zu feiern! Am 23.12.24 erwartet euch ein Abend voller Gemeinschaft\, Spaß und guter Gesellschaft. Also packt eure Freunde ein und feiert mit uns! \n#Winterfest #Jugendevents #ok-ja! #love #snow #instagood #familie #bildung #jugend #jugendhilfe #beautiful #instagram #beauty #landscape #happy #mountains
URL:https://do.lustenau.at/veranstaltung/ok-ja-winterfest/
ORGANIZER;CN="Offene Kinder- und Jugendarbeit Lustenau":MAILTO:ok-ja@lustenau.at
END:VEVENT
END:VCALENDAR