BEGIN:VCALENDAR
VERSION:2.0
PRODID:-//dô Lustenau - ECPv6.15.20//NONSGML v1.0//EN
CALSCALE:GREGORIAN
METHOD:PUBLISH
X-WR-CALNAME:dô Lustenau
X-ORIGINAL-URL:https://do.lustenau.at
X-WR-CALDESC:Veranstaltungen für dô Lustenau
REFRESH-INTERVAL;VALUE=DURATION:PT1H
X-Robots-Tag:noindex
X-PUBLISHED-TTL:PT1H
BEGIN:VTIMEZONE
TZID:Europe/Vienna
BEGIN:DAYLIGHT
TZOFFSETFROM:+0100
TZOFFSETTO:+0200
TZNAME:CEST
DTSTART:20230326T010000
END:DAYLIGHT
BEGIN:STANDARD
TZOFFSETFROM:+0200
TZOFFSETTO:+0100
TZNAME:CET
DTSTART:20231029T010000
END:STANDARD
BEGIN:DAYLIGHT
TZOFFSETFROM:+0100
TZOFFSETTO:+0200
TZNAME:CEST
DTSTART:20240331T010000
END:DAYLIGHT
BEGIN:STANDARD
TZOFFSETFROM:+0200
TZOFFSETTO:+0100
TZNAME:CET
DTSTART:20241027T010000
END:STANDARD
BEGIN:DAYLIGHT
TZOFFSETFROM:+0100
TZOFFSETTO:+0200
TZNAME:CEST
DTSTART:20250330T010000
END:DAYLIGHT
BEGIN:STANDARD
TZOFFSETFROM:+0200
TZOFFSETTO:+0100
TZNAME:CET
DTSTART:20251026T010000
END:STANDARD
END:VTIMEZONE
BEGIN:VEVENT
DTSTART;TZID=Europe/Vienna:20241230T160000
DTEND;TZID=Europe/Vienna:20241230T213000
DTSTAMP:20260425T151318
CREATED:20241029T090925Z
LAST-MODIFIED:20241119T114303Z
UID:10003016-1735574400-1735594200@do.lustenau.at
SUMMARY:OK-JA! Silvesterhock
DESCRIPTION:Ein spannendes und ereignisreiches Jahr im Open Space liegt hinter uns – und nun wollen wir es gemeinsam mit allen Besucher:innen ausklingen lassen! Mit alkoholfreien Cocktails\, leckerem Essen und cooler Musik feiern wir am 30. Dezember von 16 – 21.30 Uhr im dô für jung und älter schon Silvester und verabschieden uns ins nächste Jahr. Wir freuen uns schon auf bekannte und neue Gesichter und einen tollen Abend! \nMontag\, 30. Dezember\n16 – 21.30 Uhr\n12 – 24 Jahre
URL:https://do.lustenau.at/veranstaltung/ok-ja-silvesterhock/
LOCATION:dô\, Dornbirner Straße 19\, Lustenau\, 6890\, Austria
ORGANIZER;CN="Offene Kinder- und Jugendarbeit Lustenau":MAILTO:ok-ja@lustenau.at
END:VEVENT
END:VCALENDAR