BEGIN:VCALENDAR
VERSION:2.0
PRODID:-//dô Lustenau - ECPv6.15.20//NONSGML v1.0//EN
CALSCALE:GREGORIAN
METHOD:PUBLISH
X-ORIGINAL-URL:https://do.lustenau.at
X-WR-CALDESC:Veranstaltungen für dô Lustenau
REFRESH-INTERVAL;VALUE=DURATION:PT1H
X-Robots-Tag:noindex
X-PUBLISHED-TTL:PT1H
BEGIN:VTIMEZONE
TZID:Europe/Vienna
BEGIN:DAYLIGHT
TZOFFSETFROM:+0100
TZOFFSETTO:+0200
TZNAME:CEST
DTSTART:20240331T010000
END:DAYLIGHT
BEGIN:STANDARD
TZOFFSETFROM:+0200
TZOFFSETTO:+0100
TZNAME:CET
DTSTART:20241027T010000
END:STANDARD
BEGIN:DAYLIGHT
TZOFFSETFROM:+0100
TZOFFSETTO:+0200
TZNAME:CEST
DTSTART:20250330T010000
END:DAYLIGHT
BEGIN:STANDARD
TZOFFSETFROM:+0200
TZOFFSETTO:+0100
TZNAME:CET
DTSTART:20251026T010000
END:STANDARD
BEGIN:DAYLIGHT
TZOFFSETFROM:+0100
TZOFFSETTO:+0200
TZNAME:CEST
DTSTART:20260329T010000
END:DAYLIGHT
BEGIN:STANDARD
TZOFFSETFROM:+0200
TZOFFSETTO:+0100
TZNAME:CET
DTSTART:20261025T010000
END:STANDARD
END:VTIMEZONE
BEGIN:VEVENT
DTSTART;TZID=Europe/Vienna:20250210T080000
DTEND;TZID=Europe/Vienna:20250214T170000
DTSTAMP:20260425T134032
CREATED:20250121T130640Z
LAST-MODIFIED:20250127T103627Z
UID:10003040-1739174400-1739552400@do.lustenau.at
SUMMARY:ÜBERSICHT: Semesterferien im dô
DESCRIPTION:Mo. 10.02. 14 – 16:30 | ab 8 J. | 5 – 12 Teilnehmer:innen \nSticker-Workshop: Wild Things 🖍️👹✨ \n📅 Montag\, 10. Februar | 🕒 14:00–16:30 Uhr\n👤 Alter: ab 8 Jahren\n👥 Teilnehmer:innen: 5–12 Personen \nLass deiner Fantasie freien Lauf und erschaffe deine eigenen wilden Monster! 👾👻 Inspiriert vom Kinderbuchklassiker _“Where the Wild Things Are“_ 📖 gestalten wir in diesem kreativen Workshop einzigartige Monster-Designs. Nach einem kurzen Input aus dem Buch und einigen Beispielideen kannst du deine eigenen wilden Figuren entwerfen. 🎨🖌️ \nDas Highlight: Deine Monster werden mit unserem Sticker-Plotter in coole Sticker verwandelt\, die du direkt mit nach Hause nehmen kannst! 🖨️✨🎉 \n🔎 Infos: \n– Der Workshop dauert 2\,5 Stunden.\n– 🖍️ Materialien werden bereitgestellt.\n– ✅ Teilnahme ist kostenlos\, Anmeldung erforderlich unter do@lustenau.at \nMach mit und bring deine wilden Ideen zum Leben! 🐾🦖🌀 \n\nDi. 11.02. 14 – 16:30 Uhr | ab 8 J. | 5 – 12 Personen \nCollage-Workshop: Kreatives Gestalten für Kinder ab 8 Jahren ✂️🎨✨ \n📅 Dienstag\, 11. Februar | 🕒 14:00–16:30 Uhr\n👤 Alter: ab 8 Jahren\n👥 Teilnehmer:innen: 5–12 Personen \nEs wird „geschnippselt“ und „geklebt“ beim spielerischen Collage-Workshop für Menschen ab 8 Jahren! 🖍️ \nTaucht ein in die bunte Welt der Collagen und lasst eurer Fantasie freien Lauf . Ob durch das Ausschneiden und Kombinieren von Motiven aus Zeitschriften 📰✂️ oder durch das kreative Gestalten mit farbigem Papier 🟦🟨🟥 – hier ist Platz für viele Ideen! Inspiriert von Künstler:innen wie **Polina Belenchuk** entstehen ganz neue\, individuelle Kunstwerke. 🖼️✨ \n🔎 Infos: \n– Der Workshop dauert 2\,5 Stunden.\n– 🖍️ Materialien werden bereitgestellt.\n– ✅ Teilnahme ist kostenlos\, Anmeldung erforderlich unter do@lustenau.at \nWir freuen uns auf euch und eure kreativen Werke! 🎉 \n\nOrigami-Workshop mit Camila Blanco 🦋📜✨ \n📅 Mittwoch\, 12. Februar | 🕒 14:00–16:30 Uhr\n👤 Alter: 8–12 Jahre\n👥 Teilnehmer:innen: 5–12 Personen \nTauche ein in die faszinierende Kunst des Origami und erschaffe deinen eigenen Monarch-Schmetterling! 🦋✨\nGemeinsam mit der Künstlerin Camila Blanco lernst du Schritt für Schritt\, wie aus einem einfachen Blatt Papier ein wunderschöner Schmetterling entsteht. \nIn diesem Workshop kannst du nicht nur die Technik des Origami kennenlernen\, sondern auch deiner Kreativität freien Lauf lassen. 🎨📜 \n🔎 Infos: \n– Der Workshop dauert 2\,5 Stunden.\n– 📝 Materialien werden bereitgestellt.\n– ✅ Teilnahme ist kostenlos\, Anmeldung erforderlich unter do@lustenau.at \nMach mit und lass deinen Schmetterling fliegen! 🌈🦋🎉 \n\nSkateboarding Workshops \n📅 Freitag\, 14. Februar | 🕒 Ab 9:00 Uhr \nEgal ob jung oder alt\, Anfänger:in oder Fortgeschrittene:r – am großen Skateboard-Tag ist für alle etwas dabei! Wir bieten verschiedene Schnupper- und Intensivkurse sowie eine offene Session am Abend. Skateboards werden von uns gestellt\, jedoch sind Helme und Schutzausrüstung Pflicht. \nIhr wollt einmal ausprobieren wie es ist auf einem Skateboard zu stehen? Dann kommt vorbei!\nWir haben professionelle Skateboards für euch zu testen und Florian\, Skateboard-Coach\, zeigt euch die wichtigsten Grundlagen. \nProgramm \n🛹 Schnupperkurse: \n– 9:00 – 9:50 Uhr: Für Kinder von 6–10 Jahren\, 2–5 Plätze\n– 10:30 – 11:20 Uhr: Ab 10 Jahren\, 2–5 Plätze \n🛹 Special – Family Skate Schnupperkurs: \n– 14:00 – 15:00 Uhr:\nSchnupperkurs für Eltern mit ihren kleinen Kids (3–6 Jahre). Perfekt für Familien\, die skaten ausprobieren möchten oder Tipps vor einem Kauf suchen. 50 Minuten Skaten + 10 Minuten für Fragen. \n🛹 Skatekurs für Fortgeschrittene: \n– 15:30 – 17:00 Uhr:\nFür Skater:innen ab 10 Jahren\, die ihre Tricks wie Ollies\, Manuals oder Kickflips verbessern möchten. Max. 5 Plätze. \n🔎 Infos: \n– 🛹 Skateboards werden zur Verfügung gestellt. Helm und Schoner müssen selbst mitgebracht werden. Es herrscht Helmpflicht!\n– ✅ Teilnahme ist kostenlos\, Anmeldung erforderlich unter do@lustenau.at
URL:https://do.lustenau.at/veranstaltung/semesterferien-im-do/
ATTACH;FMTTYPE=image/png:https://do.lustenau.at/wp-content/uploads/2025/01/Semester-169-Homepage.png
ORGANIZER;CN="d%C3%B4 f%C3%BCr jung und %C3%A4lter":MAILTO:do@lustenau.at
END:VEVENT
BEGIN:VEVENT
DTSTART;TZID=Europe/Vienna:20250212T140000
DTEND;TZID=Europe/Vienna:20250212T163000
DTSTAMP:20260425T134032
CREATED:20250123T173539Z
LAST-MODIFIED:20250123T173539Z
UID:10003043-1739368800-1739377800@do.lustenau.at
SUMMARY:Origami-Workshop mit Camila Blanco 🦋📜✨
DESCRIPTION:📅 Mittwoch\, 12. Februar | 🕒 14:00–16:30 Uhr \n👤 Alter: 8–12 Jahre \n👥 Teilnehmer:innen: 5–12 Personen \nTauche ein in die faszinierende Kunst des Origami und erschaffe deinen eigenen Monarch-Schmetterling! 🦋✨ Gemeinsam mit der Künstlerin Camila Blanco lernst du Schritt für Schritt\, wie aus einem einfachen Blatt Papier ein wunderschöner Schmetterling entsteht. \nIn diesem Workshop kannst du nicht nur die Technik des Origami kennenlernen\, sondern auch deiner Kreativität freien Lauf lassen. 🎨📜 \n🔎 Infos: \n– Der Workshop dauert 2\,5 Stunden.\n– 📝 Materialien werden bereitgestellt.\n– ✅ Teilnahme ist kostenlos\, Anmeldung erforderlich unter do@lustenau.at \nMach mit und lass deinen Schmetterling fliegen! 🌈🦋🎉
URL:https://do.lustenau.at/veranstaltung/origami-workshop-mit-camila-blanco-%f0%9f%a6%8b%f0%9f%93%9c%e2%9c%a8/
ATTACH;FMTTYPE=image/png:https://do.lustenau.at/wp-content/uploads/2025/01/Semester-169-Homepage.png
ORGANIZER;CN="d%C3%B4 f%C3%BCr jung und %C3%A4lter":MAILTO:do@lustenau.at
END:VEVENT
END:VCALENDAR