BEGIN:VCALENDAR
VERSION:2.0
PRODID:-//dô Lustenau - ECPv6.15.20//NONSGML v1.0//EN
CALSCALE:GREGORIAN
METHOD:PUBLISH
X-ORIGINAL-URL:https://do.lustenau.at
X-WR-CALDESC:Veranstaltungen für dô Lustenau
REFRESH-INTERVAL;VALUE=DURATION:PT1H
X-Robots-Tag:noindex
X-PUBLISHED-TTL:PT1H
BEGIN:VTIMEZONE
TZID:Europe/Vienna
BEGIN:DAYLIGHT
TZOFFSETFROM:+0100
TZOFFSETTO:+0200
TZNAME:CEST
DTSTART:20240331T010000
END:DAYLIGHT
BEGIN:STANDARD
TZOFFSETFROM:+0200
TZOFFSETTO:+0100
TZNAME:CET
DTSTART:20241027T010000
END:STANDARD
BEGIN:DAYLIGHT
TZOFFSETFROM:+0100
TZOFFSETTO:+0200
TZNAME:CEST
DTSTART:20250330T010000
END:DAYLIGHT
BEGIN:STANDARD
TZOFFSETFROM:+0200
TZOFFSETTO:+0100
TZNAME:CET
DTSTART:20251026T010000
END:STANDARD
BEGIN:DAYLIGHT
TZOFFSETFROM:+0100
TZOFFSETTO:+0200
TZNAME:CEST
DTSTART:20260329T010000
END:DAYLIGHT
BEGIN:STANDARD
TZOFFSETFROM:+0200
TZOFFSETTO:+0100
TZNAME:CET
DTSTART:20261025T010000
END:STANDARD
END:VTIMEZONE
BEGIN:VEVENT
DTSTART;TZID=Europe/Vienna:20250913T170000
DTEND;TZID=Europe/Vienna:20250913T223000
DTSTAMP:20260425T024411
CREATED:20250902T071943Z
LAST-MODIFIED:20250902T072143Z
UID:10003304-1757782800-1757802600@do.lustenau.at
SUMMARY:Finissage: Summer Of Skate Ausstellung
DESCRIPTION:32 Stunden Besuchszeit und rund 300 Besucher:innen später heißt es: ein letztes Mal „Summer Of Skate“ im dô! \nNeben historischen wie auch subversiven Skateboardgrafiken zeigt die Sonderausstellung auch ein Stück Vorarlberger Skateboardkultur – mit dem nachgestellten Core Shop\, einem echten Eckpfeiler der Szene. Zum Abschied gibt’s eine experimentelle Skatesound Performance von Asphalt & the Flatspots 🎶🛹. \nAußerdem zu sehen: die Arbeiten von @andregauster\, der die junge Skateboardszene mit seiner Kamera eingefangen hat. Oder auch selbstgemachte Skateboards von @limoskatebords und @jmsskateboards oder Boards von @icecreamsb @joralulu. \nUnd natürlich wird auch noch gerollt: bei der offenen Session warten wieder DÔLLAR FOR TRICKS auf euch. 💸🔥 \nFür Pizza-Power sorgt @pizzaalfi. \nKommt vorbei und feiert mit uns ein letztes Mal die Skateboardausstellung! \n Euer dô + OK-JA! Team \n— \nTIMETABLE: \n19 Uhr | DÔLLAR FOR TRICKS\n20:30 UHR | ASPHALT & THE FLATPOTS
URL:https://do.lustenau.at/veranstaltung/finissage-summer-of-skate-ausstellung/
LOCATION:dô\, Dornbirner Straße 19\, Lustenau\, 6890\, Austria
CATEGORIES:EVENT
ATTACH;FMTTYPE=image/jpeg:https://do.lustenau.at/wp-content/uploads/2025/09/SOS_GEsamt.jpg
ORGANIZER;CN="d%C3%B4 f%C3%BCr jung und %C3%A4lter":MAILTO:do@lustenau.at
END:VEVENT
END:VCALENDAR