BEGIN:VCALENDAR
VERSION:2.0
PRODID:-//dô Lustenau - ECPv6.15.20//NONSGML v1.0//EN
CALSCALE:GREGORIAN
METHOD:PUBLISH
X-ORIGINAL-URL:https://do.lustenau.at
X-WR-CALDESC:Veranstaltungen für dô Lustenau
REFRESH-INTERVAL;VALUE=DURATION:PT1H
X-Robots-Tag:noindex
X-PUBLISHED-TTL:PT1H
BEGIN:VTIMEZONE
TZID:Europe/Vienna
BEGIN:DAYLIGHT
TZOFFSETFROM:+0100
TZOFFSETTO:+0200
TZNAME:CEST
DTSTART:20240331T010000
END:DAYLIGHT
BEGIN:STANDARD
TZOFFSETFROM:+0200
TZOFFSETTO:+0100
TZNAME:CET
DTSTART:20241027T010000
END:STANDARD
BEGIN:DAYLIGHT
TZOFFSETFROM:+0100
TZOFFSETTO:+0200
TZNAME:CEST
DTSTART:20250330T010000
END:DAYLIGHT
BEGIN:STANDARD
TZOFFSETFROM:+0200
TZOFFSETTO:+0100
TZNAME:CET
DTSTART:20251026T010000
END:STANDARD
BEGIN:DAYLIGHT
TZOFFSETFROM:+0100
TZOFFSETTO:+0200
TZNAME:CEST
DTSTART:20260329T010000
END:DAYLIGHT
BEGIN:STANDARD
TZOFFSETFROM:+0200
TZOFFSETTO:+0100
TZNAME:CET
DTSTART:20261025T010000
END:STANDARD
END:VTIMEZONE
BEGIN:VEVENT
DTSTART;TZID=Europe/Vienna:20251004T170000
DTEND;TZID=Europe/Vienna:20251004T210000
DTSTAMP:20260425T005948
CREATED:20250903T145244Z
LAST-MODIFIED:20250903T145436Z
UID:10003385-1759597200-1759611600@do.lustenau.at
SUMMARY:YARD Jugendtreff
DESCRIPTION:Offener Treff für alle im Alter von 12 – 19 Jahren.\nWeitere Infos folgen…
URL:https://do.lustenau.at/veranstaltung/yard-jugendtreff/2025-10-04/
LOCATION:dô\, Dornbirner Straße 19\, Lustenau\, 6890\, Austria
CATEGORIES:JUGENDTREFF
ORGANIZER;CN="Offene Kinder- und Jugendarbeit Lustenau":MAILTO:ok-ja@lustenau.at
END:VEVENT
BEGIN:VEVENT
DTSTART;TZID=Europe/Vienna:20251004T170000
DTEND;TZID=Europe/Vienna:20251004T233000
DTSTAMP:20260425T005948
CREATED:20250902T082511Z
LAST-MODIFIED:20250925T113931Z
UID:10003305-1759597200-1759620600@do.lustenau.at
SUMMARY:Lange Nacht der Museen
DESCRIPTION:Young Art Generation 2025 \nIm Culture Space werden die Werke der Young Art Generation 2025 gezeigt – ein Projekt des Bregenzer Jugendservice\, das alle zwei Jahre umgesetzt wird. Junge Künstler:innen im Alter von 15 bis 23 Jahren erhalten dabei die Möglichkeit\, ihre Arbeiten zu präsentieren. \nWährend die Werke in Bregenz auf dem Kornmarktplatz zu sehen waren\, zeigt das dô heuer einen Monat lang ausgewählte Positionen in seinen Räumlichkeiten. Das Spektrum reicht von Skizzen und Malerei über Mode bis hin zu Einblicken in jugendliche Lebenswelten. \nWir freuen uns auf Arbeiten von Anna Myung\, Beren Tarakci\, Leonard Klecatsky\, Leonard Loacker\, Mara Plangger\, Ronja Paterno und Alisa Lechtaler. \nAm Abend der Langen Nacht der Museen werden Künstler:innen persönlich anwesend sein. \n100 Jahre „Im Holz“ – FC Lustenau \nDer Project Space widmet sich dem traditionsreichen Stadion „Im Holz“ des FC Lustenau\, das heuer sein 100-jähriges Bestehen feiert. Dieses Jubiläum wird mit einer Ausstellung und einer feierlichen Eröffnung im Rahmen der Langen Nacht der Museen gewürdigt.\nDer Kurator und Historiker Wolfgang Scheffknecht wird den Abend begleiten und zu verschiedenen Zeiten Führungen anbieten sowie für Fragen zur Verfügung stehen. \nFactbox \n 4. Oktober – Lange Nacht der Museen \n\n17:00 Uhr – Vernissage Young Art Generation – Folgeausstellung\n18:00 Uhr – Start Lange Nacht der Museen\n19:00 Uhr – Vernissage 100 Jahre „Im Holz“\nZwischen 20:00 Uhr – 22 Uhr Führungen durch Wolfgang Scheffknecht & Florian Gerer\n👉 Den ganzen Abend über:\nKreativstation Young Art Generation 2025\nAusstellungsquiz YAG / Im Holz\n\nFür die Bewirtung sorgt der FC Lustenau. \nÖffnungszeiten: Donnerstag & Samstag\, 17 – 19 Uhr \n16. Oktober – Führung 100 Jahre „Im Holz“ mit Wolfgang Scheffknecht\n30. Oktober – Finissage\, 17 – 19 Uhr \nFür Besuchswünsche außerhalb der Öffnungszeiten: florian.gerer@lustenau.at
URL:https://do.lustenau.at/veranstaltung/lange-nacht-der-museen/
LOCATION:dô\, Dornbirner Straße 19\, Lustenau\, 6890\, Austria
CATEGORIES:EVENT
ATTACH;FMTTYPE=image/jpeg:https://do.lustenau.at/wp-content/uploads/2025/09/YAG25_Portfolio©Jugendservice.jpg
ORGANIZER;CN="d%C3%B4 f%C3%BCr jung und %C3%A4lter":MAILTO:do@lustenau.at
END:VEVENT
END:VCALENDAR