BEGIN:VCALENDAR
VERSION:2.0
PRODID:-//dô Lustenau - ECPv6.15.20//NONSGML v1.0//EN
CALSCALE:GREGORIAN
METHOD:PUBLISH
X-ORIGINAL-URL:https://do.lustenau.at
X-WR-CALDESC:Veranstaltungen für dô Lustenau
REFRESH-INTERVAL;VALUE=DURATION:PT1H
X-Robots-Tag:noindex
X-PUBLISHED-TTL:PT1H
BEGIN:VTIMEZONE
TZID:Europe/Vienna
BEGIN:DAYLIGHT
TZOFFSETFROM:+0100
TZOFFSETTO:+0200
TZNAME:CEST
DTSTART:20230326T010000
END:DAYLIGHT
BEGIN:STANDARD
TZOFFSETFROM:+0200
TZOFFSETTO:+0100
TZNAME:CET
DTSTART:20231029T010000
END:STANDARD
BEGIN:DAYLIGHT
TZOFFSETFROM:+0100
TZOFFSETTO:+0200
TZNAME:CEST
DTSTART:20240331T010000
END:DAYLIGHT
BEGIN:STANDARD
TZOFFSETFROM:+0200
TZOFFSETTO:+0100
TZNAME:CET
DTSTART:20241027T010000
END:STANDARD
BEGIN:DAYLIGHT
TZOFFSETFROM:+0100
TZOFFSETTO:+0200
TZNAME:CEST
DTSTART:20250330T010000
END:DAYLIGHT
BEGIN:STANDARD
TZOFFSETFROM:+0200
TZOFFSETTO:+0100
TZNAME:CET
DTSTART:20251026T010000
END:STANDARD
END:VTIMEZONE
BEGIN:VEVENT
DTSTART;TZID=Europe/Vienna:20240802T110000
DTEND;TZID=Europe/Vienna:20240802T133000
DTSTAMP:20260425T213520
CREATED:20240704T071456Z
LAST-MODIFIED:20240704T071456Z
UID:10002981-1722596400-1722605400@do.lustenau.at
SUMMARY:Tusche-Malkurs
DESCRIPTION:Eline Marie Bröll ist eine junge Tusche-Zeichnerin aus Vorarlberg. Sie ist für detailreiche\, filigrane Bilder bekannt. Sie freut sich darauf\, mit euch zusammen in die Welt von Tinte und Feder einzutauchen. \nAnmeldung mit Erwähnung des gewünschten Kursdatums bis spätestens 7 Tage vor Termin unter ok-ja@lustenau.at oder +43 5577 8181-4054
URL:https://do.lustenau.at/veranstaltung/tusche-malkurs/
LOCATION:dô\, Dornbirner Straße 19\, Lustenau\, 6890\, Austria
ORGANIZER;CN="Offene Kinder- und Jugendarbeit Lustenau":MAILTO:ok-ja@lustenau.at
END:VEVENT
BEGIN:VEVENT
DTSTART;TZID=Europe/Vienna:20240812T090000
DTEND;TZID=Europe/Vienna:20240813T130000
DTSTAMP:20260425T213520
CREATED:20240704T072246Z
LAST-MODIFIED:20240704T074035Z
UID:10002995-1723453200-1723554000@do.lustenau.at
SUMMARY:dô wird’s bunt: Mixed-Media-Experimentierwoche #1
DESCRIPTION:WS #1: Montag\, 12. August – Donnerstag\, 15. August | 9 – 13 Uhr \nTauche ein in eine Woche voller kreativer Entdeckungen und bunten Experimenten! Zusammen mit dem erfahrenen Künstler und Illustrator Luji (Tobias Ludescher) lade ich (Florian Gerer) dich herzlich zur „dô wird’s bunt: Mixed-Media-Experimentier-Woche“ ein. \n\n\n In dieser intensiven Kunst-Experimentierwoche werden wir uns mit verschiedenen Street-Art-Techniken (Sprühen\, Schablonen\, mit Roller\, etc.) und auch normalen Maltechniken auf unterschiedlichen Untergründen wie Holzplatten\, Leinwänden\, Papier oder Abfallmaterialien austoben. Lass deiner Kreativität freien Lauf und entdecke neue Möglichkeiten\, Kunst zum Leben zu erwecken. Wir werden dich dabei unterstützen\, deine Idee(n) umzusetzen! \n\nMelde dich jetzt für eine Woche voller Farbe\, Experimente und künstlerischer Inspiration. Wir freuen uns darauf\, mit dir gemeinsam zu gestalten!\n\n\n\n\n\nmin. 6 Personen / max. 12 Personen\n\nVerpflegung inklusive (Jause + Snacks) / Anmeldung nur für 1 Woche möglich \nAnmeldung mit Erwähnung des gewünschten Kursdatums bis spätestens 7 Tage vor Termin unter ok-ja@lustenau.at oder +43 5577 8181-4054
URL:https://do.lustenau.at/veranstaltung/do-wirds-bunt-mixed-media-experimentierwoche/2024-08-12/
ATTACH;FMTTYPE=image/jpeg:https://do.lustenau.at/wp-content/uploads/2024/07/Streetartweek_NEU.jpeg
END:VEVENT
BEGIN:VEVENT
DTSTART;TZID=Europe/Vienna:20240813T090000
DTEND;TZID=Europe/Vienna:20240813T130000
DTSTAMP:20260425T213520
CREATED:20240704T072246Z
LAST-MODIFIED:20240704T074035Z
UID:10002996-1723539600-1723554000@do.lustenau.at
SUMMARY:dô wird’s bunt: Mixed-Media-Experimentierwoche #1
DESCRIPTION:WS #1: Montag\, 12. August – Donnerstag\, 15. August | 9 – 13 Uhr \nTauche ein in eine Woche voller kreativer Entdeckungen und bunten Experimenten! Zusammen mit dem erfahrenen Künstler und Illustrator Luji (Tobias Ludescher) lade ich (Florian Gerer) dich herzlich zur „dô wird’s bunt: Mixed-Media-Experimentier-Woche“ ein. \n\n\n In dieser intensiven Kunst-Experimentierwoche werden wir uns mit verschiedenen Street-Art-Techniken (Sprühen\, Schablonen\, mit Roller\, etc.) und auch normalen Maltechniken auf unterschiedlichen Untergründen wie Holzplatten\, Leinwänden\, Papier oder Abfallmaterialien austoben. Lass deiner Kreativität freien Lauf und entdecke neue Möglichkeiten\, Kunst zum Leben zu erwecken. Wir werden dich dabei unterstützen\, deine Idee(n) umzusetzen! \n\nMelde dich jetzt für eine Woche voller Farbe\, Experimente und künstlerischer Inspiration. Wir freuen uns darauf\, mit dir gemeinsam zu gestalten!\n\n\n\n\n\nmin. 6 Personen / max. 12 Personen\n\nVerpflegung inklusive (Jause + Snacks) / Anmeldung nur für 1 Woche möglich \nAnmeldung mit Erwähnung des gewünschten Kursdatums bis spätestens 7 Tage vor Termin unter ok-ja@lustenau.at oder +43 5577 8181-4054
URL:https://do.lustenau.at/veranstaltung/do-wirds-bunt-mixed-media-experimentierwoche/2024-08-13/
ATTACH;FMTTYPE=image/jpeg:https://do.lustenau.at/wp-content/uploads/2024/07/Streetartweek_NEU.jpeg
END:VEVENT
BEGIN:VEVENT
DTSTART;TZID=Europe/Vienna:20240814T090000
DTEND;TZID=Europe/Vienna:20240814T130000
DTSTAMP:20260425T213520
CREATED:20240704T072246Z
LAST-MODIFIED:20240704T074035Z
UID:10002997-1723626000-1723640400@do.lustenau.at
SUMMARY:dô wird’s bunt: Mixed-Media-Experimentierwoche #1
DESCRIPTION:WS #1: Montag\, 12. August – Donnerstag\, 15. August | 9 – 13 Uhr \nTauche ein in eine Woche voller kreativer Entdeckungen und bunten Experimenten! Zusammen mit dem erfahrenen Künstler und Illustrator Luji (Tobias Ludescher) lade ich (Florian Gerer) dich herzlich zur „dô wird’s bunt: Mixed-Media-Experimentier-Woche“ ein. \n\n\n In dieser intensiven Kunst-Experimentierwoche werden wir uns mit verschiedenen Street-Art-Techniken (Sprühen\, Schablonen\, mit Roller\, etc.) und auch normalen Maltechniken auf unterschiedlichen Untergründen wie Holzplatten\, Leinwänden\, Papier oder Abfallmaterialien austoben. Lass deiner Kreativität freien Lauf und entdecke neue Möglichkeiten\, Kunst zum Leben zu erwecken. Wir werden dich dabei unterstützen\, deine Idee(n) umzusetzen! \n\nMelde dich jetzt für eine Woche voller Farbe\, Experimente und künstlerischer Inspiration. Wir freuen uns darauf\, mit dir gemeinsam zu gestalten!\n\n\n\n\n\nmin. 6 Personen / max. 12 Personen\n\nVerpflegung inklusive (Jause + Snacks) / Anmeldung nur für 1 Woche möglich \nAnmeldung mit Erwähnung des gewünschten Kursdatums bis spätestens 7 Tage vor Termin unter ok-ja@lustenau.at oder +43 5577 8181-4054
URL:https://do.lustenau.at/veranstaltung/do-wirds-bunt-mixed-media-experimentierwoche/2024-08-14/
ATTACH;FMTTYPE=image/jpeg:https://do.lustenau.at/wp-content/uploads/2024/07/Streetartweek_NEU.jpeg
END:VEVENT
BEGIN:VEVENT
DTSTART;TZID=Europe/Vienna:20240815T090000
DTEND;TZID=Europe/Vienna:20240815T130000
DTSTAMP:20260425T213520
CREATED:20240704T072246Z
LAST-MODIFIED:20240704T074035Z
UID:10002998-1723712400-1723726800@do.lustenau.at
SUMMARY:dô wird’s bunt: Mixed-Media-Experimentierwoche #1
DESCRIPTION:WS #1: Montag\, 12. August – Donnerstag\, 15. August | 9 – 13 Uhr \nTauche ein in eine Woche voller kreativer Entdeckungen und bunten Experimenten! Zusammen mit dem erfahrenen Künstler und Illustrator Luji (Tobias Ludescher) lade ich (Florian Gerer) dich herzlich zur „dô wird’s bunt: Mixed-Media-Experimentier-Woche“ ein. \n\n\n In dieser intensiven Kunst-Experimentierwoche werden wir uns mit verschiedenen Street-Art-Techniken (Sprühen\, Schablonen\, mit Roller\, etc.) und auch normalen Maltechniken auf unterschiedlichen Untergründen wie Holzplatten\, Leinwänden\, Papier oder Abfallmaterialien austoben. Lass deiner Kreativität freien Lauf und entdecke neue Möglichkeiten\, Kunst zum Leben zu erwecken. Wir werden dich dabei unterstützen\, deine Idee(n) umzusetzen! \n\nMelde dich jetzt für eine Woche voller Farbe\, Experimente und künstlerischer Inspiration. Wir freuen uns darauf\, mit dir gemeinsam zu gestalten!\n\n\n\n\n\nmin. 6 Personen / max. 12 Personen\n\nVerpflegung inklusive (Jause + Snacks) / Anmeldung nur für 1 Woche möglich \nAnmeldung mit Erwähnung des gewünschten Kursdatums bis spätestens 7 Tage vor Termin unter ok-ja@lustenau.at oder +43 5577 8181-4054
URL:https://do.lustenau.at/veranstaltung/do-wirds-bunt-mixed-media-experimentierwoche/2024-08-15/
ATTACH;FMTTYPE=image/jpeg:https://do.lustenau.at/wp-content/uploads/2024/07/Streetartweek_NEU.jpeg
END:VEVENT
BEGIN:VEVENT
DTSTART;TZID=Europe/Vienna:20240815T130000
DTEND;TZID=Europe/Vienna:20240815T160000
DTSTAMP:20260425T213520
CREATED:20240704T073336Z
LAST-MODIFIED:20240704T073336Z
UID:10002986-1723726800-1723737600@do.lustenau.at
SUMMARY:Stickersession(s) mit Ludji (Tobias Ludescher)
DESCRIPTION:Willst du wissen\, wie man seine eigenen Sticker machen kann? Bei uns kannst du eigene Zeichnungen mit Hilfe des Schneideplotters in Sticker verwandeln. Dabei unterstützt dich Luji (Tobias Ludescher)\, mit seinen langjährigen Erfahrungen als Illustrator!\n\n\nInfo: min. 3 / max. 10 Teilnehmer:innen / nur 1x Anmeldung möglich \n \nAnmeldung mit Erwähnung des gewünschten Kursdatums bis spätestens 7 Tage vor Termin unter ok-ja@lustenau.at oder +43 5577 8181-4054
URL:https://do.lustenau.at/veranstaltung/stickersessions-mit-ludji-tobias-ludescher/2024-08-15/
ATTACH;FMTTYPE=image/jpeg:https://do.lustenau.at/wp-content/uploads/2024/07/Sticker.jpg
END:VEVENT
BEGIN:VEVENT
DTSTART;TZID=Europe/Vienna:20240819T090000
DTEND;TZID=Europe/Vienna:20240819T130000
DTSTAMP:20260425T213520
CREATED:20240704T072531Z
LAST-MODIFIED:20240704T073902Z
UID:10002985-1724058000-1724072400@do.lustenau.at
SUMMARY:dô wird’s bunt: Mixed-Media-Experimentierwoche #2
DESCRIPTION:WS #2: Montag\, 19. August – Donnerstag\, 22. August | 9 – 13 Uhr\nTauche ein in eine Woche voller kreativer Entdeckungen und bunten Experimenten! Zusammen mit dem erfahrenen Künstler und Illustrator Luji (Tobias Ludescher) lade ich (Florian Gerer) dich herzlich zur „dô wird’s bunt: Mixed-Media-Experimentier-Woche“ ein. \n\n\n In dieser intensiven Kunst-Experimentierwoche werden wir uns mit verschiedenen Street-Art-Techniken (Sprühen\, Schablonen\, mit Roller\, etc.) und auch normalen Maltechniken auf unterschiedlichen Untergründen wie Holzplatten\, Leinwänden\, Papier oder Abfallmaterialien austoben. Lass deiner Kreativität freien Lauf und entdecke neue Möglichkeiten\, Kunst zum Leben zu erwecken. Wir werden dich dabei unterstützen\, deine Idee(n) umzusetzen! \n\nMelde dich jetzt für eine Woche voller Farbe\, Experimente und künstlerischer Inspiration. Wir freuen uns darauf\, mit dir gemeinsam zu gestalten!\n\n\n\n\nmin. 6 Personen / max. 12 Personen\n\nVerpflegung inklusive (Jause + Snacks) / Anmeldung nur für 1 Woche möglich \nAnmeldung mit Erwähnung des gewünschten Kursdatums bis spätestens 7 Tage vor Termin unter ok-ja@lustenau.at oder +43 5577 8181-4054
URL:https://do.lustenau.at/veranstaltung/do-wirds-bunt-mixed-media-experimentierwoche-2/2024-08-19/
LOCATION:dô\, Dornbirner Straße 19\, Lustenau\, 6890\, Austria
ATTACH;FMTTYPE=image/jpeg:https://do.lustenau.at/wp-content/uploads/2024/07/Streetartweek_NEU.jpeg
ORGANIZER;CN="d%C3%B4 f%C3%BCr jung und %C3%A4lter":MAILTO:do@lustenau.at
END:VEVENT
BEGIN:VEVENT
DTSTART;TZID=Europe/Vienna:20240820T090000
DTEND;TZID=Europe/Vienna:20240820T130000
DTSTAMP:20260425T213520
CREATED:20240704T072531Z
LAST-MODIFIED:20240704T073902Z
UID:10002992-1724144400-1724158800@do.lustenau.at
SUMMARY:dô wird’s bunt: Mixed-Media-Experimentierwoche #2
DESCRIPTION:WS #2: Montag\, 19. August – Donnerstag\, 22. August | 9 – 13 Uhr\nTauche ein in eine Woche voller kreativer Entdeckungen und bunten Experimenten! Zusammen mit dem erfahrenen Künstler und Illustrator Luji (Tobias Ludescher) lade ich (Florian Gerer) dich herzlich zur „dô wird’s bunt: Mixed-Media-Experimentier-Woche“ ein. \n\n\n In dieser intensiven Kunst-Experimentierwoche werden wir uns mit verschiedenen Street-Art-Techniken (Sprühen\, Schablonen\, mit Roller\, etc.) und auch normalen Maltechniken auf unterschiedlichen Untergründen wie Holzplatten\, Leinwänden\, Papier oder Abfallmaterialien austoben. Lass deiner Kreativität freien Lauf und entdecke neue Möglichkeiten\, Kunst zum Leben zu erwecken. Wir werden dich dabei unterstützen\, deine Idee(n) umzusetzen! \n\nMelde dich jetzt für eine Woche voller Farbe\, Experimente und künstlerischer Inspiration. Wir freuen uns darauf\, mit dir gemeinsam zu gestalten!\n\n\n\n\nmin. 6 Personen / max. 12 Personen\n\nVerpflegung inklusive (Jause + Snacks) / Anmeldung nur für 1 Woche möglich \nAnmeldung mit Erwähnung des gewünschten Kursdatums bis spätestens 7 Tage vor Termin unter ok-ja@lustenau.at oder +43 5577 8181-4054
URL:https://do.lustenau.at/veranstaltung/do-wirds-bunt-mixed-media-experimentierwoche-2/2024-08-20/
LOCATION:dô\, Dornbirner Straße 19\, Lustenau\, 6890\, Austria
ATTACH;FMTTYPE=image/jpeg:https://do.lustenau.at/wp-content/uploads/2024/07/Streetartweek_NEU.jpeg
ORGANIZER;CN="d%C3%B4 f%C3%BCr jung und %C3%A4lter":MAILTO:do@lustenau.at
END:VEVENT
BEGIN:VEVENT
DTSTART;TZID=Europe/Vienna:20240821T090000
DTEND;TZID=Europe/Vienna:20240821T130000
DTSTAMP:20260425T213520
CREATED:20240704T072531Z
LAST-MODIFIED:20240704T073902Z
UID:10002993-1724230800-1724245200@do.lustenau.at
SUMMARY:dô wird’s bunt: Mixed-Media-Experimentierwoche #2
DESCRIPTION:WS #2: Montag\, 19. August – Donnerstag\, 22. August | 9 – 13 Uhr\nTauche ein in eine Woche voller kreativer Entdeckungen und bunten Experimenten! Zusammen mit dem erfahrenen Künstler und Illustrator Luji (Tobias Ludescher) lade ich (Florian Gerer) dich herzlich zur „dô wird’s bunt: Mixed-Media-Experimentier-Woche“ ein. \n\n\n In dieser intensiven Kunst-Experimentierwoche werden wir uns mit verschiedenen Street-Art-Techniken (Sprühen\, Schablonen\, mit Roller\, etc.) und auch normalen Maltechniken auf unterschiedlichen Untergründen wie Holzplatten\, Leinwänden\, Papier oder Abfallmaterialien austoben. Lass deiner Kreativität freien Lauf und entdecke neue Möglichkeiten\, Kunst zum Leben zu erwecken. Wir werden dich dabei unterstützen\, deine Idee(n) umzusetzen! \n\nMelde dich jetzt für eine Woche voller Farbe\, Experimente und künstlerischer Inspiration. Wir freuen uns darauf\, mit dir gemeinsam zu gestalten!\n\n\n\n\nmin. 6 Personen / max. 12 Personen\n\nVerpflegung inklusive (Jause + Snacks) / Anmeldung nur für 1 Woche möglich \nAnmeldung mit Erwähnung des gewünschten Kursdatums bis spätestens 7 Tage vor Termin unter ok-ja@lustenau.at oder +43 5577 8181-4054
URL:https://do.lustenau.at/veranstaltung/do-wirds-bunt-mixed-media-experimentierwoche-2/2024-08-21/
LOCATION:dô\, Dornbirner Straße 19\, Lustenau\, 6890\, Austria
ATTACH;FMTTYPE=image/jpeg:https://do.lustenau.at/wp-content/uploads/2024/07/Streetartweek_NEU.jpeg
ORGANIZER;CN="d%C3%B4 f%C3%BCr jung und %C3%A4lter":MAILTO:do@lustenau.at
END:VEVENT
BEGIN:VEVENT
DTSTART;TZID=Europe/Vienna:20240822T090000
DTEND;TZID=Europe/Vienna:20240822T130000
DTSTAMP:20260425T213520
CREATED:20240704T072531Z
LAST-MODIFIED:20240704T073902Z
UID:10002994-1724317200-1724331600@do.lustenau.at
SUMMARY:dô wird’s bunt: Mixed-Media-Experimentierwoche #2
DESCRIPTION:WS #2: Montag\, 19. August – Donnerstag\, 22. August | 9 – 13 Uhr\nTauche ein in eine Woche voller kreativer Entdeckungen und bunten Experimenten! Zusammen mit dem erfahrenen Künstler und Illustrator Luji (Tobias Ludescher) lade ich (Florian Gerer) dich herzlich zur „dô wird’s bunt: Mixed-Media-Experimentier-Woche“ ein. \n\n\n In dieser intensiven Kunst-Experimentierwoche werden wir uns mit verschiedenen Street-Art-Techniken (Sprühen\, Schablonen\, mit Roller\, etc.) und auch normalen Maltechniken auf unterschiedlichen Untergründen wie Holzplatten\, Leinwänden\, Papier oder Abfallmaterialien austoben. Lass deiner Kreativität freien Lauf und entdecke neue Möglichkeiten\, Kunst zum Leben zu erwecken. Wir werden dich dabei unterstützen\, deine Idee(n) umzusetzen! \n\nMelde dich jetzt für eine Woche voller Farbe\, Experimente und künstlerischer Inspiration. Wir freuen uns darauf\, mit dir gemeinsam zu gestalten!\n\n\n\n\nmin. 6 Personen / max. 12 Personen\n\nVerpflegung inklusive (Jause + Snacks) / Anmeldung nur für 1 Woche möglich \nAnmeldung mit Erwähnung des gewünschten Kursdatums bis spätestens 7 Tage vor Termin unter ok-ja@lustenau.at oder +43 5577 8181-4054
URL:https://do.lustenau.at/veranstaltung/do-wirds-bunt-mixed-media-experimentierwoche-2/2024-08-22/
LOCATION:dô\, Dornbirner Straße 19\, Lustenau\, 6890\, Austria
ATTACH;FMTTYPE=image/jpeg:https://do.lustenau.at/wp-content/uploads/2024/07/Streetartweek_NEU.jpeg
ORGANIZER;CN="d%C3%B4 f%C3%BCr jung und %C3%A4lter":MAILTO:do@lustenau.at
END:VEVENT
BEGIN:VEVENT
DTSTART;TZID=Europe/Vienna:20240822T190000
DTEND;TZID=Europe/Vienna:20240822T203000
DTSTAMP:20260425T213520
CREATED:20240725T092536Z
LAST-MODIFIED:20240725T093909Z
UID:10003003-1724353200-1724358600@do.lustenau.at
SUMMARY:Analoges Fotografieren und Filmentwicklung
DESCRIPTION:Bist du neugierig auf die Welt der analogen Fotografie? Hast du Lust\, die Magie der Filmentwicklung zu entdecken? Dann ist unser Fotoprojekt genau das Richtige für dich! \n🔍 Keine Vorkenntnisse erforderlich! Alles\, was du brauchst\, ist Neugier und Interesse. \n🎓 Lerne die Grundlagen der Filmentwicklung! Alle Materialien werden gestellt\, und du bringst einfach deine bereits verschossenen Filme mit. Es gibt insgesamt 6 Plätze\, also 2 Teilnehmer brauchen eigenes Equipment. \nVerpasse nicht diese einzigartige Gelegenheit\, die analoge Fotografie hautnah zu erleben! \n📩 Melde dich jetzt an und sichere dir deinen Platz! \n>>> Im Herbst folgt dann noch ein Workshop zur Verwendung der Dunkelkammer um richtige Abzüge zu machen! \n\n  \nTeil 1: „Point and Shoot“ Abholung\n(Hast du selber eine Kamera? Dann kannst du den Teil hier auslassen!) \n📅 Datum: Individuelle Abholung \n🕒 Dauer: 10 Minuten Einführung \n🚀 Wir haben 4 Point and Shoot Kameras zur Verfügung\, die du kostenlos ausleihen kannst! Perfekt für alle\, die keine eigene Kamera haben\, aber trotzdem mitmachen wollen. \n  \nTeil 2: Workshop zur Filmentwicklung \n📅 Datum: Donnerstag\, 22. August \n🕒 Zeit: 19:00 – 20:30 Uhr \n 
URL:https://do.lustenau.at/veranstaltung/analoges-fotografieren-und-filmentwicklung/
LOCATION:dô\, Dornbirner Straße 19\, Lustenau\, 6890\, Austria
ATTACH;FMTTYPE=image/png:https://do.lustenau.at/wp-content/uploads/2024/07/Instapost_AnalogFotografie_S1.png
ORGANIZER;CN="d%C3%B4 f%C3%BCr jung und %C3%A4lter":MAILTO:do@lustenau.at
END:VEVENT
BEGIN:VEVENT
DTSTART;TZID=Europe/Vienna:20240823T130000
DTEND;TZID=Europe/Vienna:20240823T160000
DTSTAMP:20260425T213520
CREATED:20240704T073336Z
LAST-MODIFIED:20240704T073336Z
UID:10002987-1724418000-1724428800@do.lustenau.at
SUMMARY:Stickersession(s) mit Ludji (Tobias Ludescher)
DESCRIPTION:Willst du wissen\, wie man seine eigenen Sticker machen kann? Bei uns kannst du eigene Zeichnungen mit Hilfe des Schneideplotters in Sticker verwandeln. Dabei unterstützt dich Luji (Tobias Ludescher)\, mit seinen langjährigen Erfahrungen als Illustrator!\n\n\nInfo: min. 3 / max. 10 Teilnehmer:innen / nur 1x Anmeldung möglich \n \nAnmeldung mit Erwähnung des gewünschten Kursdatums bis spätestens 7 Tage vor Termin unter ok-ja@lustenau.at oder +43 5577 8181-4054
URL:https://do.lustenau.at/veranstaltung/stickersessions-mit-ludji-tobias-ludescher/2024-08-23/
ATTACH;FMTTYPE=image/jpeg:https://do.lustenau.at/wp-content/uploads/2024/07/Sticker.jpg
END:VEVENT
BEGIN:VEVENT
DTSTART;TZID=Europe/Vienna:20240826T130000
DTEND;TZID=Europe/Vienna:20240826T160000
DTSTAMP:20260425T213520
CREATED:20240704T073336Z
LAST-MODIFIED:20240704T073336Z
UID:10002988-1724677200-1724688000@do.lustenau.at
SUMMARY:Stickersession(s) mit Ludji (Tobias Ludescher)
DESCRIPTION:Willst du wissen\, wie man seine eigenen Sticker machen kann? Bei uns kannst du eigene Zeichnungen mit Hilfe des Schneideplotters in Sticker verwandeln. Dabei unterstützt dich Luji (Tobias Ludescher)\, mit seinen langjährigen Erfahrungen als Illustrator!\n\n\nInfo: min. 3 / max. 10 Teilnehmer:innen / nur 1x Anmeldung möglich \n \nAnmeldung mit Erwähnung des gewünschten Kursdatums bis spätestens 7 Tage vor Termin unter ok-ja@lustenau.at oder +43 5577 8181-4054
URL:https://do.lustenau.at/veranstaltung/stickersessions-mit-ludji-tobias-ludescher/2024-08-26/
ATTACH;FMTTYPE=image/jpeg:https://do.lustenau.at/wp-content/uploads/2024/07/Sticker.jpg
END:VEVENT
END:VCALENDAR