BEGIN:VCALENDAR
VERSION:2.0
PRODID:-//dô Lustenau - ECPv6.15.20//NONSGML v1.0//EN
CALSCALE:GREGORIAN
METHOD:PUBLISH
X-WR-CALNAME:dô Lustenau
X-ORIGINAL-URL:https://do.lustenau.at
X-WR-CALDESC:Veranstaltungen für dô Lustenau
REFRESH-INTERVAL;VALUE=DURATION:PT1H
X-Robots-Tag:noindex
X-PUBLISHED-TTL:PT1H
BEGIN:VTIMEZONE
TZID:Europe/Vienna
BEGIN:DAYLIGHT
TZOFFSETFROM:+0100
TZOFFSETTO:+0200
TZNAME:CEST
DTSTART:20230326T010000
END:DAYLIGHT
BEGIN:STANDARD
TZOFFSETFROM:+0200
TZOFFSETTO:+0100
TZNAME:CET
DTSTART:20231029T010000
END:STANDARD
BEGIN:DAYLIGHT
TZOFFSETFROM:+0100
TZOFFSETTO:+0200
TZNAME:CEST
DTSTART:20240331T010000
END:DAYLIGHT
BEGIN:STANDARD
TZOFFSETFROM:+0200
TZOFFSETTO:+0100
TZNAME:CET
DTSTART:20241027T010000
END:STANDARD
BEGIN:DAYLIGHT
TZOFFSETFROM:+0100
TZOFFSETTO:+0200
TZNAME:CEST
DTSTART:20250330T010000
END:DAYLIGHT
BEGIN:STANDARD
TZOFFSETFROM:+0200
TZOFFSETTO:+0100
TZNAME:CET
DTSTART:20251026T010000
END:STANDARD
END:VTIMEZONE
BEGIN:VEVENT
DTSTART;TZID=Europe/Vienna:20241105T180000
DTEND;TZID=Europe/Vienna:20241105T210000
DTSTAMP:20260425T165531
CREATED:20241016T100010Z
LAST-MODIFIED:20241022T094157Z
UID:10003013-1730829600-1730840400@do.lustenau.at
SUMMARY:Aktionsgruppe StoP - Stadt(teile) ohne Partnergewalt
DESCRIPTION:StoP informiert und hilft\, häusliche Gewalt an Frauen früh zu erkennen und zu unterbrechen. \nBei unseren regelmäßigen Treffen wollen wir uns über aktuelle Fakten zu häuslicher Gewalt in Vorarlberg austauschen und uns überlegen welche Aktionen wir gemeinsam in Lustenau setzen wollen. \nDie Gemeinde Lustenau macht mit und ermutigt Nachbar:innen Zivilcourage zu zeigen und Partnergewalt nicht zu verschweigen oder zu dulden.
URL:https://do.lustenau.at/veranstaltung/aktionsgruppe-stop-stadtteile-ohne-partnergewalt/
END:VEVENT
BEGIN:VEVENT
DTSTART;TZID=Europe/Vienna:20241109T080000
DTEND;TZID=Europe/Vienna:20241109T180000
DTSTAMP:20260425T165531
CREATED:20241016T095455Z
LAST-MODIFIED:20241016T095455Z
UID:10003011-1731139200-1731175200@do.lustenau.at
SUMMARY:MV Concordia Jahresklausur
DESCRIPTION:Geschlossene Veranstaltung.
URL:https://do.lustenau.at/veranstaltung/mv-concordia-jahresklausur/
LOCATION:dô\, Dornbirner Straße 19\, Lustenau\, 6890\, Austria
END:VEVENT
BEGIN:VEVENT
DTSTART;TZID=Europe/Vienna:20241109T140000
DTEND;TZID=Europe/Vienna:20241109T170000
DTSTAMP:20260425T165531
CREATED:20241014T143343Z
LAST-MODIFIED:20241014T143533Z
UID:10003005-1731160800-1731171600@do.lustenau.at
SUMMARY:Und plötzlich ist alles anders: Alltagsheldin Mama!
DESCRIPTION:Mamas sind großem gesellschaftlichem Druck und hartnäckigen Stereotypen ausgesetzt – vom Wunsch\, sofort wieder einen scheinbar perfekten Körper zu haben\, bis hin zu den endlosen Anforderungen\, die an Mamas gestellt werden. \nWie beeinflussen gesellschaftliche Normen und Erwartungen das Selbstbild von Mamas? Welche Möglichkeiten gibt es\, um sich von unrealistischen Standards zu lösen und die eigene Individualität und Stärke zu feiern? Wie komme ich zu mehr Balance zwischen den Anforderungen des Mutterseins und den eigenen Bedürfnissen? Wie erhalte ich einen liebevollen und positiven Blick auf meinen veränderten Körper nach der Schwangerschaft? \nIn diesem Workshop lernen wir praktische Methoden kennen\, um sich im Alltag als Mama selbst zu stärken und die eigenen Bedürfnisse dabei nicht aus den Augen zu verlieren. Lasst uns unsere einzigartigen Reisen als Mamas annehmen und uns als die Alltagsheldinnen feiern\, die wir sind! \nAnmeldung:\nLisa Stöckl\, kba@ifs.at \n\nDie Veranstaltung wird im Rahmen des Projekts „Kinder brauchen Antworten“ von der ifs Familienberatung organisiert. \nDas Elternbildungsprojekt „Kinder brauchen Antworten“ wird finanziert aus Mitteln des BKA – Sektion Familie und Jugend und dem Land Vorarlberg.
URL:https://do.lustenau.at/veranstaltung/und-ploetzlich-ist-alles-anders-alltagsheldin-mama/
LOCATION:dô\, Dornbirner Straße 19\, Lustenau\, 6890\, Austria
ATTACH;FMTTYPE=image/jpeg:https://do.lustenau.at/wp-content/uploads/2024/10/Plakat_Sonnweber_WEB-scaled.jpeg
END:VEVENT
BEGIN:VEVENT
DTSTART;TZID=Europe/Vienna:20241121T193000
DTEND;TZID=Europe/Vienna:20241121T213000
DTSTAMP:20260425T165531
CREATED:20241022T095258Z
LAST-MODIFIED:20241022T095406Z
UID:10003007-1732217400-1732224600@do.lustenau.at
SUMMARY:Paroli-Impro: „Häusliche Gewalt erleben und verändern"
DESCRIPTION:🌟 Gemeinsam gegen Gewalt! 🌟 \nIm Rahmen der 16 Tage gegen Gewalt an Frauen laden wir dich zu einem besonderen Ereignis ein! 🎭✨ \nErlebe die interaktive Theaterszene „Häusliche Gewalt erleben und verändern“\, präsentiert vom Improvisationstheater Paroli. In diesem innovativen Format tauchst du aktiv in eine häusliche Gewaltsituation ein und kannst als Protagonist hautnah erleben\, welche Emotionen die Beteiligten durchleben. 🤝💔 \nNach der Aufführung haben wir eine Diskussionsrunde für dich! Hier kannst du die Handlungen reflektieren und gemeinsam mit anderen mögliche Lösungsansätze erörtern.\n🗣️💡 Vertreter der ifs Opferschutz- und Täterarbeitseinrichtungen stehen bereit\, um deine Fragen zu beantworten. \nSei dabei und lass uns gemeinsam etwas bewegen! 💪❤️ \nAnmeldung unter: office.vorarlberg@gewaltschutzzentrum.at \n#16TageGegenGewalt #Improvisationstheater #HäuslicheGewalt #GemeinsamStark #Gewaltschutz \n 
URL:https://do.lustenau.at/veranstaltung/paroli-impro-haeusliche-gewalt-erleben-und-veraendern/
LOCATION:dô\, Dornbirner Straße 19\, Lustenau\, 6890\, Austria
ATTACH;FMTTYPE=image/png:https://do.lustenau.at/wp-content/uploads/2024/10/Bildschirmfoto-2024-10-22-um-11.51.53.png
ORGANIZER;CN="Projekt StoP - ifs":MAILTO:tamara.gallaun@ifs.at
END:VEVENT
BEGIN:VEVENT
DTSTART;TZID=Europe/Vienna:20241122T180000
DTEND;TZID=Europe/Vienna:20241122T220000
DTSTAMP:20260425T165531
CREATED:20241016T095132Z
LAST-MODIFIED:20241016T095132Z
UID:10003008-1732298400-1732312800@do.lustenau.at
SUMMARY:Sindbad Abschlussfeier Staffel 4&5
DESCRIPTION:Geschlossene Veranstaltung.
URL:https://do.lustenau.at/veranstaltung/sindbad-abschlussfeier-staffel-45/
LOCATION:dô\, Dornbirner Straße 19\, Lustenau\, 6890\, Austria
ORGANIZER;CN="Sindbad Social Business":MAILTO:vorarlberg@sindbad.co.at
END:VEVENT
BEGIN:VEVENT
DTSTART;TZID=Europe/Vienna:20241125T140000
DTEND;TZID=Europe/Vienna:20241125T180000
DTSTAMP:20260425T165531
CREATED:20241106T134428Z
LAST-MODIFIED:20241106T134428Z
UID:10003020-1732543200-1732557600@do.lustenau.at
SUMMARY:Klausur Bildungsdirektion Nord
DESCRIPTION:Geschlossene Gesellschaft
URL:https://do.lustenau.at/veranstaltung/klausur-bildungsdirektion-nord/
ORGANIZER;CN="d%C3%B4 f%C3%BCr jung und %C3%A4lter":MAILTO:do@lustenau.at
END:VEVENT
END:VCALENDAR