BEGIN:VCALENDAR
VERSION:2.0
PRODID:-//dô Lustenau - ECPv6.15.20//NONSGML v1.0//EN
CALSCALE:GREGORIAN
METHOD:PUBLISH
X-WR-CALNAME:dô Lustenau
X-ORIGINAL-URL:https://do.lustenau.at
X-WR-CALDESC:Veranstaltungen für dô Lustenau
REFRESH-INTERVAL;VALUE=DURATION:PT1H
X-Robots-Tag:noindex
X-PUBLISHED-TTL:PT1H
BEGIN:VTIMEZONE
TZID:Europe/Vienna
BEGIN:DAYLIGHT
TZOFFSETFROM:+0100
TZOFFSETTO:+0200
TZNAME:CEST
DTSTART:20240331T010000
END:DAYLIGHT
BEGIN:STANDARD
TZOFFSETFROM:+0200
TZOFFSETTO:+0100
TZNAME:CET
DTSTART:20241027T010000
END:STANDARD
BEGIN:DAYLIGHT
TZOFFSETFROM:+0100
TZOFFSETTO:+0200
TZNAME:CEST
DTSTART:20250330T010000
END:DAYLIGHT
BEGIN:STANDARD
TZOFFSETFROM:+0200
TZOFFSETTO:+0100
TZNAME:CET
DTSTART:20251026T010000
END:STANDARD
BEGIN:DAYLIGHT
TZOFFSETFROM:+0100
TZOFFSETTO:+0200
TZNAME:CEST
DTSTART:20260329T010000
END:DAYLIGHT
BEGIN:STANDARD
TZOFFSETFROM:+0200
TZOFFSETTO:+0100
TZNAME:CET
DTSTART:20261025T010000
END:STANDARD
END:VTIMEZONE
BEGIN:VEVENT
DTSTART;VALUE=DATE:20250712
DTEND;VALUE=DATE:20250713
DTSTAMP:20260425T041651
CREATED:20250521T094637Z
LAST-MODIFIED:20250708T103013Z
UID:10003302-1752278400-1752364799@do.lustenau.at
SUMMARY:Slam Jam
DESCRIPTION:Wir laden euch herzlich zur Eröffnung unserer Sommerausstellung „Summer of Skate“ ein\, kuratiert von Jürgen Blümlein – am Samstag\, den 12. Juli\, im dô. \nDie Ausstellung gibt Einblicke in Skateboardkultur als Bewegung\, Szene und visuelle kritische Ausdrucksform – mit Fotos\, Boards\, Grafiken und persönlichen Geschichten. Zum Auftakt feiern wir den Slam Jam\, ein vielseitiges Event mit Skate-Action\, Musik\, Kunst und Gemeinschaft. \nDas erwartet euch: \n9:30 Uhr        Eröffnung der Ausstellung: Summer of Skate\nEinführung Florian Gerer + Jürgen Blümlein \n10 – 13 Uhr    Geschicklichkeitsstationen mit Gibbon Slacklines\nKreativstationen – Skateboard Origami mit Camila von der OK-JA / Boarddesign Wettbewerb\nBoardgestaltung mit Oliver Bender\, Limo Skateboards Lindau\nKalte Getränke & Snacks von OK-JA! \n18 Uhr            Warm-Up Slam Jam \n19 – 19:30      dôLLAR For Tricks – Street \n20 – 20:30      dôLLAR For Tricks – Mini-Ramp \n20:45 Uhr       Begrüßung Florian Gerer & Jürgen Blümlein (Kurator) \n21:15 Uhr       Videopremiere „Mobilitätswende“ Yama Skateboards \n21:30 Uhr       DJ Set mit Muke Deles \n\nStreet Foodam Abend von Bacteriosapiens\nLive-Sound\, gute Vibes und Community\n\n🗓 Samstag\, 12. Juli 2025🕓 ab 9:30 Uhr Familienprogramm\nab 18 Uhr Skatesessions + Party\n📍 dô für jung und älter\, Dornbirnerstraße 19\, 6890 Lustenau \nKommt vorbei\, bringt eure Boards und Freund:innen mit und werdet Teil dieses Sommers auf Rollen! \nWir freuen uns auf euch!Das dô & OK-JA! Team
URL:https://do.lustenau.at/veranstaltung/slam-jam/
ORGANIZER;CN="d%C3%B4 f%C3%BCr jung und %C3%A4lter":MAILTO:do@lustenau.at
END:VEVENT
BEGIN:VEVENT
DTSTART;TZID=Europe/Vienna:20250712T140000
DTEND;TZID=Europe/Vienna:20250712T233000
DTSTAMP:20260425T041651
CREATED:20250422T105510Z
LAST-MODIFIED:20250814T145219Z
UID:10003070-1752328800-1752363000@do.lustenau.at
SUMMARY:Summer Of Skate
DESCRIPTION:Summer of Skate 2025 – Programmübersicht \nHerzlich willkommen zum Summer of Skate 2025! Rund um unsere Ausstellung im dô erwartet euch ein vielfältiges Rahmenprogramm für alle Altersgruppen – von Skatekursen für Anfänger:innen bis hin zu kreativen Projekten. Hier findet ihr alle Infos im Überblick: \n\n12. Juli | Slam Jam – Eröffnungsevent\nDer Slam Jam markiert den Startschuss für den Summer of Skate! Euch erwarten spannende Skate-Sessions\, Musik\, Kunst und vieles mehr. Alle Infos zum Slam Jam gibt’s in Kürze auf unserer Website! \n\nÖffnungszeiten Ausstellung\nab 17. Juli | Do\,  Sa: 17 – 20 Uhr \n\nSkatekurse im Habedere Skatepark (ab 6 Jahren)\nSkatekurs für Anfänger:innenDi 15.07. | Mi 16.07. | Do 17.07.8:30 – 9:20 Uhr \nSkatekurs für FortgeschritteneDi 15.07. | Mi 16.07. | Do 17.07.9:45 – 11:15 Uhr \n\nFinissage\nSa 13. September 2025Das genaue Programm folgt im Sommer! \n\nGruppenführungen & Sonderevents\nIhr möchtet eine Führung oder ein spezielles Event für eure Gruppe?Schreibt uns an: do@lustenau.atWir sind offen für flexible Angebote!
URL:https://do.lustenau.at/veranstaltung/summer-of-skate-opening/
ORGANIZER;CN="d%C3%B4 f%C3%BCr jung und %C3%A4lter":MAILTO:do@lustenau.at
END:VEVENT
END:VCALENDAR