BEGIN:VCALENDAR
VERSION:2.0
PRODID:-//dô Lustenau - ECPv6.15.20//NONSGML v1.0//EN
CALSCALE:GREGORIAN
METHOD:PUBLISH
X-WR-CALNAME:dô Lustenau
X-ORIGINAL-URL:https://do.lustenau.at
X-WR-CALDESC:Veranstaltungen für dô Lustenau
REFRESH-INTERVAL;VALUE=DURATION:PT1H
X-Robots-Tag:noindex
X-PUBLISHED-TTL:PT1H
BEGIN:VTIMEZONE
TZID:Europe/Vienna
BEGIN:DAYLIGHT
TZOFFSETFROM:+0100
TZOFFSETTO:+0200
TZNAME:CEST
DTSTART:20240331T010000
END:DAYLIGHT
BEGIN:STANDARD
TZOFFSETFROM:+0200
TZOFFSETTO:+0100
TZNAME:CET
DTSTART:20241027T010000
END:STANDARD
BEGIN:DAYLIGHT
TZOFFSETFROM:+0100
TZOFFSETTO:+0200
TZNAME:CEST
DTSTART:20250330T010000
END:DAYLIGHT
BEGIN:STANDARD
TZOFFSETFROM:+0200
TZOFFSETTO:+0100
TZNAME:CET
DTSTART:20251026T010000
END:STANDARD
BEGIN:DAYLIGHT
TZOFFSETFROM:+0100
TZOFFSETTO:+0200
TZNAME:CEST
DTSTART:20260329T010000
END:DAYLIGHT
BEGIN:STANDARD
TZOFFSETFROM:+0200
TZOFFSETTO:+0100
TZNAME:CET
DTSTART:20261025T010000
END:STANDARD
END:VTIMEZONE
BEGIN:VEVENT
DTSTART;TZID=Europe/Vienna:20251101T170000
DTEND;TZID=Europe/Vienna:20251101T210000
DTSTAMP:20260424T220555
CREATED:20250903T145244Z
LAST-MODIFIED:20250903T145436Z
UID:10003393-1762016400-1762030800@do.lustenau.at
SUMMARY:YARD Jugendtreff
DESCRIPTION:Offener Treff für alle im Alter von 12 – 19 Jahren.\nWeitere Infos folgen…
URL:https://do.lustenau.at/veranstaltung/yard-jugendtreff/2025-11-01/
LOCATION:dô\, Dornbirner Straße 19\, Lustenau\, 6890\, Austria
CATEGORIES:JUGENDTREFF
ORGANIZER;CN="Offene Kinder- und Jugendarbeit Lustenau":MAILTO:ok-ja@lustenau.at
END:VEVENT
BEGIN:VEVENT
DTSTART;TZID=Europe/Vienna:20251106T170000
DTEND;TZID=Europe/Vienna:20251106T210000
DTSTAMP:20260424T220555
CREATED:20250903T145244Z
LAST-MODIFIED:20250903T145436Z
UID:10003311-1762448400-1762462800@do.lustenau.at
SUMMARY:YARD Jugendtreff
DESCRIPTION:Offener Treff für alle im Alter von 12 – 19 Jahren.\nWeitere Infos folgen…
URL:https://do.lustenau.at/veranstaltung/yard-jugendtreff/2025-11-06/
LOCATION:dô\, Dornbirner Straße 19\, Lustenau\, 6890\, Austria
CATEGORIES:JUGENDTREFF
ORGANIZER;CN="Offene Kinder- und Jugendarbeit Lustenau":MAILTO:ok-ja@lustenau.at
END:VEVENT
BEGIN:VEVENT
DTSTART;TZID=Europe/Vienna:20251107T170000
DTEND;TZID=Europe/Vienna:20251107T210000
DTSTAMP:20260424T220555
CREATED:20250903T145244Z
LAST-MODIFIED:20250903T145436Z
UID:10003394-1762534800-1762549200@do.lustenau.at
SUMMARY:YARD Jugendtreff
DESCRIPTION:Offener Treff für alle im Alter von 12 – 19 Jahren.\nWeitere Infos folgen…
URL:https://do.lustenau.at/veranstaltung/yard-jugendtreff/2025-11-07/
LOCATION:dô\, Dornbirner Straße 19\, Lustenau\, 6890\, Austria
CATEGORIES:JUGENDTREFF
ORGANIZER;CN="Offene Kinder- und Jugendarbeit Lustenau":MAILTO:ok-ja@lustenau.at
END:VEVENT
BEGIN:VEVENT
DTSTART;TZID=Europe/Vienna:20251108T170000
DTEND;TZID=Europe/Vienna:20251108T210000
DTSTAMP:20260424T220555
CREATED:20250903T145244Z
LAST-MODIFIED:20250903T145436Z
UID:10003395-1762621200-1762635600@do.lustenau.at
SUMMARY:YARD Jugendtreff
DESCRIPTION:Offener Treff für alle im Alter von 12 – 19 Jahren.\nWeitere Infos folgen…
URL:https://do.lustenau.at/veranstaltung/yard-jugendtreff/2025-11-08/
LOCATION:dô\, Dornbirner Straße 19\, Lustenau\, 6890\, Austria
CATEGORIES:JUGENDTREFF
ORGANIZER;CN="Offene Kinder- und Jugendarbeit Lustenau":MAILTO:ok-ja@lustenau.at
END:VEVENT
BEGIN:VEVENT
DTSTART;TZID=Europe/Vienna:20251113T170000
DTEND;TZID=Europe/Vienna:20251113T210000
DTSTAMP:20260424T220555
CREATED:20250903T145244Z
LAST-MODIFIED:20250903T145436Z
UID:10003312-1763053200-1763067600@do.lustenau.at
SUMMARY:YARD Jugendtreff
DESCRIPTION:Offener Treff für alle im Alter von 12 – 19 Jahren.\nWeitere Infos folgen…
URL:https://do.lustenau.at/veranstaltung/yard-jugendtreff/2025-11-13/
LOCATION:dô\, Dornbirner Straße 19\, Lustenau\, 6890\, Austria
CATEGORIES:JUGENDTREFF
ORGANIZER;CN="Offene Kinder- und Jugendarbeit Lustenau":MAILTO:ok-ja@lustenau.at
END:VEVENT
BEGIN:VEVENT
DTSTART;TZID=Europe/Vienna:20251114T170000
DTEND;TZID=Europe/Vienna:20251114T210000
DTSTAMP:20260424T220555
CREATED:20250903T145244Z
LAST-MODIFIED:20250903T145436Z
UID:10003396-1763139600-1763154000@do.lustenau.at
SUMMARY:YARD Jugendtreff
DESCRIPTION:Offener Treff für alle im Alter von 12 – 19 Jahren.\nWeitere Infos folgen…
URL:https://do.lustenau.at/veranstaltung/yard-jugendtreff/2025-11-14/
LOCATION:dô\, Dornbirner Straße 19\, Lustenau\, 6890\, Austria
CATEGORIES:JUGENDTREFF
ORGANIZER;CN="Offene Kinder- und Jugendarbeit Lustenau":MAILTO:ok-ja@lustenau.at
END:VEVENT
BEGIN:VEVENT
DTSTART;TZID=Europe/Vienna:20251115T140000
DTEND;TZID=Europe/Vienna:20251115T170000
DTSTAMP:20260424T220555
CREATED:20251023T093122Z
LAST-MODIFIED:20251023T093122Z
UID:10003539-1763215200-1763226000@do.lustenau.at
SUMMARY:Kreativangebot für Mädchen*
DESCRIPTION:Weitere Infos folgen noch…
URL:https://do.lustenau.at/veranstaltung/kreativangebot-fuer-maedchen/
LOCATION:dô\, Dornbirner Straße 19\, Lustenau\, 6890\, Austria
CATEGORIES:WORKSHOP
ORGANIZER;CN="Offene Kinder- und Jugendarbeit Lustenau":MAILTO:ok-ja@lustenau.at
END:VEVENT
BEGIN:VEVENT
DTSTART;TZID=Europe/Vienna:20251115T170000
DTEND;TZID=Europe/Vienna:20251115T210000
DTSTAMP:20260424T220555
CREATED:20250903T145244Z
LAST-MODIFIED:20250903T145436Z
UID:10003397-1763226000-1763240400@do.lustenau.at
SUMMARY:YARD Jugendtreff
DESCRIPTION:Offener Treff für alle im Alter von 12 – 19 Jahren.\nWeitere Infos folgen…
URL:https://do.lustenau.at/veranstaltung/yard-jugendtreff/2025-11-15/
LOCATION:dô\, Dornbirner Straße 19\, Lustenau\, 6890\, Austria
CATEGORIES:JUGENDTREFF
ORGANIZER;CN="Offene Kinder- und Jugendarbeit Lustenau":MAILTO:ok-ja@lustenau.at
END:VEVENT
BEGIN:VEVENT
DTSTART;TZID=Europe/Vienna:20251119T170000
DTEND;TZID=Europe/Vienna:20251119T200000
DTSTAMP:20260424T220555
CREATED:20251023T093221Z
LAST-MODIFIED:20251023T093221Z
UID:10003540-1763571600-1763582400@do.lustenau.at
SUMMARY:Lateinamerikanischer Tanz
DESCRIPTION:Weitere Infos folgen noch…
URL:https://do.lustenau.at/veranstaltung/lateinamerikanischer-tanz/
LOCATION:dô\, Dornbirner Straße 19\, Lustenau\, 6890\, Austria
CATEGORIES:WORKSHOP
ORGANIZER;CN="Offene Kinder- und Jugendarbeit Lustenau":MAILTO:ok-ja@lustenau.at
END:VEVENT
BEGIN:VEVENT
DTSTART;TZID=Europe/Vienna:20251120T170000
DTEND;TZID=Europe/Vienna:20251120T210000
DTSTAMP:20260424T220555
CREATED:20250903T145244Z
LAST-MODIFIED:20250903T145436Z
UID:10003313-1763658000-1763672400@do.lustenau.at
SUMMARY:YARD Jugendtreff
DESCRIPTION:Offener Treff für alle im Alter von 12 – 19 Jahren.\nWeitere Infos folgen…
URL:https://do.lustenau.at/veranstaltung/yard-jugendtreff/2025-11-20/
LOCATION:dô\, Dornbirner Straße 19\, Lustenau\, 6890\, Austria
CATEGORIES:JUGENDTREFF
ORGANIZER;CN="Offene Kinder- und Jugendarbeit Lustenau":MAILTO:ok-ja@lustenau.at
END:VEVENT
BEGIN:VEVENT
DTSTART;TZID=Europe/Vienna:20251121T170000
DTEND;TZID=Europe/Vienna:20251121T210000
DTSTAMP:20260424T220555
CREATED:20250903T145244Z
LAST-MODIFIED:20250903T145436Z
UID:10003398-1763744400-1763758800@do.lustenau.at
SUMMARY:YARD Jugendtreff
DESCRIPTION:Offener Treff für alle im Alter von 12 – 19 Jahren.\nWeitere Infos folgen…
URL:https://do.lustenau.at/veranstaltung/yard-jugendtreff/2025-11-21/
LOCATION:dô\, Dornbirner Straße 19\, Lustenau\, 6890\, Austria
CATEGORIES:JUGENDTREFF
ORGANIZER;CN="Offene Kinder- und Jugendarbeit Lustenau":MAILTO:ok-ja@lustenau.at
END:VEVENT
BEGIN:VEVENT
DTSTART;TZID=Europe/Vienna:20251122T170000
DTEND;TZID=Europe/Vienna:20251122T210000
DTSTAMP:20260424T220555
CREATED:20250903T145244Z
LAST-MODIFIED:20250903T145436Z
UID:10003399-1763830800-1763845200@do.lustenau.at
SUMMARY:YARD Jugendtreff
DESCRIPTION:Offener Treff für alle im Alter von 12 – 19 Jahren.\nWeitere Infos folgen…
URL:https://do.lustenau.at/veranstaltung/yard-jugendtreff/2025-11-22/
LOCATION:dô\, Dornbirner Straße 19\, Lustenau\, 6890\, Austria
CATEGORIES:JUGENDTREFF
ORGANIZER;CN="Offene Kinder- und Jugendarbeit Lustenau":MAILTO:ok-ja@lustenau.at
END:VEVENT
BEGIN:VEVENT
DTSTART;TZID=Europe/Vienna:20251126T180000
DTEND;TZID=Europe/Vienna:20251126T200000
DTSTAMP:20260424T220555
CREATED:20251023T093319Z
LAST-MODIFIED:20251023T093319Z
UID:10003541-1764180000-1764187200@do.lustenau.at
SUMMARY:Geschenkwerkstatt
DESCRIPTION:Weitere Infos folgen noch…
URL:https://do.lustenau.at/veranstaltung/geschenkwerkstatt/
LOCATION:dô\, Dornbirner Straße 19\, Lustenau\, 6890\, Austria
CATEGORIES:WORKSHOP
ORGANIZER;CN="Offene Kinder- und Jugendarbeit Lustenau":MAILTO:ok-ja@lustenau.at
END:VEVENT
BEGIN:VEVENT
DTSTART;TZID=Europe/Vienna:20251127T170000
DTEND;TZID=Europe/Vienna:20251127T210000
DTSTAMP:20260424T220555
CREATED:20250903T145244Z
LAST-MODIFIED:20250903T145436Z
UID:10003314-1764262800-1764277200@do.lustenau.at
SUMMARY:YARD Jugendtreff
DESCRIPTION:Offener Treff für alle im Alter von 12 – 19 Jahren.\nWeitere Infos folgen…
URL:https://do.lustenau.at/veranstaltung/yard-jugendtreff/2025-11-27/
LOCATION:dô\, Dornbirner Straße 19\, Lustenau\, 6890\, Austria
CATEGORIES:JUGENDTREFF
ORGANIZER;CN="Offene Kinder- und Jugendarbeit Lustenau":MAILTO:ok-ja@lustenau.at
END:VEVENT
BEGIN:VEVENT
DTSTART;TZID=Europe/Vienna:20251128T170000
DTEND;TZID=Europe/Vienna:20251128T210000
DTSTAMP:20260424T220555
CREATED:20250903T145244Z
LAST-MODIFIED:20250903T145436Z
UID:10003400-1764349200-1764363600@do.lustenau.at
SUMMARY:YARD Jugendtreff
DESCRIPTION:Offener Treff für alle im Alter von 12 – 19 Jahren.\nWeitere Infos folgen…
URL:https://do.lustenau.at/veranstaltung/yard-jugendtreff/2025-11-28/
LOCATION:dô\, Dornbirner Straße 19\, Lustenau\, 6890\, Austria
CATEGORIES:JUGENDTREFF
ORGANIZER;CN="Offene Kinder- und Jugendarbeit Lustenau":MAILTO:ok-ja@lustenau.at
END:VEVENT
BEGIN:VEVENT
DTSTART;TZID=Europe/Vienna:20251129T170000
DTEND;TZID=Europe/Vienna:20251129T210000
DTSTAMP:20260424T220555
CREATED:20250903T145244Z
LAST-MODIFIED:20250903T145436Z
UID:10003401-1764435600-1764450000@do.lustenau.at
SUMMARY:YARD Jugendtreff
DESCRIPTION:Offener Treff für alle im Alter von 12 – 19 Jahren.\nWeitere Infos folgen…
URL:https://do.lustenau.at/veranstaltung/yard-jugendtreff/2025-11-29/
LOCATION:dô\, Dornbirner Straße 19\, Lustenau\, 6890\, Austria
CATEGORIES:JUGENDTREFF
ORGANIZER;CN="Offene Kinder- und Jugendarbeit Lustenau":MAILTO:ok-ja@lustenau.at
END:VEVENT
END:VCALENDAR