BEGIN:VCALENDAR
VERSION:2.0
PRODID:-//dô Lustenau - ECPv6.15.20//NONSGML v1.0//EN
CALSCALE:GREGORIAN
METHOD:PUBLISH
X-WR-CALNAME:dô Lustenau
X-ORIGINAL-URL:https://do.lustenau.at
X-WR-CALDESC:Veranstaltungen für dô Lustenau
REFRESH-INTERVAL;VALUE=DURATION:PT1H
X-Robots-Tag:noindex
X-PUBLISHED-TTL:PT1H
BEGIN:VTIMEZONE
TZID:Europe/Vienna
BEGIN:DAYLIGHT
TZOFFSETFROM:+0100
TZOFFSETTO:+0200
TZNAME:CEST
DTSTART:20260329T010000
END:DAYLIGHT
BEGIN:STANDARD
TZOFFSETFROM:+0200
TZOFFSETTO:+0100
TZNAME:CET
DTSTART:20261025T010000
END:STANDARD
BEGIN:DAYLIGHT
TZOFFSETFROM:+0100
TZOFFSETTO:+0200
TZNAME:CEST
DTSTART:20270328T010000
END:DAYLIGHT
BEGIN:STANDARD
TZOFFSETFROM:+0200
TZOFFSETTO:+0100
TZNAME:CET
DTSTART:20271031T010000
END:STANDARD
BEGIN:DAYLIGHT
TZOFFSETFROM:+0100
TZOFFSETTO:+0200
TZNAME:CEST
DTSTART:20280326T010000
END:DAYLIGHT
BEGIN:STANDARD
TZOFFSETFROM:+0200
TZOFFSETTO:+0100
TZNAME:CET
DTSTART:20281029T010000
END:STANDARD
END:VTIMEZONE
BEGIN:VEVENT
DTSTART;TZID=Europe/Vienna:20270101T170000
DTEND;TZID=Europe/Vienna:20270101T210000
DTSTAMP:20260425T041652
CREATED:20250903T145244Z
LAST-MODIFIED:20250903T145436Z
UID:10003514-1798822800-1798837200@do.lustenau.at
SUMMARY:YARD Jugendtreff
DESCRIPTION:Offener Treff für alle im Alter von 12 – 19 Jahren.\nWeitere Infos folgen…
URL:https://do.lustenau.at/veranstaltung/yard-jugendtreff/2027-01-01/
LOCATION:dô\, Dornbirner Straße 19\, Lustenau\, 6890\, Austria
CATEGORIES:JUGENDTREFF
ORGANIZER;CN="Offene Kinder- und Jugendarbeit Lustenau":MAILTO:ok-ja@lustenau.at
END:VEVENT
BEGIN:VEVENT
DTSTART;TZID=Europe/Vienna:20270102T170000
DTEND;TZID=Europe/Vienna:20270102T210000
DTSTAMP:20260425T041652
CREATED:20250903T145244Z
LAST-MODIFIED:20250903T145436Z
UID:10003515-1798909200-1798923600@do.lustenau.at
SUMMARY:YARD Jugendtreff
DESCRIPTION:Offener Treff für alle im Alter von 12 – 19 Jahren.\nWeitere Infos folgen…
URL:https://do.lustenau.at/veranstaltung/yard-jugendtreff/2027-01-02/
LOCATION:dô\, Dornbirner Straße 19\, Lustenau\, 6890\, Austria
CATEGORIES:JUGENDTREFF
ORGANIZER;CN="Offene Kinder- und Jugendarbeit Lustenau":MAILTO:ok-ja@lustenau.at
END:VEVENT
BEGIN:VEVENT
DTSTART;TZID=Europe/Vienna:20270107T170000
DTEND;TZID=Europe/Vienna:20270107T210000
DTSTAMP:20260425T041652
CREATED:20250903T145244Z
LAST-MODIFIED:20250903T145436Z
UID:10003372-1799341200-1799355600@do.lustenau.at
SUMMARY:YARD Jugendtreff
DESCRIPTION:Offener Treff für alle im Alter von 12 – 19 Jahren.\nWeitere Infos folgen…
URL:https://do.lustenau.at/veranstaltung/yard-jugendtreff/2027-01-07/
LOCATION:dô\, Dornbirner Straße 19\, Lustenau\, 6890\, Austria
CATEGORIES:JUGENDTREFF
ORGANIZER;CN="Offene Kinder- und Jugendarbeit Lustenau":MAILTO:ok-ja@lustenau.at
END:VEVENT
BEGIN:VEVENT
DTSTART;TZID=Europe/Vienna:20270108T170000
DTEND;TZID=Europe/Vienna:20270108T210000
DTSTAMP:20260425T041652
CREATED:20250903T145244Z
LAST-MODIFIED:20250903T145436Z
UID:10003516-1799427600-1799442000@do.lustenau.at
SUMMARY:YARD Jugendtreff
DESCRIPTION:Offener Treff für alle im Alter von 12 – 19 Jahren.\nWeitere Infos folgen…
URL:https://do.lustenau.at/veranstaltung/yard-jugendtreff/2027-01-08/
LOCATION:dô\, Dornbirner Straße 19\, Lustenau\, 6890\, Austria
CATEGORIES:JUGENDTREFF
ORGANIZER;CN="Offene Kinder- und Jugendarbeit Lustenau":MAILTO:ok-ja@lustenau.at
END:VEVENT
BEGIN:VEVENT
DTSTART;TZID=Europe/Vienna:20270109T170000
DTEND;TZID=Europe/Vienna:20270109T210000
DTSTAMP:20260425T041652
CREATED:20250903T145244Z
LAST-MODIFIED:20250903T145436Z
UID:10003517-1799514000-1799528400@do.lustenau.at
SUMMARY:YARD Jugendtreff
DESCRIPTION:Offener Treff für alle im Alter von 12 – 19 Jahren.\nWeitere Infos folgen…
URL:https://do.lustenau.at/veranstaltung/yard-jugendtreff/2027-01-09/
LOCATION:dô\, Dornbirner Straße 19\, Lustenau\, 6890\, Austria
CATEGORIES:JUGENDTREFF
ORGANIZER;CN="Offene Kinder- und Jugendarbeit Lustenau":MAILTO:ok-ja@lustenau.at
END:VEVENT
BEGIN:VEVENT
DTSTART;TZID=Europe/Vienna:20270114T170000
DTEND;TZID=Europe/Vienna:20270114T210000
DTSTAMP:20260425T041652
CREATED:20250903T145244Z
LAST-MODIFIED:20250903T145436Z
UID:10003373-1799946000-1799960400@do.lustenau.at
SUMMARY:YARD Jugendtreff
DESCRIPTION:Offener Treff für alle im Alter von 12 – 19 Jahren.\nWeitere Infos folgen…
URL:https://do.lustenau.at/veranstaltung/yard-jugendtreff/2027-01-14/
LOCATION:dô\, Dornbirner Straße 19\, Lustenau\, 6890\, Austria
CATEGORIES:JUGENDTREFF
ORGANIZER;CN="Offene Kinder- und Jugendarbeit Lustenau":MAILTO:ok-ja@lustenau.at
END:VEVENT
BEGIN:VEVENT
DTSTART;TZID=Europe/Vienna:20270115T170000
DTEND;TZID=Europe/Vienna:20270115T210000
DTSTAMP:20260425T041652
CREATED:20250903T145244Z
LAST-MODIFIED:20250903T145436Z
UID:10003518-1800032400-1800046800@do.lustenau.at
SUMMARY:YARD Jugendtreff
DESCRIPTION:Offener Treff für alle im Alter von 12 – 19 Jahren.\nWeitere Infos folgen…
URL:https://do.lustenau.at/veranstaltung/yard-jugendtreff/2027-01-15/
LOCATION:dô\, Dornbirner Straße 19\, Lustenau\, 6890\, Austria
CATEGORIES:JUGENDTREFF
ORGANIZER;CN="Offene Kinder- und Jugendarbeit Lustenau":MAILTO:ok-ja@lustenau.at
END:VEVENT
BEGIN:VEVENT
DTSTART;TZID=Europe/Vienna:20270116T170000
DTEND;TZID=Europe/Vienna:20270116T210000
DTSTAMP:20260425T041652
CREATED:20250903T145244Z
LAST-MODIFIED:20250903T145436Z
UID:10003519-1800118800-1800133200@do.lustenau.at
SUMMARY:YARD Jugendtreff
DESCRIPTION:Offener Treff für alle im Alter von 12 – 19 Jahren.\nWeitere Infos folgen…
URL:https://do.lustenau.at/veranstaltung/yard-jugendtreff/2027-01-16/
LOCATION:dô\, Dornbirner Straße 19\, Lustenau\, 6890\, Austria
CATEGORIES:JUGENDTREFF
ORGANIZER;CN="Offene Kinder- und Jugendarbeit Lustenau":MAILTO:ok-ja@lustenau.at
END:VEVENT
BEGIN:VEVENT
DTSTART;TZID=Europe/Vienna:20270121T170000
DTEND;TZID=Europe/Vienna:20270121T210000
DTSTAMP:20260425T041652
CREATED:20250903T145244Z
LAST-MODIFIED:20250903T145436Z
UID:10003374-1800550800-1800565200@do.lustenau.at
SUMMARY:YARD Jugendtreff
DESCRIPTION:Offener Treff für alle im Alter von 12 – 19 Jahren.\nWeitere Infos folgen…
URL:https://do.lustenau.at/veranstaltung/yard-jugendtreff/2027-01-21/
LOCATION:dô\, Dornbirner Straße 19\, Lustenau\, 6890\, Austria
CATEGORIES:JUGENDTREFF
ORGANIZER;CN="Offene Kinder- und Jugendarbeit Lustenau":MAILTO:ok-ja@lustenau.at
END:VEVENT
BEGIN:VEVENT
DTSTART;TZID=Europe/Vienna:20270122T170000
DTEND;TZID=Europe/Vienna:20270122T210000
DTSTAMP:20260425T041652
CREATED:20250903T145244Z
LAST-MODIFIED:20250903T145436Z
UID:10003520-1800637200-1800651600@do.lustenau.at
SUMMARY:YARD Jugendtreff
DESCRIPTION:Offener Treff für alle im Alter von 12 – 19 Jahren.\nWeitere Infos folgen…
URL:https://do.lustenau.at/veranstaltung/yard-jugendtreff/2027-01-22/
LOCATION:dô\, Dornbirner Straße 19\, Lustenau\, 6890\, Austria
CATEGORIES:JUGENDTREFF
ORGANIZER;CN="Offene Kinder- und Jugendarbeit Lustenau":MAILTO:ok-ja@lustenau.at
END:VEVENT
BEGIN:VEVENT
DTSTART;TZID=Europe/Vienna:20270123T170000
DTEND;TZID=Europe/Vienna:20270123T210000
DTSTAMP:20260425T041652
CREATED:20250903T145244Z
LAST-MODIFIED:20250903T145436Z
UID:10003521-1800723600-1800738000@do.lustenau.at
SUMMARY:YARD Jugendtreff
DESCRIPTION:Offener Treff für alle im Alter von 12 – 19 Jahren.\nWeitere Infos folgen…
URL:https://do.lustenau.at/veranstaltung/yard-jugendtreff/2027-01-23/
LOCATION:dô\, Dornbirner Straße 19\, Lustenau\, 6890\, Austria
CATEGORIES:JUGENDTREFF
ORGANIZER;CN="Offene Kinder- und Jugendarbeit Lustenau":MAILTO:ok-ja@lustenau.at
END:VEVENT
BEGIN:VEVENT
DTSTART;TZID=Europe/Vienna:20270128T170000
DTEND;TZID=Europe/Vienna:20270128T210000
DTSTAMP:20260425T041652
CREATED:20250903T145244Z
LAST-MODIFIED:20250903T145436Z
UID:10003375-1801155600-1801170000@do.lustenau.at
SUMMARY:YARD Jugendtreff
DESCRIPTION:Offener Treff für alle im Alter von 12 – 19 Jahren.\nWeitere Infos folgen…
URL:https://do.lustenau.at/veranstaltung/yard-jugendtreff/2027-01-28/
LOCATION:dô\, Dornbirner Straße 19\, Lustenau\, 6890\, Austria
CATEGORIES:JUGENDTREFF
ORGANIZER;CN="Offene Kinder- und Jugendarbeit Lustenau":MAILTO:ok-ja@lustenau.at
END:VEVENT
BEGIN:VEVENT
DTSTART;TZID=Europe/Vienna:20270129T170000
DTEND;TZID=Europe/Vienna:20270129T210000
DTSTAMP:20260425T041652
CREATED:20250903T145244Z
LAST-MODIFIED:20250903T145436Z
UID:10003522-1801242000-1801256400@do.lustenau.at
SUMMARY:YARD Jugendtreff
DESCRIPTION:Offener Treff für alle im Alter von 12 – 19 Jahren.\nWeitere Infos folgen…
URL:https://do.lustenau.at/veranstaltung/yard-jugendtreff/2027-01-29/
LOCATION:dô\, Dornbirner Straße 19\, Lustenau\, 6890\, Austria
CATEGORIES:JUGENDTREFF
ORGANIZER;CN="Offene Kinder- und Jugendarbeit Lustenau":MAILTO:ok-ja@lustenau.at
END:VEVENT
BEGIN:VEVENT
DTSTART;TZID=Europe/Vienna:20270130T170000
DTEND;TZID=Europe/Vienna:20270130T210000
DTSTAMP:20260425T041652
CREATED:20250903T145244Z
LAST-MODIFIED:20250903T145436Z
UID:10003523-1801328400-1801342800@do.lustenau.at
SUMMARY:YARD Jugendtreff
DESCRIPTION:Offener Treff für alle im Alter von 12 – 19 Jahren.\nWeitere Infos folgen…
URL:https://do.lustenau.at/veranstaltung/yard-jugendtreff/2027-01-30/
LOCATION:dô\, Dornbirner Straße 19\, Lustenau\, 6890\, Austria
CATEGORIES:JUGENDTREFF
ORGANIZER;CN="Offene Kinder- und Jugendarbeit Lustenau":MAILTO:ok-ja@lustenau.at
END:VEVENT
END:VCALENDAR