BEGIN:VCALENDAR
VERSION:2.0
PRODID:-//dô Lustenau - ECPv6.15.19//NONSGML v1.0//EN
CALSCALE:GREGORIAN
METHOD:PUBLISH
X-WR-CALNAME:dô Lustenau
X-ORIGINAL-URL:https://do.lustenau.at
X-WR-CALDESC:Veranstaltungen für dô Lustenau
REFRESH-INTERVAL;VALUE=DURATION:PT1H
X-Robots-Tag:noindex
X-PUBLISHED-TTL:PT1H
BEGIN:VTIMEZONE
TZID:Europe/Vienna
BEGIN:DAYLIGHT
TZOFFSETFROM:+0100
TZOFFSETTO:+0200
TZNAME:CEST
DTSTART:20210328T010000
END:DAYLIGHT
BEGIN:STANDARD
TZOFFSETFROM:+0200
TZOFFSETTO:+0100
TZNAME:CET
DTSTART:20211031T010000
END:STANDARD
BEGIN:DAYLIGHT
TZOFFSETFROM:+0100
TZOFFSETTO:+0200
TZNAME:CEST
DTSTART:20220327T010000
END:DAYLIGHT
BEGIN:STANDARD
TZOFFSETFROM:+0200
TZOFFSETTO:+0100
TZNAME:CET
DTSTART:20221030T010000
END:STANDARD
BEGIN:DAYLIGHT
TZOFFSETFROM:+0100
TZOFFSETTO:+0200
TZNAME:CEST
DTSTART:20230326T010000
END:DAYLIGHT
BEGIN:STANDARD
TZOFFSETFROM:+0200
TZOFFSETTO:+0100
TZNAME:CET
DTSTART:20231029T010000
END:STANDARD
BEGIN:DAYLIGHT
TZOFFSETFROM:+0100
TZOFFSETTO:+0200
TZNAME:CEST
DTSTART:20240331T010000
END:DAYLIGHT
BEGIN:STANDARD
TZOFFSETFROM:+0200
TZOFFSETTO:+0100
TZNAME:CET
DTSTART:20241027T010000
END:STANDARD
BEGIN:DAYLIGHT
TZOFFSETFROM:+0100
TZOFFSETTO:+0200
TZNAME:CEST
DTSTART:20250330T010000
END:DAYLIGHT
BEGIN:STANDARD
TZOFFSETFROM:+0200
TZOFFSETTO:+0100
TZNAME:CET
DTSTART:20251026T010000
END:STANDARD
END:VTIMEZONE
BEGIN:VTIMEZONE
TZID:UTC
BEGIN:STANDARD
TZOFFSETFROM:+0000
TZOFFSETTO:+0000
TZNAME:UTC
DTSTART:20210101T000000
END:STANDARD
END:VTIMEZONE
BEGIN:VEVENT
DTSTART;TZID=Europe/Vienna:20240711T093000
DTEND;TZID=Europe/Vienna:20240711T110000
DTSTAMP:20260420T122106
CREATED:20240704T065342Z
LAST-MODIFIED:20240704T065417Z
UID:10002975-1720690200-1720695600@do.lustenau.at
SUMMARY:Miniramp-Skatekurs (für Fortgeschrittene)
DESCRIPTION:Bereit\, deine Skills auf ein neues Level zu heben? 🚀 \n\n\nUnser Miniramp-Kurs für fortgeschrittene Skateboarder:innen steht bevor und wir suchen nach Rider:innen\, die bereits sicher auf dem Board unterwegs sind! Wenn du schon Fahren\, Kurven\, sicheres Absteigen\, und vielleicht sogar schon einen Ollie beherrschst\, dann ist dieser Kurs perfekt für dich. Wir werden an grundlegenden Techniken in der Miniramp feilen und gemeinsam bei einer guten Session Neues lernen.  \n\n\nUnterstützen wird dich Florian\, der über 20 Jahre auf dem Rollbrett steht. Melde dich jetzt an und werde Teil unserer Skateboard-Familie! \n\n\nLass uns gemeinsam die Rampen rocken! 🤙\n \n\n\nmin. 3 max. 6 Plätze / Kurse sind nicht aufbauend\, daher nur einmalige Anmeldung möglich\nGrundkönnen erforderlich: sicheres Fahren\, lenken\, Tic-Tac\, von Kante runterfahren\, Ollie (Ansatz zumindest) \nMitzubringen sind: Helm (Pflicht) und Schutzausrüstung (empfohlen).\nProfessionelle Leihskateboards werden von Florian zur Verfügung gestellt. \nAnmeldung mit Erwähnung des gewünschten Kursdatums bis spätestens 7 Tage vor Termin unter ok-ja@lustenau.at oder +43 5577 8181-4054\nACHTUNG: NUR BEI GUTER WITTERUNG
URL:https://do.lustenau.at/veranstaltung/miniramp-skatekurs-fuer-fortgeschrittene/2024-07-11/
LOCATION:dô\, Dornbirner Straße 19\, Lustenau\, 6890\, Austria
ATTACH;FMTTYPE=image/jpeg:https://do.lustenau.at/wp-content/uploads/2024/07/image.jpg
ORGANIZER;CN="d%C3%B4 f%C3%BCr jung und %C3%A4lter":MAILTO:do@lustenau.at
END:VEVENT
BEGIN:VEVENT
DTSTART;TZID=Europe/Vienna:20240711T080000
DTEND;TZID=Europe/Vienna:20240711T120000
DTSTAMP:20260420T122106
CREATED:20240704T063114Z
LAST-MODIFIED:20240704T175548Z
UID:10003001-1720684800-1720699200@do.lustenau.at
SUMMARY:W*ORT: WILMA Woche - WIe Lerne ich durch MAchen?
DESCRIPTION:Ideen sammeln\, austauschen\, Projekte planen\, aufzeichnen\, Material suchen\, etwas erfinden und es bauen.\nIm Team. Das ist WILMA. \n9 – 12 Uhr
URL:https://do.lustenau.at/veranstaltung/wilma-wie-lerne-ich-durch-machen/2024-07-11/
LOCATION:dô\, Dornbirner Straße 19\, Lustenau\, 6890\, Austria
ATTACH;FMTTYPE=image/jpeg:https://do.lustenau.at/wp-content/uploads/2024/07/Unknown-2.jpeg
END:VEVENT
BEGIN:VEVENT
DTSTART;TZID=Europe/Vienna:20240710T080000
DTEND;TZID=Europe/Vienna:20240710T120000
DTSTAMP:20260420T122106
CREATED:20240704T063114Z
LAST-MODIFIED:20240704T175548Z
UID:10003000-1720598400-1720612800@do.lustenau.at
SUMMARY:W*ORT: WILMA Woche - WIe Lerne ich durch MAchen?
DESCRIPTION:Ideen sammeln\, austauschen\, Projekte planen\, aufzeichnen\, Material suchen\, etwas erfinden und es bauen.\nIm Team. Das ist WILMA. \n9 – 12 Uhr
URL:https://do.lustenau.at/veranstaltung/wilma-wie-lerne-ich-durch-machen/2024-07-10/
LOCATION:dô\, Dornbirner Straße 19\, Lustenau\, 6890\, Austria
ATTACH;FMTTYPE=image/jpeg:https://do.lustenau.at/wp-content/uploads/2024/07/Unknown-2.jpeg
END:VEVENT
BEGIN:VEVENT
DTSTART;TZID=Europe/Vienna:20240709T080000
DTEND;TZID=Europe/Vienna:20240709T120000
DTSTAMP:20260420T122106
CREATED:20240704T063114Z
LAST-MODIFIED:20240704T175548Z
UID:10002999-1720512000-1720526400@do.lustenau.at
SUMMARY:W*ORT: WILMA Woche - WIe Lerne ich durch MAchen?
DESCRIPTION:Ideen sammeln\, austauschen\, Projekte planen\, aufzeichnen\, Material suchen\, etwas erfinden und es bauen.\nIm Team. Das ist WILMA. \n9 – 12 Uhr
URL:https://do.lustenau.at/veranstaltung/wilma-wie-lerne-ich-durch-machen/2024-07-09/
LOCATION:dô\, Dornbirner Straße 19\, Lustenau\, 6890\, Austria
ATTACH;FMTTYPE=image/jpeg:https://do.lustenau.at/wp-content/uploads/2024/07/Unknown-2.jpeg
END:VEVENT
BEGIN:VEVENT
DTSTART;TZID=Europe/Vienna:20240708T080000
DTEND;TZID=Europe/Vienna:20240708T120000
DTSTAMP:20260420T122106
CREATED:20240704T063114Z
LAST-MODIFIED:20240704T175548Z
UID:10002972-1720425600-1720440000@do.lustenau.at
SUMMARY:W*ORT: WILMA Woche - WIe Lerne ich durch MAchen?
DESCRIPTION:Ideen sammeln\, austauschen\, Projekte planen\, aufzeichnen\, Material suchen\, etwas erfinden und es bauen.\nIm Team. Das ist WILMA. \n9 – 12 Uhr
URL:https://do.lustenau.at/veranstaltung/wilma-wie-lerne-ich-durch-machen/2024-07-08/
LOCATION:dô\, Dornbirner Straße 19\, Lustenau\, 6890\, Austria
ATTACH;FMTTYPE=image/jpeg:https://do.lustenau.at/wp-content/uploads/2024/07/Unknown-2.jpeg
END:VEVENT
BEGIN:VEVENT
DTSTART;TZID=Europe/Vienna:20240619T170000
DTEND;TZID=Europe/Vienna:20240619T190000
DTSTAMP:20260420T122106
CREATED:20240227T121702Z
LAST-MODIFIED:20240227T123048Z
UID:10002968-1718816400-1718823600@do.lustenau.at
SUMMARY:Silent Book Club für Teenager
DESCRIPTION:Der Silent Book Club ist ein Buchclub\, bei dem nichts Pflicht ist. Du liest gerne\, redest aber nicht gerne vor anderen? Willkommen in unserem Club! Je einmal im Monat treffen wir uns in Lustenau und Dornbirn für zwei Stunden. Wir beginnen mit einem gemütlichen Beisammensein\, bei dem du uns von deiner aktuellen Lektüre erzählen kannst\, wenn du möchtest. Dann suchen sich alle einen gemütlichen Platz in der Jugendbibliothek\, um eine Stunde lang zu lesen oder ein Hörbuch zu hören. Die letzten 30 Minuten sind dazu da\, über das Gelesene zu sprechen oder weiterzulesen\, wenn dir danach ist. Es wird kein Buch zugewiesen: du kannst mit deinem Roman\, Comic oder Zeitschrift kommen. Bei uns gibt es Tee und eine Auswahl an Büchern\, falls du eines brauchst. Du kannst jederzeit vorbeikommen. \nTermine \nStadtbibliothek Dornbirn \n01.03. | 05.04. | 03.05. | 07.06. \n16 – 18 Uhr \nBibliothek Lustenau \n13.03. | 17.04. | 15.05. | 19.06. \n17 – 19 Uhr \nEine Kooperation zwischen der Stadtbibliothek Dornbirn und der Bibliothek Lustenau.
URL:https://do.lustenau.at/veranstaltung/silent-book-club-fuer-teenager/2024-06-19/
LOCATION:dô\, Dornbirner Straße 19\, Lustenau\, 6890\, Austria
ATTACH;FMTTYPE=image/jpeg:https://do.lustenau.at/wp-content/uploads/2024/02/62273-pexels-ichad-windhiagiri-NLgross.jpg
ORGANIZER;CN="Bibliothek Lustenau":MAILTO:bibliothek@lustenau.at
END:VEVENT
BEGIN:VEVENT
DTSTART;TZID=Europe/Vienna:20240515T170000
DTEND;TZID=Europe/Vienna:20240515T190000
DTSTAMP:20260420T122106
CREATED:20240227T121702Z
LAST-MODIFIED:20240227T123048Z
UID:10002967-1715792400-1715799600@do.lustenau.at
SUMMARY:Silent Book Club für Teenager
DESCRIPTION:Der Silent Book Club ist ein Buchclub\, bei dem nichts Pflicht ist. Du liest gerne\, redest aber nicht gerne vor anderen? Willkommen in unserem Club! Je einmal im Monat treffen wir uns in Lustenau und Dornbirn für zwei Stunden. Wir beginnen mit einem gemütlichen Beisammensein\, bei dem du uns von deiner aktuellen Lektüre erzählen kannst\, wenn du möchtest. Dann suchen sich alle einen gemütlichen Platz in der Jugendbibliothek\, um eine Stunde lang zu lesen oder ein Hörbuch zu hören. Die letzten 30 Minuten sind dazu da\, über das Gelesene zu sprechen oder weiterzulesen\, wenn dir danach ist. Es wird kein Buch zugewiesen: du kannst mit deinem Roman\, Comic oder Zeitschrift kommen. Bei uns gibt es Tee und eine Auswahl an Büchern\, falls du eines brauchst. Du kannst jederzeit vorbeikommen. \nTermine \nStadtbibliothek Dornbirn \n01.03. | 05.04. | 03.05. | 07.06. \n16 – 18 Uhr \nBibliothek Lustenau \n13.03. | 17.04. | 15.05. | 19.06. \n17 – 19 Uhr \nEine Kooperation zwischen der Stadtbibliothek Dornbirn und der Bibliothek Lustenau.
URL:https://do.lustenau.at/veranstaltung/silent-book-club-fuer-teenager/2024-05-15/
LOCATION:dô\, Dornbirner Straße 19\, Lustenau\, 6890\, Austria
ATTACH;FMTTYPE=image/jpeg:https://do.lustenau.at/wp-content/uploads/2024/02/62273-pexels-ichad-windhiagiri-NLgross.jpg
ORGANIZER;CN="Bibliothek Lustenau":MAILTO:bibliothek@lustenau.at
END:VEVENT
BEGIN:VEVENT
DTSTART;TZID=Europe/Vienna:20240417T170000
DTEND;TZID=Europe/Vienna:20240417T190000
DTSTAMP:20260420T122106
CREATED:20240227T121702Z
LAST-MODIFIED:20240227T123048Z
UID:10002966-1713373200-1713380400@do.lustenau.at
SUMMARY:Silent Book Club für Teenager
DESCRIPTION:Der Silent Book Club ist ein Buchclub\, bei dem nichts Pflicht ist. Du liest gerne\, redest aber nicht gerne vor anderen? Willkommen in unserem Club! Je einmal im Monat treffen wir uns in Lustenau und Dornbirn für zwei Stunden. Wir beginnen mit einem gemütlichen Beisammensein\, bei dem du uns von deiner aktuellen Lektüre erzählen kannst\, wenn du möchtest. Dann suchen sich alle einen gemütlichen Platz in der Jugendbibliothek\, um eine Stunde lang zu lesen oder ein Hörbuch zu hören. Die letzten 30 Minuten sind dazu da\, über das Gelesene zu sprechen oder weiterzulesen\, wenn dir danach ist. Es wird kein Buch zugewiesen: du kannst mit deinem Roman\, Comic oder Zeitschrift kommen. Bei uns gibt es Tee und eine Auswahl an Büchern\, falls du eines brauchst. Du kannst jederzeit vorbeikommen. \nTermine \nStadtbibliothek Dornbirn \n01.03. | 05.04. | 03.05. | 07.06. \n16 – 18 Uhr \nBibliothek Lustenau \n13.03. | 17.04. | 15.05. | 19.06. \n17 – 19 Uhr \nEine Kooperation zwischen der Stadtbibliothek Dornbirn und der Bibliothek Lustenau.
URL:https://do.lustenau.at/veranstaltung/silent-book-club-fuer-teenager/2024-04-17/
LOCATION:dô\, Dornbirner Straße 19\, Lustenau\, 6890\, Austria
ATTACH;FMTTYPE=image/jpeg:https://do.lustenau.at/wp-content/uploads/2024/02/62273-pexels-ichad-windhiagiri-NLgross.jpg
ORGANIZER;CN="Bibliothek Lustenau":MAILTO:bibliothek@lustenau.at
END:VEVENT
BEGIN:VEVENT
DTSTART;TZID=Europe/Vienna:20240313T170000
DTEND;TZID=Europe/Vienna:20240313T190000
DTSTAMP:20260420T122106
CREATED:20240227T121702Z
LAST-MODIFIED:20240227T123048Z
UID:10002965-1710349200-1710356400@do.lustenau.at
SUMMARY:Silent Book Club für Teenager
DESCRIPTION:Der Silent Book Club ist ein Buchclub\, bei dem nichts Pflicht ist. Du liest gerne\, redest aber nicht gerne vor anderen? Willkommen in unserem Club! Je einmal im Monat treffen wir uns in Lustenau und Dornbirn für zwei Stunden. Wir beginnen mit einem gemütlichen Beisammensein\, bei dem du uns von deiner aktuellen Lektüre erzählen kannst\, wenn du möchtest. Dann suchen sich alle einen gemütlichen Platz in der Jugendbibliothek\, um eine Stunde lang zu lesen oder ein Hörbuch zu hören. Die letzten 30 Minuten sind dazu da\, über das Gelesene zu sprechen oder weiterzulesen\, wenn dir danach ist. Es wird kein Buch zugewiesen: du kannst mit deinem Roman\, Comic oder Zeitschrift kommen. Bei uns gibt es Tee und eine Auswahl an Büchern\, falls du eines brauchst. Du kannst jederzeit vorbeikommen. \nTermine \nStadtbibliothek Dornbirn \n01.03. | 05.04. | 03.05. | 07.06. \n16 – 18 Uhr \nBibliothek Lustenau \n13.03. | 17.04. | 15.05. | 19.06. \n17 – 19 Uhr \nEine Kooperation zwischen der Stadtbibliothek Dornbirn und der Bibliothek Lustenau.
URL:https://do.lustenau.at/veranstaltung/silent-book-club-fuer-teenager/2024-03-13/
LOCATION:dô\, Dornbirner Straße 19\, Lustenau\, 6890\, Austria
ATTACH;FMTTYPE=image/jpeg:https://do.lustenau.at/wp-content/uploads/2024/02/62273-pexels-ichad-windhiagiri-NLgross.jpg
ORGANIZER;CN="Bibliothek Lustenau":MAILTO:bibliothek@lustenau.at
END:VEVENT
BEGIN:VEVENT
DTSTART;TZID=Europe/Vienna:20231213T170000
DTEND;TZID=Europe/Vienna:20231213T190000
DTSTAMP:20260420T122106
CREATED:20231206T101757Z
LAST-MODIFIED:20231206T101757Z
UID:10002567-1702486800-1702494000@do.lustenau.at
SUMMARY:Adventstimmung zwischen Büchern: Geschichten\, Lieder und Punsch
DESCRIPTION:Tauchen Sie ein in die festliche Atmosphäre der Vorweihnachtszeit in der Bibliothek Lustenau! Am 13. Dezember von 17 bis 19 Uhr laden wir Sie herzlich zu einem besonderen Abend ein. Erleben Sie adventliche Musik der Schüler:innen der Rheintalischen Musikschule Lustenau\, begleitet von einem Duft von frisch zubereitetem Punsch und köstlichen Keksen. \nGenießen Sie mit uns stimmungsvolle Weihnachtstexte und Geschichten\, gelesen\, von Mitarbeiter:innen der Bibliothek. Dieser Abend markiert nicht nur die festliche Zeit\, sondern auch das Ende eines arbeitsreichen Jahres für uns in der Bibliothek. Wir möchten diese Gelegenheit nutzen\, um in gemütlicher Runde in unserem neuen zu Hause im dô zusammenzukommen. \nFeiern Sie mit uns ein feierliches Beisammensein in vorweihnachtlicher Atmosphäre. Wir freuen uns darauf\, gemeinsam die Adventsstimmung zu erleben und das Jahr auf besinnliche Weise ausklingen zu lassen! \nFactbox\n\n„Adventsstimmung zwischen Büchern: Geschichten\, Lieder und Punsch“\n13. Dezember 2023\, 17 – 19 Uhr\nBibliothek Lustenau\, Dornbirner Straße 19\nPunsch & Kekse\nRheintalische Musikschule Lustenau
URL:https://do.lustenau.at/veranstaltung/adventstimmung-zwischen-buechern-geschichten-lieder-und-punsch/
LOCATION:dô\, Dornbirner Straße 19\, Lustenau\, 6890\, Austria
ORGANIZER;CN="Bibliothek Lustenau":MAILTO:bibliothek@lustenau.at
END:VEVENT
BEGIN:VEVENT
DTSTART;TZID=Europe/Vienna:20230629T083000
DTEND;TZID=Europe/Vienna:20230629T160000
DTSTAMP:20260420T122106
CREATED:20230419T133134Z
LAST-MODIFIED:20230420T071807Z
UID:10000106-1688027400-1688054400@do.lustenau.at
SUMMARY:Jugendkongress (Schulbezogene Veranstaltung > Mach-Was-Tage)
DESCRIPTION:Sinn:Voll:Leben. Selbstbewusst und sinnerfüllt. Im Dialog mit sich selbst  \nEin Tag für Dich. Mit Selbstbestimmung\, Selbsterfahrung und der Frage nach dem persönlichen Sinn. Wofür stehst Du? Was ist Dir wichtig? Was ist für Dich stimmig? Welche Deiner Potenziale möchtest Du entfalten? Welche Antworten gibst Du dem Leben in herausfordernden Situationen? Diesen Fragen gehen wir auf dem Jugendkongress mit kompetenten Workshopleitern nach. Unser Ziel: Dich zu unterstützen\, selbstbewusst und sinnerfüllt durchs Leben zu gehen. \nEintauchen\, In-sich-Hineinhören\, Kennenlernen\, Schnuppern\, Vertiefen\, Unterhalten\, (kreatives) Gestalten\, … \nFachlicher Hintergrund:  \nDiesen bildet das Gedankengut Viktor Frankls und die Weiterentwicklung der Logotherapie zur Existenzanalyse durch Alfried Längle. Beides ist gut geeignet allen Menschen\, Kindern und Jugendlichen eine wirksame Lebenshilfe und Orientierung zu bieten sowie (willens)stärkende/motivierende/belebende Sinngehalte aufleuchten zu lassen. \nWarum? \nDas Thema psychosoziale Gesundheit ist – insbesondere seit den Krisen der letzten Jahre – in aller Munde. Die psychosoziale und mentale Gesundheit von Jugendlichen zu fördern\, ist Ziel dieses Kongresses. Dabei setzen wir auf deren personale Werte und Potenziale\, stimulieren Selbstreflexion und Selbstwirksamkeit. Wir machen uns mit den Jugendlichen auf die Suche nach ihrem persönlichen Lebenssinn und stärken sie damit in ihrer Person. Diese Ressourcenorientierung unterstützt sie dabei\, ausweichenden Verhaltensweisen und Belastungen vorzubeugen und ihre Resilienz weiterzuentwickeln. \nWozu? \nIm Einzelnen lassen wir uns von folgenden Zielen leiten: \n\nJugendliche lernen die eigenen Gefühle und Emotionen als Wegweiser für Ihr Leben wahrzunehmen;\nSie gewinnen Sicherheit im Umgang mit sich\, den Mitmenschen und den Herausforderungen des Alltags;\nSie entwickeln Lebens- und Sinnperspektiven für sich selbst;\nSie finden dadurch Stabilität in der permanenten Unruhe des Alltags.\n\nWer? \nEingeladen: Alle interessierten Jugendlichen zwischen 15 und 19 Jahren. \nVeranstalter: Institut für Existenzielle Pädagogik: https://www.existenzielle-paedagogik.at/ und Dô Lustenau\, OK-JA Lustenau. \nIn Kooperation mit: AHA Jugendinfo\, Stadt Dornbirn\, Schülerunion\, Aktion Kritischer Schüler*innen (AKS) und Landesschülervertretung. \nAls schulbezogene Veranstaltung richtet sich der Kongress an Schülerinnen und Schüler der 9. bis 13. Schulstufe. Die Teilnahme ganzer Klassen ist nach Maßgabe freier Plätze möglich. \nFachliche Leitung und Moderation: Dr. Eva Maria Waibel \nWorkshopleiter: \nMag. Thomas Happ\, BEd.: Im Dialog mit der Welt und mit mir \nMag. Johannes Rauch: Ich mit mir \nAndreas Wurzrainer\, M. A.\, BEd.: Potenziale (er)finden – dem Leben antworten \nAtelierleiter: \nFlorian Gerer: Artlab\nMartin Greil:\nMag. Johannes Rauch: Was tut mir gut? \nWas? \nProgrammablauf: \n08:30 – 09:00 Uhr: Gemeinsamer Einstieg mit den Workshopleitern (Ziel des Kongresses\, Viktor Frankl\, Existenzanalyse\, Vorstellung der einzelnen Workshops\, …) \n09:00 – 10:45 Uhr: Drei parallele Workshops \n10:45 – 11:15 Uhr: Pause \n11:15 – 12:45 Uhr: Kreative Umsetzung in Ateliers \n12:45 – 14:00 Uhr: Mittagessen (Buffet) \n14:00 – 15:30 Uhr: Drei parallele Workshops \n15:30 – 16:00 Uhr: Gemeinsamer Abschluss \nAb 16:00 Uhr: Ausklang \n  \nWorkshops \nDipl. Päd. Mag. Thomas Happ\, Dozent Pädagogische Hochschule Tirol \nIm Dialog mit der Welt und mit mir \nMit mir und der Welt im Gespräch sein? Wie soll das gehen? Wofür soll dies gut sein? Die Welt mit ihren Herausforderungen und das Leben mit seinen Belastungen – das reicht. Wie kann ich in dieser Welt ein gutes Leben führen? Das möchten wir alle. Aber das geschieht nicht von allein. Es erfordert unsere Beteiligung\, unser Einlassen. Mehr dazu im Workshop. \n— \nMag. Johannes Rauch\, Psychotherapeut\, ehem. Leiter der Drogenstation Carina \nIch mit mir \nNicht nur ich bin für meine Selbstfindung zuständig\, sondern auch die Menschen um mich herum. Und das gerade in meiner Jugendzeit. Nicht alle Impulse sind hilfreich. Deshalb fragen wir uns im Workshop: „Wie erkenne ich\, welche Personen mich mir näherbringen bzw. mir guttun und was ist zu beachten bei Personen\, die mich von mir entfremden möchten?“ \n— \n Dipl. Päd. Andreas Wurzrainer\, Dozent Pädagogische Hochschule Tirol \nPotenziale (er)finden – dem Leben antworten \nPotenzialität: Wir erkunden diese Welt der Potenziale. Wenn wir lernen\, die Potenziale der Situation zu erkennen und diese anzusprechen\, reagieren wir anders auf alltägliche Herausforderungen und Belastungen. Im Workshop experimentieren wir mit Möglichkeiten zur Stärkung der Person und üben uns in einer Perspektive\, die es uns erleichtert\, das eigene Leben zu gestalten. \n— \nAteliers \nFlorian Gerer\, Intendant für Jugend- und Kulturprojekte\, Fachbereichsleitung OK-JA! \nArtlab \nIm Artlab kannst Du spielerisch und experimentell mit dem Medium Malerei\, Zeichnung oder Grafik arbeiten und dabei den gehörten Themen nachgehen. Du kannst großflächig an der Malwand den Pinsel schwingen oder aus deinen Skizzen und Zeichnungen Sticker gestalten. Du kannst aber auch ganz klassisch einen Button gestalten. Oder doch einfach alles ein wenig durchprobieren. Es ist dir überlassen … \n— \nMag. Johannes Rauch\, Psychotherapeut\, ehem. Leiter der Drogenstation Carina \nWas tut mir gut?  \nIn diesem Atelier bringen wir mit einfachen Buntstiften und Malkreiden unsere Erfahrungen und Wahrnehmungen zu folgenden Fragen aufs Papier: Wo und wie spüre ich\, was mir guttut? Sind es meine Emotionen und wenn ja\, welche\, die es gut mit mir meinen? \n— \nMartin Greil  \nGehört gehört \nIn diesem Sonic Arts Atelier erarbeiten wir eine Klangcollage\, die wir auf der Suche nach Stimmungsbildern\, mit gegebenen Medien zusammenführen. Gesammelte\, lebenswerte Augenblicke werden festgehalten\, verschoben und übereinandergelegt. Das Erhörte kann mit hinausgetragen sowie freudig weitergegeben werden. \n—  \nVerpflegung \nTeilnahme und Verpflegung sind für die Jugendlichen kostenlos. Verpflegung durch die Dornbirner Jugendwerkstätten. \nAnmeldung: \nAnmeldung bis spätestens 31. Mai 2023 (digital) über den beiliegenden QR-Code oder https://www.aha.or.at/event/jugendkongress an das AHA. Die Plätze werden in der Reihenfolge des Eingangs vergeben. Gerne kann auch eine ganze Klasse teilnehmen.
URL:https://do.lustenau.at/veranstaltung/jugendkongress-schulbezogene-veranstaltung-mach-was-tage/
LOCATION:dô\, Dornbirner Straße 19\, Lustenau\, 6890\, Austria
ATTACH;FMTTYPE=image/png:https://do.lustenau.at/wp-content/uploads/2023/04/Insta-Beitrag-Werbung-Jugendkongress.png
ORGANIZER;CN="Offene Kinder- und Jugendarbeit Lustenau":MAILTO:ok-ja@lustenau.at
END:VEVENT
BEGIN:VEVENT
DTSTART;VALUE=DATE:20230522
DTEND;VALUE=DATE:20230602
DTSTAMP:20260420T122106
CREATED:20230419T131045Z
LAST-MODIFIED:20230420T070939Z
UID:10000098-1684713600-1685663999@do.lustenau.at
SUMMARY:Theaterprobe VS Kirchdorf
DESCRIPTION:
URL:https://do.lustenau.at/veranstaltung/theaterprobe-vs-kirchdorf/
LOCATION:dô\, Dornbirner Straße 19\, Lustenau\, 6890\, Austria
END:VEVENT
BEGIN:VEVENT
DTSTART;TZID=Europe/Vienna:20230512T160000
DTEND;TZID=Europe/Vienna:20230512T180000
DTSTAMP:20260420T122106
CREATED:20230510T114407Z
LAST-MODIFIED:20230510T114407Z
UID:10000108-1683907200-1683914400@do.lustenau.at
SUMMARY:Modeschau youngCaritas
DESCRIPTION:Modeschau für den guten Zweck. Die Veranstaltung ist organisiert von Schüler:innen und der youngCaritas.\nSchaut doch vorbei und lasst euch überraschen!
URL:https://do.lustenau.at/veranstaltung/modeschau-youngcaritas/
LOCATION:dô\, Dornbirner Straße 19\, Lustenau\, 6890\, Austria
END:VEVENT
BEGIN:VEVENT
DTSTART;VALUE=DATE:20221006
DTEND;VALUE=DATE:20221021
DTSTAMP:20260420T122106
CREATED:20221003T131012Z
LAST-MODIFIED:20221003T131012Z
UID:10000034-1665014400-1666310399@do.lustenau.at
SUMMARY:Sammlung für Calais/Frankreich
DESCRIPTION:Auch heuer hat Elke Riedmann aus Lustenau\, eine Sammelaktion für die NGO Karawane der Menschlichkeit  organisiert. Diesmal sammeln wir im dô für Calais/Frankreich. Wir haben bereits schon ein paar Kisten voller Kleidung welche vom Kleidertausch übrig geblieben sind! Danke dafür! \nWir würden uns sehr über zahlreiche Sachspenden freuen. Unten haben wir die Liste der benötigten Güter angeführt. Darauf bitte achten. \nVielen Dank für die Solidarität! \nSammelzeitraum:\n6. Oktober bis 20 Oktober\nMontag bis Samstag von 10 bis 19 Uhr! \nAnsprechpartner:in :\nElke Riedmann: 0699 12699922\nFlorian Gerer: 0664 9693748 \nDRINGEND BENÖTIGTE HILFSGÜTER: NUR FÜR MÄNNER! \n\nspeziell Größen S und M: Jacken (dünn\, dick\, wasserfest)\, Pullover\, T-Shirts (lang-/kurzarm)\nSkinny Jeans\, Jogginghosen (Größe 28-32)\nTurnschuhe & feste Schuhe (Größe 42 bis 46+)\nneue Unterhosen\, Boxershorts\nThermo-Unterwäsche\ndünne\, dunkle Socken\nWinter-Handschuhe Hauben\, Schals\, Gürtel\nRucksäcke (20-30l)\nRegenkleidung\, Ponchos\nDecken\, Schlafsäcke\, Isomatten\nZelte\, Planen\nZahnbürsten\, Zahnpasta\nSeifen (in Stücken)\nShampoo\, Duschgel (Reisegröße)\nTaschentücher\n\nBITTE BEACHTEN: WENN MÖGLICH DIE SACHSPENDEN IN BANANEN-KARTONS VERPACKEN! \nBITTE KEINEN SPERRMÜLL BRINGEN!! \nWeitere Infos: \nflyer-calais_A4_lustenau_kontakte
URL:https://do.lustenau.at/veranstaltung/sammlung-fuer-calais-frankreich/
LOCATION:dô\, Dornbirner Straße 19\, Lustenau\, 6890\, Austria
ATTACH;FMTTYPE=image/jpeg:https://do.lustenau.at/wp-content/uploads/2022/10/SON2177-Large-800x533-1.jpg
END:VEVENT
BEGIN:VEVENT
DTSTART;TZID=UTC:20220910T123000
DTEND;TZID=UTC:20220910T143000
DTSTAMP:20260420T122106
CREATED:20220615T103936Z
LAST-MODIFIED:20220615T103936Z
UID:10000031-1662813000-1662820200@do.lustenau.at
SUMMARY:Hoop Dance Workshop | OK-JA!
DESCRIPTION:Dieser Workshop richtet sich an all‘ die fortge­schrittenen Hoop-Tänzer:innen da draußen! Im Workshop lernst du anspruchsvollere Tanz- und Trickabfolgen kennen\, kreierst durch Ausprobieren eigene\, neue Moves und kombinierst diese – die Möglichkeiten sind dabei unendlich! Im Workshop erhältst du ebenso einen Einblick in die Welt des „Double Hoopings“ – Action mit zwei Reifen! \nAlter: ab 8 Jahren\nInfo: max. 10 Teilnehmer:innen\nProjektleiterin: Coratiana Luburic\nAnmeldung: bis 3 Tage vor Workshop-Beginn bei Croatiana Luburic\, T 0650 3882920\, flowarts(dot)vlbg(at)gmail(dot)com \nmitzubringen sind: rutschfeste Kleidung\, z. B. aus Baumwolle\, Trinkflasche \n  \nFoto: Yan Krukov via Pexels
URL:https://do.lustenau.at/veranstaltung/hoop-dance-workshop-ok-ja-2/
LOCATION:dô\, Dornbirner Straße 19\, Lustenau\, 6890\, Austria
ATTACH;FMTTYPE=image/jpeg:https://do.lustenau.at/wp-content/uploads/2022/06/Symbolbild-Hula-Hoop-WS-scaled.jpg
ORGANIZER;CN="Offene Kinder- und Jugendarbeit Lustenau":MAILTO:ok-ja@lustenau.at
END:VEVENT
BEGIN:VEVENT
DTSTART;TZID=UTC:20220715T100000
DTEND;TZID=UTC:20220715T130000
DTSTAMP:20260420T122106
CREATED:20220615T105250Z
LAST-MODIFIED:20220615T105250Z
UID:10000033-1657879200-1657890000@do.lustenau.at
SUMMARY:Gestalte deinen eigenen Miniaturgarten | OK-JA!
DESCRIPTION:Erstelle deinen eigenen kleinen Garten im Miniaturformat mit den dazugehörigen Möbeln und allem\, was dir sonst noch dazu einfällt. Deiner Fantasie sind keine Grenzen gesetzt! Ob ein bunter Blumengarten\, ein moderner Garten mit Pool oder vielleicht doch ein Märchengarten – deine Entscheidung! \nAlter: 8 – 12 Jahre\nInfo: max. 15 Teilnehmer:innen\nProjektleiterin: Celina Peter\nAnmeldung: bis 8.7.2022 bei Celina Peter\, T 0664 78010099\, ok-ja@lustenau.at \nmitzubringen sind: eine dichte Schachtel\, Kiste\, usw.\, in welcher der Garten angelegt werden kann \n  \nFoto: Tawnyowl via Pixabay
URL:https://do.lustenau.at/veranstaltung/gestalte-deinen-eigenen-miniaturgarten-ok-ja/
LOCATION:dô\, Dornbirner Straße 19\, Lustenau\, 6890\, Austria
ATTACH;FMTTYPE=image/jpeg:https://do.lustenau.at/wp-content/uploads/2022/06/Symbolbild-Miniaturgaerten.jpg
ORGANIZER;CN="Offene Kinder- und Jugendarbeit Lustenau":MAILTO:ok-ja@lustenau.at
END:VEVENT
BEGIN:VEVENT
DTSTART;TZID=UTC:20220715T080000
DTEND;TZID=UTC:20220715T120000
DTSTAMP:20260420T122106
CREATED:20220615T093720Z
LAST-MODIFIED:20220624T133645Z
UID:10000022-1657872000-1657886400@do.lustenau.at
SUMMARY:D.I.Y Hoops | OK-JA!
DESCRIPTION:D.I.Y. Hula-Hoop! In diesem Workshop wird zuerst gewerkelt – ein eigener Hula-Hoop-Reifen wird produziert und nach Wunsch designt und dekoriert. Nach ein paar Auflockerungsübungen geht´s ans Eingemachte. Wir lernen erste Schritte des Hoop Dance\, spielerisch erkunden wir neue Moves und Tricks mit dem Reifen. Hoop Dance macht gute Laune\, bringt dich in Form und ist mehr\, als nur Reifen um die Hüften kreisen lassen – sei gespannt! Materialkosten und eine kleine Jause sind inkludiert. \nProjektleiterin: Croatiana Luburic\nAlter: ab 6 Jahren\nmitzubringen sind: rutschfeste Kleidung\, z. B. aus Baumwolle\, Trinkflasche\nAnmeldung: bis 3 Tage vor Workshop-Beginn bei Croatiana Luburic\, T 0650 3882920 flowarts.vlbg@gmail.com \nBild: Yan Krukov via Pexels
URL:https://do.lustenau.at/veranstaltung/d-i-y-hoops-mit-croatiana-luburic/
LOCATION:dô\, Dornbirner Straße 19\, Lustenau\, 6890\, Austria
ATTACH;FMTTYPE=image/jpeg:https://do.lustenau.at/wp-content/uploads/2022/06/Symbolbild-Hula-Hoop-WS-scaled.jpg
END:VEVENT
END:VCALENDAR