BEGIN:VCALENDAR
VERSION:2.0
PRODID:-//dô Lustenau - ECPv6.15.19//NONSGML v1.0//EN
CALSCALE:GREGORIAN
METHOD:PUBLISH
X-WR-CALNAME:dô Lustenau
X-ORIGINAL-URL:https://do.lustenau.at
X-WR-CALDESC:Veranstaltungen für dô Lustenau
REFRESH-INTERVAL;VALUE=DURATION:PT1H
X-Robots-Tag:noindex
X-PUBLISHED-TTL:PT1H
BEGIN:VTIMEZONE
TZID:Europe/Vienna
BEGIN:DAYLIGHT
TZOFFSETFROM:+0100
TZOFFSETTO:+0200
TZNAME:CEST
DTSTART:20210328T010000
END:DAYLIGHT
BEGIN:STANDARD
TZOFFSETFROM:+0200
TZOFFSETTO:+0100
TZNAME:CET
DTSTART:20211031T010000
END:STANDARD
BEGIN:DAYLIGHT
TZOFFSETFROM:+0100
TZOFFSETTO:+0200
TZNAME:CEST
DTSTART:20220327T010000
END:DAYLIGHT
BEGIN:STANDARD
TZOFFSETFROM:+0200
TZOFFSETTO:+0100
TZNAME:CET
DTSTART:20221030T010000
END:STANDARD
BEGIN:DAYLIGHT
TZOFFSETFROM:+0100
TZOFFSETTO:+0200
TZNAME:CEST
DTSTART:20230326T010000
END:DAYLIGHT
BEGIN:STANDARD
TZOFFSETFROM:+0200
TZOFFSETTO:+0100
TZNAME:CET
DTSTART:20231029T010000
END:STANDARD
BEGIN:DAYLIGHT
TZOFFSETFROM:+0100
TZOFFSETTO:+0200
TZNAME:CEST
DTSTART:20240331T010000
END:DAYLIGHT
BEGIN:STANDARD
TZOFFSETFROM:+0200
TZOFFSETTO:+0100
TZNAME:CET
DTSTART:20241027T010000
END:STANDARD
END:VTIMEZONE
BEGIN:VTIMEZONE
TZID:UTC
BEGIN:STANDARD
TZOFFSETFROM:+0000
TZOFFSETTO:+0000
TZNAME:UTC
DTSTART:20210101T000000
END:STANDARD
END:VTIMEZONE
BEGIN:VEVENT
DTSTART;TZID=Europe/Vienna:20230512T160000
DTEND;TZID=Europe/Vienna:20230512T180000
DTSTAMP:20260420T135402
CREATED:20230510T114407Z
LAST-MODIFIED:20230510T114407Z
UID:10000108-1683907200-1683914400@do.lustenau.at
SUMMARY:Modeschau youngCaritas
DESCRIPTION:Modeschau für den guten Zweck. Die Veranstaltung ist organisiert von Schüler:innen und der youngCaritas.\nSchaut doch vorbei und lasst euch überraschen!
URL:https://do.lustenau.at/veranstaltung/modeschau-youngcaritas/
LOCATION:dô\, Dornbirner Straße 19\, Lustenau\, 6890\, Austria
END:VEVENT
BEGIN:VEVENT
DTSTART;VALUE=DATE:20221006
DTEND;VALUE=DATE:20221021
DTSTAMP:20260420T135402
CREATED:20221003T131012Z
LAST-MODIFIED:20221003T131012Z
UID:10000034-1665014400-1666310399@do.lustenau.at
SUMMARY:Sammlung für Calais/Frankreich
DESCRIPTION:Auch heuer hat Elke Riedmann aus Lustenau\, eine Sammelaktion für die NGO Karawane der Menschlichkeit  organisiert. Diesmal sammeln wir im dô für Calais/Frankreich. Wir haben bereits schon ein paar Kisten voller Kleidung welche vom Kleidertausch übrig geblieben sind! Danke dafür! \nWir würden uns sehr über zahlreiche Sachspenden freuen. Unten haben wir die Liste der benötigten Güter angeführt. Darauf bitte achten. \nVielen Dank für die Solidarität! \nSammelzeitraum:\n6. Oktober bis 20 Oktober\nMontag bis Samstag von 10 bis 19 Uhr! \nAnsprechpartner:in :\nElke Riedmann: 0699 12699922\nFlorian Gerer: 0664 9693748 \nDRINGEND BENÖTIGTE HILFSGÜTER: NUR FÜR MÄNNER! \n\nspeziell Größen S und M: Jacken (dünn\, dick\, wasserfest)\, Pullover\, T-Shirts (lang-/kurzarm)\nSkinny Jeans\, Jogginghosen (Größe 28-32)\nTurnschuhe & feste Schuhe (Größe 42 bis 46+)\nneue Unterhosen\, Boxershorts\nThermo-Unterwäsche\ndünne\, dunkle Socken\nWinter-Handschuhe Hauben\, Schals\, Gürtel\nRucksäcke (20-30l)\nRegenkleidung\, Ponchos\nDecken\, Schlafsäcke\, Isomatten\nZelte\, Planen\nZahnbürsten\, Zahnpasta\nSeifen (in Stücken)\nShampoo\, Duschgel (Reisegröße)\nTaschentücher\n\nBITTE BEACHTEN: WENN MÖGLICH DIE SACHSPENDEN IN BANANEN-KARTONS VERPACKEN! \nBITTE KEINEN SPERRMÜLL BRINGEN!! \nWeitere Infos: \nflyer-calais_A4_lustenau_kontakte
URL:https://do.lustenau.at/veranstaltung/sammlung-fuer-calais-frankreich/
LOCATION:dô\, Dornbirner Straße 19\, Lustenau\, 6890\, Austria
ATTACH;FMTTYPE=image/jpeg:https://do.lustenau.at/wp-content/uploads/2022/10/SON2177-Large-800x533-1.jpg
END:VEVENT
BEGIN:VEVENT
DTSTART;TZID=UTC:20220910T123000
DTEND;TZID=UTC:20220910T143000
DTSTAMP:20260420T135402
CREATED:20220615T103936Z
LAST-MODIFIED:20220615T103936Z
UID:10000031-1662813000-1662820200@do.lustenau.at
SUMMARY:Hoop Dance Workshop | OK-JA!
DESCRIPTION:Dieser Workshop richtet sich an all‘ die fortge­schrittenen Hoop-Tänzer:innen da draußen! Im Workshop lernst du anspruchsvollere Tanz- und Trickabfolgen kennen\, kreierst durch Ausprobieren eigene\, neue Moves und kombinierst diese – die Möglichkeiten sind dabei unendlich! Im Workshop erhältst du ebenso einen Einblick in die Welt des „Double Hoopings“ – Action mit zwei Reifen! \nAlter: ab 8 Jahren\nInfo: max. 10 Teilnehmer:innen\nProjektleiterin: Coratiana Luburic\nAnmeldung: bis 3 Tage vor Workshop-Beginn bei Croatiana Luburic\, T 0650 3882920\, flowarts(dot)vlbg(at)gmail(dot)com \nmitzubringen sind: rutschfeste Kleidung\, z. B. aus Baumwolle\, Trinkflasche \n  \nFoto: Yan Krukov via Pexels
URL:https://do.lustenau.at/veranstaltung/hoop-dance-workshop-ok-ja-2/
LOCATION:dô\, Dornbirner Straße 19\, Lustenau\, 6890\, Austria
ATTACH;FMTTYPE=image/jpeg:https://do.lustenau.at/wp-content/uploads/2022/06/Symbolbild-Hula-Hoop-WS-scaled.jpg
ORGANIZER;CN="Offene Kinder- und Jugendarbeit Lustenau":MAILTO:ok-ja@lustenau.at
END:VEVENT
BEGIN:VEVENT
DTSTART;TZID=UTC:20220715T100000
DTEND;TZID=UTC:20220715T130000
DTSTAMP:20260420T135402
CREATED:20220615T105250Z
LAST-MODIFIED:20220615T105250Z
UID:10000033-1657879200-1657890000@do.lustenau.at
SUMMARY:Gestalte deinen eigenen Miniaturgarten | OK-JA!
DESCRIPTION:Erstelle deinen eigenen kleinen Garten im Miniaturformat mit den dazugehörigen Möbeln und allem\, was dir sonst noch dazu einfällt. Deiner Fantasie sind keine Grenzen gesetzt! Ob ein bunter Blumengarten\, ein moderner Garten mit Pool oder vielleicht doch ein Märchengarten – deine Entscheidung! \nAlter: 8 – 12 Jahre\nInfo: max. 15 Teilnehmer:innen\nProjektleiterin: Celina Peter\nAnmeldung: bis 8.7.2022 bei Celina Peter\, T 0664 78010099\, ok-ja@lustenau.at \nmitzubringen sind: eine dichte Schachtel\, Kiste\, usw.\, in welcher der Garten angelegt werden kann \n  \nFoto: Tawnyowl via Pixabay
URL:https://do.lustenau.at/veranstaltung/gestalte-deinen-eigenen-miniaturgarten-ok-ja/
LOCATION:dô\, Dornbirner Straße 19\, Lustenau\, 6890\, Austria
ATTACH;FMTTYPE=image/jpeg:https://do.lustenau.at/wp-content/uploads/2022/06/Symbolbild-Miniaturgaerten.jpg
ORGANIZER;CN="Offene Kinder- und Jugendarbeit Lustenau":MAILTO:ok-ja@lustenau.at
END:VEVENT
BEGIN:VEVENT
DTSTART;TZID=UTC:20220715T080000
DTEND;TZID=UTC:20220715T120000
DTSTAMP:20260420T135402
CREATED:20220615T093720Z
LAST-MODIFIED:20220624T133645Z
UID:10000022-1657872000-1657886400@do.lustenau.at
SUMMARY:D.I.Y Hoops | OK-JA!
DESCRIPTION:D.I.Y. Hula-Hoop! In diesem Workshop wird zuerst gewerkelt – ein eigener Hula-Hoop-Reifen wird produziert und nach Wunsch designt und dekoriert. Nach ein paar Auflockerungsübungen geht´s ans Eingemachte. Wir lernen erste Schritte des Hoop Dance\, spielerisch erkunden wir neue Moves und Tricks mit dem Reifen. Hoop Dance macht gute Laune\, bringt dich in Form und ist mehr\, als nur Reifen um die Hüften kreisen lassen – sei gespannt! Materialkosten und eine kleine Jause sind inkludiert. \nProjektleiterin: Croatiana Luburic\nAlter: ab 6 Jahren\nmitzubringen sind: rutschfeste Kleidung\, z. B. aus Baumwolle\, Trinkflasche\nAnmeldung: bis 3 Tage vor Workshop-Beginn bei Croatiana Luburic\, T 0650 3882920 flowarts.vlbg@gmail.com \nBild: Yan Krukov via Pexels
URL:https://do.lustenau.at/veranstaltung/d-i-y-hoops-mit-croatiana-luburic/
LOCATION:dô\, Dornbirner Straße 19\, Lustenau\, 6890\, Austria
ATTACH;FMTTYPE=image/jpeg:https://do.lustenau.at/wp-content/uploads/2022/06/Symbolbild-Hula-Hoop-WS-scaled.jpg
END:VEVENT
END:VCALENDAR