BEGIN:VCALENDAR
VERSION:2.0
PRODID:-//dô Lustenau - ECPv6.15.19//NONSGML v1.0//EN
CALSCALE:GREGORIAN
METHOD:PUBLISH
X-WR-CALNAME:dô Lustenau
X-ORIGINAL-URL:https://do.lustenau.at
X-WR-CALDESC:Veranstaltungen für dô Lustenau
REFRESH-INTERVAL;VALUE=DURATION:PT1H
X-Robots-Tag:noindex
X-PUBLISHED-TTL:PT1H
BEGIN:VTIMEZONE
TZID:Europe/Vienna
BEGIN:DAYLIGHT
TZOFFSETFROM:+0100
TZOFFSETTO:+0200
TZNAME:CEST
DTSTART:20260329T010000
END:DAYLIGHT
BEGIN:STANDARD
TZOFFSETFROM:+0200
TZOFFSETTO:+0100
TZNAME:CET
DTSTART:20261025T010000
END:STANDARD
BEGIN:DAYLIGHT
TZOFFSETFROM:+0100
TZOFFSETTO:+0200
TZNAME:CEST
DTSTART:20270328T010000
END:DAYLIGHT
BEGIN:STANDARD
TZOFFSETFROM:+0200
TZOFFSETTO:+0100
TZNAME:CET
DTSTART:20271031T010000
END:STANDARD
BEGIN:DAYLIGHT
TZOFFSETFROM:+0100
TZOFFSETTO:+0200
TZNAME:CEST
DTSTART:20280326T010000
END:DAYLIGHT
BEGIN:STANDARD
TZOFFSETFROM:+0200
TZOFFSETTO:+0100
TZNAME:CET
DTSTART:20281029T010000
END:STANDARD
END:VTIMEZONE
BEGIN:VEVENT
DTSTART;TZID=Europe/Vienna:20270225T170000
DTEND;TZID=Europe/Vienna:20270225T210000
DTSTAMP:20260420T200008
CREATED:20250903T145244Z
LAST-MODIFIED:20250903T145436Z
UID:10003379-1803574800-1803589200@do.lustenau.at
SUMMARY:YARD Jugendtreff
DESCRIPTION:Offener Treff für alle im Alter von 12 – 19 Jahren.\nWeitere Infos folgen…
URL:https://do.lustenau.at/veranstaltung/yard-jugendtreff/2027-02-25/
LOCATION:dô\, Dornbirner Straße 19\, Lustenau\, 6890\, Austria
CATEGORIES:JUGENDTREFF
ORGANIZER;CN="Offene Kinder- und Jugendarbeit Lustenau":MAILTO:ok-ja@lustenau.at
END:VEVENT
BEGIN:VEVENT
DTSTART;TZID=Europe/Vienna:20270226T170000
DTEND;TZID=Europe/Vienna:20270226T210000
DTSTAMP:20260420T200008
CREATED:20250903T145244Z
LAST-MODIFIED:20250903T145436Z
UID:10003530-1803661200-1803675600@do.lustenau.at
SUMMARY:YARD Jugendtreff
DESCRIPTION:Offener Treff für alle im Alter von 12 – 19 Jahren.\nWeitere Infos folgen…
URL:https://do.lustenau.at/veranstaltung/yard-jugendtreff/2027-02-26/
LOCATION:dô\, Dornbirner Straße 19\, Lustenau\, 6890\, Austria
CATEGORIES:JUGENDTREFF
ORGANIZER;CN="Offene Kinder- und Jugendarbeit Lustenau":MAILTO:ok-ja@lustenau.at
END:VEVENT
BEGIN:VEVENT
DTSTART;TZID=Europe/Vienna:20270227T170000
DTEND;TZID=Europe/Vienna:20270227T210000
DTSTAMP:20260420T200008
CREATED:20250903T145244Z
LAST-MODIFIED:20250903T145436Z
UID:10003531-1803747600-1803762000@do.lustenau.at
SUMMARY:YARD Jugendtreff
DESCRIPTION:Offener Treff für alle im Alter von 12 – 19 Jahren.\nWeitere Infos folgen…
URL:https://do.lustenau.at/veranstaltung/yard-jugendtreff/2027-02-27/
LOCATION:dô\, Dornbirner Straße 19\, Lustenau\, 6890\, Austria
CATEGORIES:JUGENDTREFF
ORGANIZER;CN="Offene Kinder- und Jugendarbeit Lustenau":MAILTO:ok-ja@lustenau.at
END:VEVENT
BEGIN:VEVENT
DTSTART;TZID=Europe/Vienna:20270304T170000
DTEND;TZID=Europe/Vienna:20270304T210000
DTSTAMP:20260420T200008
CREATED:20250903T145244Z
LAST-MODIFIED:20250903T145436Z
UID:10003380-1804179600-1804194000@do.lustenau.at
SUMMARY:YARD Jugendtreff
DESCRIPTION:Offener Treff für alle im Alter von 12 – 19 Jahren.\nWeitere Infos folgen…
URL:https://do.lustenau.at/veranstaltung/yard-jugendtreff/2027-03-04/
LOCATION:dô\, Dornbirner Straße 19\, Lustenau\, 6890\, Austria
CATEGORIES:JUGENDTREFF
ORGANIZER;CN="Offene Kinder- und Jugendarbeit Lustenau":MAILTO:ok-ja@lustenau.at
END:VEVENT
BEGIN:VEVENT
DTSTART;TZID=Europe/Vienna:20270305T170000
DTEND;TZID=Europe/Vienna:20270305T210000
DTSTAMP:20260420T200008
CREATED:20250903T145244Z
LAST-MODIFIED:20250903T145436Z
UID:10003532-1804266000-1804280400@do.lustenau.at
SUMMARY:YARD Jugendtreff
DESCRIPTION:Offener Treff für alle im Alter von 12 – 19 Jahren.\nWeitere Infos folgen…
URL:https://do.lustenau.at/veranstaltung/yard-jugendtreff/2027-03-05/
LOCATION:dô\, Dornbirner Straße 19\, Lustenau\, 6890\, Austria
CATEGORIES:JUGENDTREFF
ORGANIZER;CN="Offene Kinder- und Jugendarbeit Lustenau":MAILTO:ok-ja@lustenau.at
END:VEVENT
BEGIN:VEVENT
DTSTART;TZID=Europe/Vienna:20270306T170000
DTEND;TZID=Europe/Vienna:20270306T210000
DTSTAMP:20260420T200008
CREATED:20250903T145244Z
LAST-MODIFIED:20250903T145436Z
UID:10003533-1804352400-1804366800@do.lustenau.at
SUMMARY:YARD Jugendtreff
DESCRIPTION:Offener Treff für alle im Alter von 12 – 19 Jahren.\nWeitere Infos folgen…
URL:https://do.lustenau.at/veranstaltung/yard-jugendtreff/2027-03-06/
LOCATION:dô\, Dornbirner Straße 19\, Lustenau\, 6890\, Austria
CATEGORIES:JUGENDTREFF
ORGANIZER;CN="Offene Kinder- und Jugendarbeit Lustenau":MAILTO:ok-ja@lustenau.at
END:VEVENT
BEGIN:VEVENT
DTSTART;TZID=Europe/Vienna:20270311T170000
DTEND;TZID=Europe/Vienna:20270311T210000
DTSTAMP:20260420T200008
CREATED:20250903T145244Z
LAST-MODIFIED:20250903T145436Z
UID:10003381-1804784400-1804798800@do.lustenau.at
SUMMARY:YARD Jugendtreff
DESCRIPTION:Offener Treff für alle im Alter von 12 – 19 Jahren.\nWeitere Infos folgen…
URL:https://do.lustenau.at/veranstaltung/yard-jugendtreff/2027-03-11/
LOCATION:dô\, Dornbirner Straße 19\, Lustenau\, 6890\, Austria
CATEGORIES:JUGENDTREFF
ORGANIZER;CN="Offene Kinder- und Jugendarbeit Lustenau":MAILTO:ok-ja@lustenau.at
END:VEVENT
BEGIN:VEVENT
DTSTART;TZID=Europe/Vienna:20270312T170000
DTEND;TZID=Europe/Vienna:20270312T210000
DTSTAMP:20260420T200008
CREATED:20250903T145244Z
LAST-MODIFIED:20250903T145436Z
UID:10003534-1804870800-1804885200@do.lustenau.at
SUMMARY:YARD Jugendtreff
DESCRIPTION:Offener Treff für alle im Alter von 12 – 19 Jahren.\nWeitere Infos folgen…
URL:https://do.lustenau.at/veranstaltung/yard-jugendtreff/2027-03-12/
LOCATION:dô\, Dornbirner Straße 19\, Lustenau\, 6890\, Austria
CATEGORIES:JUGENDTREFF
ORGANIZER;CN="Offene Kinder- und Jugendarbeit Lustenau":MAILTO:ok-ja@lustenau.at
END:VEVENT
BEGIN:VEVENT
DTSTART;TZID=Europe/Vienna:20270313T170000
DTEND;TZID=Europe/Vienna:20270313T210000
DTSTAMP:20260420T200008
CREATED:20250903T145244Z
LAST-MODIFIED:20250903T145436Z
UID:10003535-1804957200-1804971600@do.lustenau.at
SUMMARY:YARD Jugendtreff
DESCRIPTION:Offener Treff für alle im Alter von 12 – 19 Jahren.\nWeitere Infos folgen…
URL:https://do.lustenau.at/veranstaltung/yard-jugendtreff/2027-03-13/
LOCATION:dô\, Dornbirner Straße 19\, Lustenau\, 6890\, Austria
CATEGORIES:JUGENDTREFF
ORGANIZER;CN="Offene Kinder- und Jugendarbeit Lustenau":MAILTO:ok-ja@lustenau.at
END:VEVENT
BEGIN:VEVENT
DTSTART;TZID=Europe/Vienna:20270318T170000
DTEND;TZID=Europe/Vienna:20270318T210000
DTSTAMP:20260420T200008
CREATED:20250903T145244Z
LAST-MODIFIED:20250903T145436Z
UID:10003382-1805389200-1805403600@do.lustenau.at
SUMMARY:YARD Jugendtreff
DESCRIPTION:Offener Treff für alle im Alter von 12 – 19 Jahren.\nWeitere Infos folgen…
URL:https://do.lustenau.at/veranstaltung/yard-jugendtreff/2027-03-18/
LOCATION:dô\, Dornbirner Straße 19\, Lustenau\, 6890\, Austria
CATEGORIES:JUGENDTREFF
ORGANIZER;CN="Offene Kinder- und Jugendarbeit Lustenau":MAILTO:ok-ja@lustenau.at
END:VEVENT
BEGIN:VEVENT
DTSTART;TZID=Europe/Vienna:20270319T170000
DTEND;TZID=Europe/Vienna:20270319T210000
DTSTAMP:20260420T200008
CREATED:20250903T145244Z
LAST-MODIFIED:20250903T145436Z
UID:10003536-1805475600-1805490000@do.lustenau.at
SUMMARY:YARD Jugendtreff
DESCRIPTION:Offener Treff für alle im Alter von 12 – 19 Jahren.\nWeitere Infos folgen…
URL:https://do.lustenau.at/veranstaltung/yard-jugendtreff/2027-03-19/
LOCATION:dô\, Dornbirner Straße 19\, Lustenau\, 6890\, Austria
CATEGORIES:JUGENDTREFF
ORGANIZER;CN="Offene Kinder- und Jugendarbeit Lustenau":MAILTO:ok-ja@lustenau.at
END:VEVENT
BEGIN:VEVENT
DTSTART;TZID=Europe/Vienna:20270320T170000
DTEND;TZID=Europe/Vienna:20270320T210000
DTSTAMP:20260420T200008
CREATED:20250903T145244Z
LAST-MODIFIED:20250903T145436Z
UID:10003537-1805562000-1805576400@do.lustenau.at
SUMMARY:YARD Jugendtreff
DESCRIPTION:Offener Treff für alle im Alter von 12 – 19 Jahren.\nWeitere Infos folgen…
URL:https://do.lustenau.at/veranstaltung/yard-jugendtreff/2027-03-20/
LOCATION:dô\, Dornbirner Straße 19\, Lustenau\, 6890\, Austria
CATEGORIES:JUGENDTREFF
ORGANIZER;CN="Offene Kinder- und Jugendarbeit Lustenau":MAILTO:ok-ja@lustenau.at
END:VEVENT
BEGIN:VEVENT
DTSTART;TZID=Europe/Vienna:20270325T170000
DTEND;TZID=Europe/Vienna:20270325T210000
DTSTAMP:20260420T200008
CREATED:20250903T145244Z
LAST-MODIFIED:20250903T145436Z
UID:10003383-1805994000-1806008400@do.lustenau.at
SUMMARY:YARD Jugendtreff
DESCRIPTION:Offener Treff für alle im Alter von 12 – 19 Jahren.\nWeitere Infos folgen…
URL:https://do.lustenau.at/veranstaltung/yard-jugendtreff/2027-03-25/
LOCATION:dô\, Dornbirner Straße 19\, Lustenau\, 6890\, Austria
CATEGORIES:JUGENDTREFF
ORGANIZER;CN="Offene Kinder- und Jugendarbeit Lustenau":MAILTO:ok-ja@lustenau.at
END:VEVENT
END:VCALENDAR