BEGIN:VCALENDAR
VERSION:2.0
PRODID:-//dô Lustenau - ECPv6.15.19//NONSGML v1.0//EN
CALSCALE:GREGORIAN
METHOD:PUBLISH
X-ORIGINAL-URL:https://do.lustenau.at
X-WR-CALDESC:Veranstaltungen für dô Lustenau
REFRESH-INTERVAL;VALUE=DURATION:PT1H
X-Robots-Tag:noindex
X-PUBLISHED-TTL:PT1H
BEGIN:VTIMEZONE
TZID:Europe/Vienna
BEGIN:DAYLIGHT
TZOFFSETFROM:+0100
TZOFFSETTO:+0200
TZNAME:CEST
DTSTART:20250330T010000
END:DAYLIGHT
BEGIN:STANDARD
TZOFFSETFROM:+0200
TZOFFSETTO:+0100
TZNAME:CET
DTSTART:20251026T010000
END:STANDARD
BEGIN:DAYLIGHT
TZOFFSETFROM:+0100
TZOFFSETTO:+0200
TZNAME:CEST
DTSTART:20260329T010000
END:DAYLIGHT
BEGIN:STANDARD
TZOFFSETFROM:+0200
TZOFFSETTO:+0100
TZNAME:CET
DTSTART:20261025T010000
END:STANDARD
BEGIN:DAYLIGHT
TZOFFSETFROM:+0100
TZOFFSETTO:+0200
TZNAME:CEST
DTSTART:20270328T010000
END:DAYLIGHT
BEGIN:STANDARD
TZOFFSETFROM:+0200
TZOFFSETTO:+0100
TZNAME:CET
DTSTART:20271031T010000
END:STANDARD
BEGIN:DAYLIGHT
TZOFFSETFROM:+0100
TZOFFSETTO:+0200
TZNAME:CEST
DTSTART:20280326T010000
END:DAYLIGHT
BEGIN:STANDARD
TZOFFSETFROM:+0200
TZOFFSETTO:+0100
TZNAME:CET
DTSTART:20281029T010000
END:STANDARD
END:VTIMEZONE
BEGIN:VEVENT
DTSTART;TZID=Europe/Vienna:20261105T170000
DTEND;TZID=Europe/Vienna:20261105T210000
DTSTAMP:20260420T140311
CREATED:20250903T145244Z
LAST-MODIFIED:20250903T145436Z
UID:10003363-1793898000-1793912400@do.lustenau.at
SUMMARY:YARD Jugendtreff
DESCRIPTION:Offener Treff für alle im Alter von 12 – 19 Jahren.\nWeitere Infos folgen…
URL:https://do.lustenau.at/veranstaltung/yard-jugendtreff/2026-11-05/
LOCATION:dô\, Dornbirner Straße 19\, Lustenau\, 6890\, Austria
CATEGORIES:JUGENDTREFF
ORGANIZER;CN="Offene Kinder- und Jugendarbeit Lustenau":MAILTO:ok-ja@lustenau.at
END:VEVENT
BEGIN:VEVENT
DTSTART;TZID=Europe/Vienna:20261106T170000
DTEND;TZID=Europe/Vienna:20261106T210000
DTSTAMP:20260420T140311
CREATED:20250903T145244Z
LAST-MODIFIED:20250903T145436Z
UID:10003498-1793984400-1793998800@do.lustenau.at
SUMMARY:YARD Jugendtreff
DESCRIPTION:Offener Treff für alle im Alter von 12 – 19 Jahren.\nWeitere Infos folgen…
URL:https://do.lustenau.at/veranstaltung/yard-jugendtreff/2026-11-06/
LOCATION:dô\, Dornbirner Straße 19\, Lustenau\, 6890\, Austria
CATEGORIES:JUGENDTREFF
ORGANIZER;CN="Offene Kinder- und Jugendarbeit Lustenau":MAILTO:ok-ja@lustenau.at
END:VEVENT
BEGIN:VEVENT
DTSTART;TZID=Europe/Vienna:20261107T170000
DTEND;TZID=Europe/Vienna:20261107T210000
DTSTAMP:20260420T140311
CREATED:20250903T145244Z
LAST-MODIFIED:20250903T145436Z
UID:10003499-1794070800-1794085200@do.lustenau.at
SUMMARY:YARD Jugendtreff
DESCRIPTION:Offener Treff für alle im Alter von 12 – 19 Jahren.\nWeitere Infos folgen…
URL:https://do.lustenau.at/veranstaltung/yard-jugendtreff/2026-11-07/
LOCATION:dô\, Dornbirner Straße 19\, Lustenau\, 6890\, Austria
CATEGORIES:JUGENDTREFF
ORGANIZER;CN="Offene Kinder- und Jugendarbeit Lustenau":MAILTO:ok-ja@lustenau.at
END:VEVENT
BEGIN:VEVENT
DTSTART;TZID=Europe/Vienna:20261112T170000
DTEND;TZID=Europe/Vienna:20261112T210000
DTSTAMP:20260420T140311
CREATED:20250903T145244Z
LAST-MODIFIED:20250903T145436Z
UID:10003364-1794502800-1794517200@do.lustenau.at
SUMMARY:YARD Jugendtreff
DESCRIPTION:Offener Treff für alle im Alter von 12 – 19 Jahren.\nWeitere Infos folgen…
URL:https://do.lustenau.at/veranstaltung/yard-jugendtreff/2026-11-12/
LOCATION:dô\, Dornbirner Straße 19\, Lustenau\, 6890\, Austria
CATEGORIES:JUGENDTREFF
ORGANIZER;CN="Offene Kinder- und Jugendarbeit Lustenau":MAILTO:ok-ja@lustenau.at
END:VEVENT
BEGIN:VEVENT
DTSTART;TZID=Europe/Vienna:20261113T170000
DTEND;TZID=Europe/Vienna:20261113T210000
DTSTAMP:20260420T140311
CREATED:20250903T145244Z
LAST-MODIFIED:20250903T145436Z
UID:10003500-1794589200-1794603600@do.lustenau.at
SUMMARY:YARD Jugendtreff
DESCRIPTION:Offener Treff für alle im Alter von 12 – 19 Jahren.\nWeitere Infos folgen…
URL:https://do.lustenau.at/veranstaltung/yard-jugendtreff/2026-11-13/
LOCATION:dô\, Dornbirner Straße 19\, Lustenau\, 6890\, Austria
CATEGORIES:JUGENDTREFF
ORGANIZER;CN="Offene Kinder- und Jugendarbeit Lustenau":MAILTO:ok-ja@lustenau.at
END:VEVENT
BEGIN:VEVENT
DTSTART;TZID=Europe/Vienna:20261114T170000
DTEND;TZID=Europe/Vienna:20261114T210000
DTSTAMP:20260420T140311
CREATED:20250903T145244Z
LAST-MODIFIED:20250903T145436Z
UID:10003501-1794675600-1794690000@do.lustenau.at
SUMMARY:YARD Jugendtreff
DESCRIPTION:Offener Treff für alle im Alter von 12 – 19 Jahren.\nWeitere Infos folgen…
URL:https://do.lustenau.at/veranstaltung/yard-jugendtreff/2026-11-14/
LOCATION:dô\, Dornbirner Straße 19\, Lustenau\, 6890\, Austria
CATEGORIES:JUGENDTREFF
ORGANIZER;CN="Offene Kinder- und Jugendarbeit Lustenau":MAILTO:ok-ja@lustenau.at
END:VEVENT
BEGIN:VEVENT
DTSTART;TZID=Europe/Vienna:20261119T170000
DTEND;TZID=Europe/Vienna:20261119T210000
DTSTAMP:20260420T140311
CREATED:20250903T145244Z
LAST-MODIFIED:20250903T145436Z
UID:10003365-1795107600-1795122000@do.lustenau.at
SUMMARY:YARD Jugendtreff
DESCRIPTION:Offener Treff für alle im Alter von 12 – 19 Jahren.\nWeitere Infos folgen…
URL:https://do.lustenau.at/veranstaltung/yard-jugendtreff/2026-11-19/
LOCATION:dô\, Dornbirner Straße 19\, Lustenau\, 6890\, Austria
CATEGORIES:JUGENDTREFF
ORGANIZER;CN="Offene Kinder- und Jugendarbeit Lustenau":MAILTO:ok-ja@lustenau.at
END:VEVENT
BEGIN:VEVENT
DTSTART;TZID=Europe/Vienna:20261120T170000
DTEND;TZID=Europe/Vienna:20261120T210000
DTSTAMP:20260420T140311
CREATED:20250903T145244Z
LAST-MODIFIED:20250903T145436Z
UID:10003502-1795194000-1795208400@do.lustenau.at
SUMMARY:YARD Jugendtreff
DESCRIPTION:Offener Treff für alle im Alter von 12 – 19 Jahren.\nWeitere Infos folgen…
URL:https://do.lustenau.at/veranstaltung/yard-jugendtreff/2026-11-20/
LOCATION:dô\, Dornbirner Straße 19\, Lustenau\, 6890\, Austria
CATEGORIES:JUGENDTREFF
ORGANIZER;CN="Offene Kinder- und Jugendarbeit Lustenau":MAILTO:ok-ja@lustenau.at
END:VEVENT
BEGIN:VEVENT
DTSTART;TZID=Europe/Vienna:20261121T170000
DTEND;TZID=Europe/Vienna:20261121T210000
DTSTAMP:20260420T140311
CREATED:20250903T145244Z
LAST-MODIFIED:20250903T145436Z
UID:10003503-1795280400-1795294800@do.lustenau.at
SUMMARY:YARD Jugendtreff
DESCRIPTION:Offener Treff für alle im Alter von 12 – 19 Jahren.\nWeitere Infos folgen…
URL:https://do.lustenau.at/veranstaltung/yard-jugendtreff/2026-11-21/
LOCATION:dô\, Dornbirner Straße 19\, Lustenau\, 6890\, Austria
CATEGORIES:JUGENDTREFF
ORGANIZER;CN="Offene Kinder- und Jugendarbeit Lustenau":MAILTO:ok-ja@lustenau.at
END:VEVENT
BEGIN:VEVENT
DTSTART;TZID=Europe/Vienna:20261126T170000
DTEND;TZID=Europe/Vienna:20261126T210000
DTSTAMP:20260420T140311
CREATED:20250903T145244Z
LAST-MODIFIED:20250903T145436Z
UID:10003366-1795712400-1795726800@do.lustenau.at
SUMMARY:YARD Jugendtreff
DESCRIPTION:Offener Treff für alle im Alter von 12 – 19 Jahren.\nWeitere Infos folgen…
URL:https://do.lustenau.at/veranstaltung/yard-jugendtreff/2026-11-26/
LOCATION:dô\, Dornbirner Straße 19\, Lustenau\, 6890\, Austria
CATEGORIES:JUGENDTREFF
ORGANIZER;CN="Offene Kinder- und Jugendarbeit Lustenau":MAILTO:ok-ja@lustenau.at
END:VEVENT
BEGIN:VEVENT
DTSTART;TZID=Europe/Vienna:20261127T170000
DTEND;TZID=Europe/Vienna:20261127T210000
DTSTAMP:20260420T140311
CREATED:20250903T145244Z
LAST-MODIFIED:20250903T145436Z
UID:10003504-1795798800-1795813200@do.lustenau.at
SUMMARY:YARD Jugendtreff
DESCRIPTION:Offener Treff für alle im Alter von 12 – 19 Jahren.\nWeitere Infos folgen…
URL:https://do.lustenau.at/veranstaltung/yard-jugendtreff/2026-11-27/
LOCATION:dô\, Dornbirner Straße 19\, Lustenau\, 6890\, Austria
CATEGORIES:JUGENDTREFF
ORGANIZER;CN="Offene Kinder- und Jugendarbeit Lustenau":MAILTO:ok-ja@lustenau.at
END:VEVENT
BEGIN:VEVENT
DTSTART;TZID=Europe/Vienna:20261128T170000
DTEND;TZID=Europe/Vienna:20261128T210000
DTSTAMP:20260420T140311
CREATED:20250903T145244Z
LAST-MODIFIED:20250903T145436Z
UID:10003505-1795885200-1795899600@do.lustenau.at
SUMMARY:YARD Jugendtreff
DESCRIPTION:Offener Treff für alle im Alter von 12 – 19 Jahren.\nWeitere Infos folgen…
URL:https://do.lustenau.at/veranstaltung/yard-jugendtreff/2026-11-28/
LOCATION:dô\, Dornbirner Straße 19\, Lustenau\, 6890\, Austria
CATEGORIES:JUGENDTREFF
ORGANIZER;CN="Offene Kinder- und Jugendarbeit Lustenau":MAILTO:ok-ja@lustenau.at
END:VEVENT
BEGIN:VEVENT
DTSTART;TZID=Europe/Vienna:20261203T170000
DTEND;TZID=Europe/Vienna:20261203T210000
DTSTAMP:20260420T140311
CREATED:20250903T145244Z
LAST-MODIFIED:20250903T145436Z
UID:10003367-1796317200-1796331600@do.lustenau.at
SUMMARY:YARD Jugendtreff
DESCRIPTION:Offener Treff für alle im Alter von 12 – 19 Jahren.\nWeitere Infos folgen…
URL:https://do.lustenau.at/veranstaltung/yard-jugendtreff/2026-12-03/
LOCATION:dô\, Dornbirner Straße 19\, Lustenau\, 6890\, Austria
CATEGORIES:JUGENDTREFF
ORGANIZER;CN="Offene Kinder- und Jugendarbeit Lustenau":MAILTO:ok-ja@lustenau.at
END:VEVENT
BEGIN:VEVENT
DTSTART;TZID=Europe/Vienna:20261204T170000
DTEND;TZID=Europe/Vienna:20261204T210000
DTSTAMP:20260420T140311
CREATED:20250903T145244Z
LAST-MODIFIED:20250903T145436Z
UID:10003506-1796403600-1796418000@do.lustenau.at
SUMMARY:YARD Jugendtreff
DESCRIPTION:Offener Treff für alle im Alter von 12 – 19 Jahren.\nWeitere Infos folgen…
URL:https://do.lustenau.at/veranstaltung/yard-jugendtreff/2026-12-04/
LOCATION:dô\, Dornbirner Straße 19\, Lustenau\, 6890\, Austria
CATEGORIES:JUGENDTREFF
ORGANIZER;CN="Offene Kinder- und Jugendarbeit Lustenau":MAILTO:ok-ja@lustenau.at
END:VEVENT
BEGIN:VEVENT
DTSTART;TZID=Europe/Vienna:20261205T170000
DTEND;TZID=Europe/Vienna:20261205T210000
DTSTAMP:20260420T140311
CREATED:20250903T145244Z
LAST-MODIFIED:20250903T145436Z
UID:10003507-1796490000-1796504400@do.lustenau.at
SUMMARY:YARD Jugendtreff
DESCRIPTION:Offener Treff für alle im Alter von 12 – 19 Jahren.\nWeitere Infos folgen…
URL:https://do.lustenau.at/veranstaltung/yard-jugendtreff/2026-12-05/
LOCATION:dô\, Dornbirner Straße 19\, Lustenau\, 6890\, Austria
CATEGORIES:JUGENDTREFF
ORGANIZER;CN="Offene Kinder- und Jugendarbeit Lustenau":MAILTO:ok-ja@lustenau.at
END:VEVENT
BEGIN:VEVENT
DTSTART;TZID=Europe/Vienna:20261210T170000
DTEND;TZID=Europe/Vienna:20261210T210000
DTSTAMP:20260420T140311
CREATED:20250903T145244Z
LAST-MODIFIED:20250903T145436Z
UID:10003368-1796922000-1796936400@do.lustenau.at
SUMMARY:YARD Jugendtreff
DESCRIPTION:Offener Treff für alle im Alter von 12 – 19 Jahren.\nWeitere Infos folgen…
URL:https://do.lustenau.at/veranstaltung/yard-jugendtreff/2026-12-10/
LOCATION:dô\, Dornbirner Straße 19\, Lustenau\, 6890\, Austria
CATEGORIES:JUGENDTREFF
ORGANIZER;CN="Offene Kinder- und Jugendarbeit Lustenau":MAILTO:ok-ja@lustenau.at
END:VEVENT
BEGIN:VEVENT
DTSTART;TZID=Europe/Vienna:20261211T170000
DTEND;TZID=Europe/Vienna:20261211T210000
DTSTAMP:20260420T140311
CREATED:20250903T145244Z
LAST-MODIFIED:20250903T145436Z
UID:10003508-1797008400-1797022800@do.lustenau.at
SUMMARY:YARD Jugendtreff
DESCRIPTION:Offener Treff für alle im Alter von 12 – 19 Jahren.\nWeitere Infos folgen…
URL:https://do.lustenau.at/veranstaltung/yard-jugendtreff/2026-12-11/
LOCATION:dô\, Dornbirner Straße 19\, Lustenau\, 6890\, Austria
CATEGORIES:JUGENDTREFF
ORGANIZER;CN="Offene Kinder- und Jugendarbeit Lustenau":MAILTO:ok-ja@lustenau.at
END:VEVENT
BEGIN:VEVENT
DTSTART;TZID=Europe/Vienna:20261212T170000
DTEND;TZID=Europe/Vienna:20261212T210000
DTSTAMP:20260420T140311
CREATED:20250903T145244Z
LAST-MODIFIED:20250903T145436Z
UID:10003509-1797094800-1797109200@do.lustenau.at
SUMMARY:YARD Jugendtreff
DESCRIPTION:Offener Treff für alle im Alter von 12 – 19 Jahren.\nWeitere Infos folgen…
URL:https://do.lustenau.at/veranstaltung/yard-jugendtreff/2026-12-12/
LOCATION:dô\, Dornbirner Straße 19\, Lustenau\, 6890\, Austria
CATEGORIES:JUGENDTREFF
ORGANIZER;CN="Offene Kinder- und Jugendarbeit Lustenau":MAILTO:ok-ja@lustenau.at
END:VEVENT
BEGIN:VEVENT
DTSTART;TZID=Europe/Vienna:20261217T170000
DTEND;TZID=Europe/Vienna:20261217T210000
DTSTAMP:20260420T140311
CREATED:20250903T145244Z
LAST-MODIFIED:20250903T145436Z
UID:10003369-1797526800-1797541200@do.lustenau.at
SUMMARY:YARD Jugendtreff
DESCRIPTION:Offener Treff für alle im Alter von 12 – 19 Jahren.\nWeitere Infos folgen…
URL:https://do.lustenau.at/veranstaltung/yard-jugendtreff/2026-12-17/
LOCATION:dô\, Dornbirner Straße 19\, Lustenau\, 6890\, Austria
CATEGORIES:JUGENDTREFF
ORGANIZER;CN="Offene Kinder- und Jugendarbeit Lustenau":MAILTO:ok-ja@lustenau.at
END:VEVENT
BEGIN:VEVENT
DTSTART;TZID=Europe/Vienna:20261218T170000
DTEND;TZID=Europe/Vienna:20261218T210000
DTSTAMP:20260420T140311
CREATED:20250903T145244Z
LAST-MODIFIED:20250903T145436Z
UID:10003510-1797613200-1797627600@do.lustenau.at
SUMMARY:YARD Jugendtreff
DESCRIPTION:Offener Treff für alle im Alter von 12 – 19 Jahren.\nWeitere Infos folgen…
URL:https://do.lustenau.at/veranstaltung/yard-jugendtreff/2026-12-18/
LOCATION:dô\, Dornbirner Straße 19\, Lustenau\, 6890\, Austria
CATEGORIES:JUGENDTREFF
ORGANIZER;CN="Offene Kinder- und Jugendarbeit Lustenau":MAILTO:ok-ja@lustenau.at
END:VEVENT
BEGIN:VEVENT
DTSTART;TZID=Europe/Vienna:20261219T170000
DTEND;TZID=Europe/Vienna:20261219T210000
DTSTAMP:20260420T140311
CREATED:20250903T145244Z
LAST-MODIFIED:20250903T145436Z
UID:10003511-1797699600-1797714000@do.lustenau.at
SUMMARY:YARD Jugendtreff
DESCRIPTION:Offener Treff für alle im Alter von 12 – 19 Jahren.\nWeitere Infos folgen…
URL:https://do.lustenau.at/veranstaltung/yard-jugendtreff/2026-12-19/
LOCATION:dô\, Dornbirner Straße 19\, Lustenau\, 6890\, Austria
CATEGORIES:JUGENDTREFF
ORGANIZER;CN="Offene Kinder- und Jugendarbeit Lustenau":MAILTO:ok-ja@lustenau.at
END:VEVENT
BEGIN:VEVENT
DTSTART;TZID=Europe/Vienna:20261224T170000
DTEND;TZID=Europe/Vienna:20261224T210000
DTSTAMP:20260420T140311
CREATED:20250903T145244Z
LAST-MODIFIED:20250903T145436Z
UID:10003370-1798131600-1798146000@do.lustenau.at
SUMMARY:YARD Jugendtreff
DESCRIPTION:Offener Treff für alle im Alter von 12 – 19 Jahren.\nWeitere Infos folgen…
URL:https://do.lustenau.at/veranstaltung/yard-jugendtreff/2026-12-24/
LOCATION:dô\, Dornbirner Straße 19\, Lustenau\, 6890\, Austria
CATEGORIES:JUGENDTREFF
ORGANIZER;CN="Offene Kinder- und Jugendarbeit Lustenau":MAILTO:ok-ja@lustenau.at
END:VEVENT
BEGIN:VEVENT
DTSTART;TZID=Europe/Vienna:20261225T170000
DTEND;TZID=Europe/Vienna:20261225T210000
DTSTAMP:20260420T140311
CREATED:20250903T145244Z
LAST-MODIFIED:20250903T145436Z
UID:10003512-1798218000-1798232400@do.lustenau.at
SUMMARY:YARD Jugendtreff
DESCRIPTION:Offener Treff für alle im Alter von 12 – 19 Jahren.\nWeitere Infos folgen…
URL:https://do.lustenau.at/veranstaltung/yard-jugendtreff/2026-12-25/
LOCATION:dô\, Dornbirner Straße 19\, Lustenau\, 6890\, Austria
CATEGORIES:JUGENDTREFF
ORGANIZER;CN="Offene Kinder- und Jugendarbeit Lustenau":MAILTO:ok-ja@lustenau.at
END:VEVENT
BEGIN:VEVENT
DTSTART;TZID=Europe/Vienna:20261226T170000
DTEND;TZID=Europe/Vienna:20261226T210000
DTSTAMP:20260420T140311
CREATED:20250903T145244Z
LAST-MODIFIED:20250903T145436Z
UID:10003513-1798304400-1798318800@do.lustenau.at
SUMMARY:YARD Jugendtreff
DESCRIPTION:Offener Treff für alle im Alter von 12 – 19 Jahren.\nWeitere Infos folgen…
URL:https://do.lustenau.at/veranstaltung/yard-jugendtreff/2026-12-26/
LOCATION:dô\, Dornbirner Straße 19\, Lustenau\, 6890\, Austria
CATEGORIES:JUGENDTREFF
ORGANIZER;CN="Offene Kinder- und Jugendarbeit Lustenau":MAILTO:ok-ja@lustenau.at
END:VEVENT
BEGIN:VEVENT
DTSTART;TZID=Europe/Vienna:20261231T170000
DTEND;TZID=Europe/Vienna:20261231T210000
DTSTAMP:20260420T140311
CREATED:20250903T145244Z
LAST-MODIFIED:20250903T145436Z
UID:10003371-1798736400-1798750800@do.lustenau.at
SUMMARY:YARD Jugendtreff
DESCRIPTION:Offener Treff für alle im Alter von 12 – 19 Jahren.\nWeitere Infos folgen…
URL:https://do.lustenau.at/veranstaltung/yard-jugendtreff/2026-12-31/
LOCATION:dô\, Dornbirner Straße 19\, Lustenau\, 6890\, Austria
CATEGORIES:JUGENDTREFF
ORGANIZER;CN="Offene Kinder- und Jugendarbeit Lustenau":MAILTO:ok-ja@lustenau.at
END:VEVENT
BEGIN:VEVENT
DTSTART;TZID=Europe/Vienna:20270101T170000
DTEND;TZID=Europe/Vienna:20270101T210000
DTSTAMP:20260420T140311
CREATED:20250903T145244Z
LAST-MODIFIED:20250903T145436Z
UID:10003514-1798822800-1798837200@do.lustenau.at
SUMMARY:YARD Jugendtreff
DESCRIPTION:Offener Treff für alle im Alter von 12 – 19 Jahren.\nWeitere Infos folgen…
URL:https://do.lustenau.at/veranstaltung/yard-jugendtreff/2027-01-01/
LOCATION:dô\, Dornbirner Straße 19\, Lustenau\, 6890\, Austria
CATEGORIES:JUGENDTREFF
ORGANIZER;CN="Offene Kinder- und Jugendarbeit Lustenau":MAILTO:ok-ja@lustenau.at
END:VEVENT
BEGIN:VEVENT
DTSTART;TZID=Europe/Vienna:20270102T170000
DTEND;TZID=Europe/Vienna:20270102T210000
DTSTAMP:20260420T140311
CREATED:20250903T145244Z
LAST-MODIFIED:20250903T145436Z
UID:10003515-1798909200-1798923600@do.lustenau.at
SUMMARY:YARD Jugendtreff
DESCRIPTION:Offener Treff für alle im Alter von 12 – 19 Jahren.\nWeitere Infos folgen…
URL:https://do.lustenau.at/veranstaltung/yard-jugendtreff/2027-01-02/
LOCATION:dô\, Dornbirner Straße 19\, Lustenau\, 6890\, Austria
CATEGORIES:JUGENDTREFF
ORGANIZER;CN="Offene Kinder- und Jugendarbeit Lustenau":MAILTO:ok-ja@lustenau.at
END:VEVENT
BEGIN:VEVENT
DTSTART;TZID=Europe/Vienna:20270107T170000
DTEND;TZID=Europe/Vienna:20270107T210000
DTSTAMP:20260420T140311
CREATED:20250903T145244Z
LAST-MODIFIED:20250903T145436Z
UID:10003372-1799341200-1799355600@do.lustenau.at
SUMMARY:YARD Jugendtreff
DESCRIPTION:Offener Treff für alle im Alter von 12 – 19 Jahren.\nWeitere Infos folgen…
URL:https://do.lustenau.at/veranstaltung/yard-jugendtreff/2027-01-07/
LOCATION:dô\, Dornbirner Straße 19\, Lustenau\, 6890\, Austria
CATEGORIES:JUGENDTREFF
ORGANIZER;CN="Offene Kinder- und Jugendarbeit Lustenau":MAILTO:ok-ja@lustenau.at
END:VEVENT
BEGIN:VEVENT
DTSTART;TZID=Europe/Vienna:20270108T170000
DTEND;TZID=Europe/Vienna:20270108T210000
DTSTAMP:20260420T140311
CREATED:20250903T145244Z
LAST-MODIFIED:20250903T145436Z
UID:10003516-1799427600-1799442000@do.lustenau.at
SUMMARY:YARD Jugendtreff
DESCRIPTION:Offener Treff für alle im Alter von 12 – 19 Jahren.\nWeitere Infos folgen…
URL:https://do.lustenau.at/veranstaltung/yard-jugendtreff/2027-01-08/
LOCATION:dô\, Dornbirner Straße 19\, Lustenau\, 6890\, Austria
CATEGORIES:JUGENDTREFF
ORGANIZER;CN="Offene Kinder- und Jugendarbeit Lustenau":MAILTO:ok-ja@lustenau.at
END:VEVENT
BEGIN:VEVENT
DTSTART;TZID=Europe/Vienna:20270109T170000
DTEND;TZID=Europe/Vienna:20270109T210000
DTSTAMP:20260420T140311
CREATED:20250903T145244Z
LAST-MODIFIED:20250903T145436Z
UID:10003517-1799514000-1799528400@do.lustenau.at
SUMMARY:YARD Jugendtreff
DESCRIPTION:Offener Treff für alle im Alter von 12 – 19 Jahren.\nWeitere Infos folgen…
URL:https://do.lustenau.at/veranstaltung/yard-jugendtreff/2027-01-09/
LOCATION:dô\, Dornbirner Straße 19\, Lustenau\, 6890\, Austria
CATEGORIES:JUGENDTREFF
ORGANIZER;CN="Offene Kinder- und Jugendarbeit Lustenau":MAILTO:ok-ja@lustenau.at
END:VEVENT
END:VCALENDAR